Workbook

Sheet Personnel
A1: INSTRUCTIONS: For each employee (not temp worker or consultant) on your grant / contract enter the
A2: information requested in each of the rows below. If your organization does not offer fringes, leave blank. For each line item, you
A3: must report how much of the amount for each employee will be allocated to your grant. This is required for state contracting purposes.
A5: ORGANIZATION NAME:
A7: SFY 2018 Community Health Grant: REQUIRED STAFFING TEMPLATE
B9: Employee 1 | C9: Employee 2 | D9: Employee 3 | E9: Employee 4 | F9: Employee 5 | G9: Employee 6 | H9: Employee 7 | I9: Employee 8 | J9: Employee 9 | K9: Employee 10 | L9: Total
A10: Employee Name
A11: Position Type | B11: Define | C11: Define | D11: Define | E11: Define | F11: Define | G11: Define | H11: Define | I11: Define | J11: Define | K11: Define
A12: FTE | L12: =B12+C12+D12+E12+F12+G12+H12+I12+J12+K12 -> 0
A13: Average number of hours allocated to grant per week
A15: Annual Salary | L15: =B15+C15+D15+E15+F15+G15+H15+I15+J15+K15 -> 0
A16: Allocated to Grant | L16: =B16+C16+D16+E16+F16+G16+H16+I16+J16+K16 -> 0
A18: Total Fringe Benefits | L18: =B18+C18+D18+E18+F18+G18+H18+I18+J18+K18 -> 0
A19: Allocated to Grant | L19: =B19+C19+D19+E19+F19+G19+H19+I19+J19+K19 -> 0

Sheet Line Item Budget
A1: ORGANIZATION NAME
A3: SFY 2018 Community Health Grant
A4: REQUIRED BUDGET TEMPLATE
A5: Budget Time Period: July 1, 2017 to June 30, 2018
C7: Column A | D7: Column B | E7: Column C
C8: Community Health Grant | D8: Other | E8: Total
A9: PROJECT REVENUE (add additional rows as needed)
A10: Grant Request | C10: 1000 | E10: =C10 -> 1000
A13: Other Revenue
A14: Patient fees | E14: =D14 -> 0
A15: Insurance receipts (Medicare, Medicaid, etc.) | E15: =D15 -> 0
A16: Other grant (define) | E16: =D16 -> 0
A17: Other grant (define) | E17: =D17 -> 0
A18: Other revenue (define) | E18: =D18 -> 0
A19: Other revenue (define) | E19: =D19 -> 0
A21: Total Revenue | C21: =C10+C11 -> 1000 | D21: =SUM(D14:D19) -> 0 | E21: =C21+D21 -> 1000
A23: PROJECT EXPENSES - Use the Budget Narrative tab to describe these expenses.
A24: Staffing
A25: Employee Salaries & Fringes | B25: FTE
A26: Salaries (from TAB 1 Personnel) | B26: =Personnel!L12 -> 0 | C26: =Personnel!L16 -> 0 | D26: 0 | E26: =C26+D26 -> 0
A27: Fringes (from TAB 1 Personnel | C27: =Personnel!L19 -> 0 | D27: 0 | E27: =C27+D27 -> 0
A29: Contracted Staff | B29: Hours per Month
A30: Contractor 1 (define) | E30: =C30+D30 -> 0
A31: Contractor 2 (define) | E31: =C31+D31 -> 0
A32: Contractor 3 (define) | E32: =C32+D32 -> 0
A33: Contractor 4 (define) | E33: =C33+D33 -> 0
A34: Contractor 5 (define) | E34: =C34+D34 -> 0
A35: Contractor 6 (define) | E35: =C35+D35 -> 0
A37: Facility Expense - Use the Budget Narrative tab to describe these expenses.
A38: Rent | E38: =C38+D38 -> 0
A39: Utilities | E39: =C39+D39 -> 0
A40: Telephone / Internet | E40: =C40+D40 -> 0
A41: Security | E41: =C41+D41 -> 0
A42: Repair & Maintenance | E42: =C42+D42 -> 0
A43: Other (define) | E43: =C43+D43 -> 0
A44: Other (define) | E44: =C44+D44 -> 0
A45: Other (define) | E45: =C45+D45 -> 0
A46: Other (define) | E46: =C46+D46 -> 0
A48: General Supplies (NOT capital items)
A49: Medical Supplies | E49: =C49+D49 -> 0
...

Sheet Budget Narrative

Sheet SalaryDetail
A1: Contract #
A2: Contractor
A3: Human Resource Details of Grant Financial Report for 09/01/2017 - 06/30/2018
B5: Approved Budget | C5: July | D5: Adjustment | E5: August | F5: Adjustment | G5: September | H5: Adjustment | I5: October | J5: Adjustment | K5: November | L5: Adjustment | M5: December | N5: Adjustment | O5: January | P5: Adjustment | Q5: February | R5: Adjustment | S5: March | T5: Adjustment | U5: April | V5: Adjustment | W5: May | X5: Adjustment | Y5: June | Z5: Adjustment | AA5: Year-to-Date | AB5: Funds Remaining
A6: Position Type
A7: =Personnel!B11 -> Define | B7: =Personnel!B16 -> 0 | AA7: =SUM(C7:Y7) -> 0 | AB7: =B7-AA7 -> 0
A8: =Personnel!C11 -> Define | B8: =Personnel!C16 -> 0 | AA8: =SUM(C8:Y8) -> 0 | AB8: =B8-AA8 -> 0
A9: =Personnel!D11 -> Define | B9: =Personnel!D16 -> 0 | AA9: =SUM(C9:Y9) -> 0 | AB9: =B9-AA9 -> 0
A10: =Personnel!E11 -> Define | B10: =Personnel!E16 -> 0 | AA10: =SUM(C10:Y10) -> 0 | AB10: =B10-AA10 -> 0
A11: =Personnel!F11 -> Define | B11: =Personnel!F16 -> 0 | AA11: =SUM(C11:Y11) -> 0 | AB11: =B11-AA11 -> 0
A12: =Personnel!G11 -> Define | B12: =Personnel!G16 -> 0 | AA12: =SUM(C12:Y12) -> 0 | AB12: =B12-AA12 -> 0
A13: =Personnel!H11 -> Define | B13: =Personnel!H16 -> 0 | AA13: =SUM(C13:Y13) -> 0 | AB13: =B13-AA13 -> 0
A14: =Personnel!I11 -> Define | B14: =Personnel!I16 -> 0 | AA14: =SUM(C14:Y14) -> 0 | AB14: =B14-AA14 -> 0
A15: Define | B15: =Personnel!J16 -> 0 | AA15: =SUM(C15:Y15) -> 0 | AB15: =B15-AA15 -> 0
A16: Define | B16: =Personnel!K16 -> 0 | AA16: =SUM(C16:Y16) -> 0 | AB16: =B16-AA16 -> 0
A17: Total Salaries | B17: =SUM(B7:B16) -> 0 | C17: =SUM(C7:C16) -> 0 | D17: =SUM(D7:D16) -> 0 | E17: =SUM(E7:E16) -> 0 | F17: =SUM(F7:F16) -> 0 | G17: =SUM(G7:G16) -> 0 | H17: =SUM(H7:H16) -> 0 | I17: =SUM(I7:I16) -> 0 | ... Z17: =SUM(Z7:Z16) -> 0 | AA17: =SUM(AA7:AA14) -> 0 | AB17: =SUM(AB7:AB14) -> 0
A19: Fringe Benefits
A20: =Personnel!B11 -> Define | B20: =Personnel!B19 -> 0 | AA20: =SUM(C20:Y20) -> 0 | AB20: =B20-AA20 -> 0
A21: =Personnel!C11 -> Define | B21: =Personnel!C19 -> 0 | AA21: =SUM(C21:Y21) -> 0 | AB21: =B21-AA21 -> 0
A22: =Personnel!D11 -> Define | B22: =Personnel!D19 -> 0 | AA22: =SUM(C22:Y22) -> 0 | AB22: =B22-AA22 -> 0
A23: =Personnel!E11 -> Define | B23: =Personnel!E19 -> 0 | AA23: =SUM(C23:Y23) -> 0 | AB23: =B23-AA23 -> 0
A24: =Personnel!F11 -> Define | B24: =Personnel!F19 -> 0 | AA24: =SUM(C24:Y24) -> 0 | AB24: =B24-AA24 -> 0
A25: =Personnel!G11 -> Define | B25: =Personnel!G19 -> 0 | AA25: =SUM(C25:Y25) -> 0 | AB25: =B25-AA25 -> 0
A26: =Personnel!H11 -> Define | B26: =Personnel!H19 -> 0 | AA26: =SUM(C26:Y26) -> 0 | AB26: =B26-AA26 -> 0
A27: =Personnel!I11 -> Define | B27: =Personnel!I19 -> 0 | AA27: =SUM(C27:Y27) -> 0 | AB27: =B27-AA27 -> 0
A28: =Personnel!J11 -> Define | B28: =Personnel!J19 -> 0 | AA28: =SUM(C28:Y28) -> 0 | AB28: =B28-AA28 -> 0
A29: =Personnel!K11 -> Define | B29: =Personnel!K19 -> 0 | AA29: =SUM(C29:Y29) -> 0 | AB29: =B29-AA29 -> 0
A30: Total Benefits | B30: =SUM(B20:B29) -> 0 | C30: =SUM(C20:C29) -> 0 | D30: =SUM(D20:D29) -> 0 | E30: =SUM(E20:E29) -> 0 | F30: =SUM(F20:F29) -> 0 | G30: =SUM(G20:G29) -> 0 | H30: =SUM(H20:H29) -> 0 | I30: =SUM(I20:I29) -> 0 | ... AB30: =SUM(AB20:AB29) -> 0

Sheet Monthly Expense Report
A1: Office of Rural Health
A2: SFY 2028 Year _ Community Health Grant 07/01/2027 - 06/30/2028
A3: Monthly Expense Report
A5: Contract #: | J5: Contact Name: | V5: I hereby attest that I have regularly reviewed the SOFL on a weekly basis, and I confirm that this contractor is in good standing. Additionally, I have examined and approved the Monthly Expense Report (MER), affirming that it is prepared for further processing.
A6: Contractor: | J6: Contact Number and Email:
B8: Grant Amount
T9: ORH Monitor Initials/Date:
A11: Encounters | B11: July | C11: Adjustment | D11: August | E11: Adjustment | F11: September | G11: Adjustment | H11: October | I11: Adjustment | J11: November | K11: Adjustment | L11: December | M11: Adjustment | N11: January | O11: Adjustment | P11: February | Q11: Adjustment | R11: March | S11: Adjustment | T11: April | U11: Adjustment | V11: May | W11: Adjustment | X11: June | Y11: Adjustment | Z11: Year-to-Date
A13: Total Number of Face-to-Face Patient Encounters for Program(s) | Z13: =SUM(B13:X13) -> 0
A14: Number of Face-To-Face PCA (Eligible Encounters) | Z14: =SUM(B14:X14) -> 0
AA15: Funds Remaining | AB15: Utilization Rate
A16: $100 per eligible PCA encounter | B16: =B14*100 -> 0 | D16: =D14*100 -> 0 | F16: =F14*100 -> 0 | H16: =H14*100 -> 0 | J16: =J14*100 -> 0 | L16: =L14*100 -> 0 | N16: =N14*100 -> 0 | P16: =P14*100 -> 0 | R16: =R14*100 -> 0 | T16: =T14*100 -> 0 | V16: =V14*100 -> 0 | X16: =X14*100 -> 0 | Z16: =SUM(B16:X16) -> 0 | AA16: =D8-Z16 -> 0 | AB16: =Z16/D8 -> #DIV/0!
A19: Reimbursement Amount | B19: =IF(AA16>-1,B16,"Inadequate funds") -> 0 | D19: =IF(AA16>-1,D16,"Inadequate funds") -> 0 | F19: =IF(AA16>-1,F16,"Inadequate funds") -> 0 | H19: =IF(AA16>-1,H16,"Inadequate funds") -> 0 | J19: =IF(AA16>-1,J16,"Inadequate funds") -> 0 | L19: =IF(AA16>-1,L16,"Inadequate funds") -> 0 | N19: =IF(AA16>-1,N16,"Inadequate funds") -> 0 | P19: =IF(AA16>-1,P16,"Inadequate funds") -> 0 | R19: =IF(AA16>-1,R16,"Inadequate funds") -> 0 | T19: =IF(AA16>-1,T16,"Inadequate funds") -> 0 | V19: =IF(AA16>-1,V16,"Inadequate funds") -> 0 | X19: =IF(AA16>-1,X16,"Inadequate funds") -> 0 | Z19: =Z16 -> 0 | AA19: =AA16 -> 0 | AB19: =AB16 -> #DIV/0!
A20: I hereby certify that the expenditures on this report were incurred according to the provisions of the project agreement and are accurate and complete. I further certify that to the best of my knowledge and belief we have complied with all laws, regulations, and contractual provisions that are conditions under this contract. | R20: Date | T20: Notes
A22: Prepared by (print):
A23: Authorized by (print):
A24: Authorized Signatory (sign): | G24: Date: | J24: Date:
