Workbook
Name \z: #REF!
Name \z: #REF!
Name _1: #REF!
Name _1: #REF!
Name _10: #REF!
Name _10: #REF!
Name _11: #REF!
Name _11: #REF!
Name _12: #REF!
Name _12: #REF!
Name _2: #REF!
Name _2: #REF!
Name _3: #REF!
Name _3: #REF!
Name _4: #REF!
Name _4: #REF!
Name _5: #REF!
Name _5: #REF!
Name _6: #REF!
Name _6: #REF!
Name _7: #REF!
Name _7: #REF!
Name _8: #REF!
Name _8: #REF!
Name _9: #REF!
Name _9: #REF!
Name Staffing: #REF!
Name Staffing: #REF!
Name SUMMARY: #REF!
Name SUMMARY: #REF!

Sheet 5 Factor Report
A1: 5 Factor Report SFY2027 09/2026 | E1: as of Aug 2026 | F1: Tot Collections Per All Staff | G1: Collection Rate | H1: Cases Under Order | I1: Paternity Establishment | J1: Payment to Arrears | K1: Cost Effectiveness SFY2026 1st Quarter 09.30.2026 | L1: Cost Effectiveness FFY2026 4th Quarter 09.30.2026
A2: County | B2: Region | C2: Caseload | D2: Cases/Agt | E2: Unadj Unempl % | F2: $ | G2: % | H2: % | I2: % | J2: % | K2: Updated Quarterly | L2: Updated Annually
A3: ALAMANCE | B3: 3 | C3: 4954 | D3: 381.07692 | E3: 0.038 | F3: 120815.77 | G3: 0.67174415 | H3: 0.87363746 | I3: 0.86926361 | J3: 0.47992081 | K3: 5.836854 | L3: 4.7889666
A4: ALEXANDER | B4: 2 | C4: 869 | D4: 248.28571 | E4: 0.034 | F4: 80762.971 | G4: 0.67737583 | H4: 0.90218642 | I4: 0.95348837 | J4: 0.46598639 | K4: 2.7412893 | L4: 2.838164
A5: ALLEGHANY | B5: 2 | C5: 296 | D5: 296 | E5: 0.035 | F5: 124603.88 | G5: 0.62175915 | H5: 0.90202703 | I5: 0.95431472 | J5: 0.4375 | K5: 4.7127928 | L5: 3.2940568
A6: ANSON | B6: 4 | C6: 1772 | D6: 472.53333 | E6: 0.045 | F6: 112233.42 | G6: 0.6063846 | H6: 0.94638826 | I6: 0.93853941 | J6: 0.42962357 | K6: 2.6736076 | L6: 2.9736651
A7: ASHE | B7: 2 | C7: 718 | D7: 239.33333 | E7: 0.029 | F7: 79644.224 | G7: 0.74257389 | H7: 0.93036212 | I7: 0.93192488 | J7: 0.52351738 | K7: 1.8576995 | L7: 2.0553933
A8: AVERY | B8: 2 | C8: 251 | D8: 251 | E8: 0.03 | F8: 69722.78 | G8: 0.72200638 | H8: 0.84063745 | I8: 0.95121951 | J8: 0.48387097 | K8: 4.0971634 | L8: 3.4939262
A9: BEAUFORT | B9: 7 | C9: 1715 | D9: 343 | E9: 0.035 | F9: 138951.02 | G9: 0.67822756 | H9: 0.95685131 | I9: 0.91648189 | J9: 0.47984791 | K9: 3.616621 | L9: 3.7484979
A10: BERTIE | B10: 7 | C10: 989 | D10: 329.66667 | E10: 0.046 | F10: 128675.33 | G10: 0.68915809 | H10: 0.96258847 | I10: 0.91964286 | J10: 0.5 | K10: 2.547718 | L10: 2.25637
A11: BLADEN | B11: 6 | C11: 1793 | D11: 358.6 | E11: 0.048 | F11: 122793.21 | G11: 0.63237122 | H11: 0.89682097 | I11: 0.89251297 | J11: 0.40115858 | K11: 2.6686352 | L11: 3.1476828
A12: BRUNSWICK | B12: 6 | C12: 2929 | D12: 300.41026 | E12: 0.039 | F12: 140117.76 | G12: 0.73333578 | H12: 0.90850119 | I12: 0.96116505 | J12: 0.49536501 | K12: 2.4221221 | L12: 2.5383338
A13: BUNCOMBE | B13: 1 | C13: 4652 | D13: 664.57143 | E13: 0.032 | F13: 167203.13 | G13: 0.70726751 | H13: 0.96023216 | I13: 0.95802696 | J13: 0.50987433 | K13: 4.0692482 | L13: 3.507459
A14: BURKE | B14: 2 | C14: 2201 | D14: 440.2 | E14: 0.034 | F14: 124802.75 | G14: 0.68647857 | H14: 0.83961836 | I14: 0.971875 | J14: 0.46040516 | K14: 4.3984153 | L14: 3.5582748
... A102: YANCEY | B102: 1 | C102: 311 | D102: 414.66667 | E102: 0.03 | F102: 186552.82 | G102: 0.7243222 | H102: 0.78135048 | I102: 0.97619048 | J102: 0.5443787 | K102: 6.7658893 | L102: 6.5144507
A103: STATEWIDE | C103: 289995 | D103: 337.93831 | E103: 0.036 | F103: 118690.11 | G103: 0.68131167 | H103: 0.87881515 | I103: 0.91226305 | J103: 0.47027154 | K103: SFY Cost Effectiveness is Calculated using County Expenditures Report and Collections by TANF Ind. This is just an estimate based on the information obtained in those reports. The actual FFY Cost Effectiveness is used in the calculation of Incentive Payments
E104: Not Seasonally Adjusted
A105: =SUBTOTAL(103,A3:A102) -> 100 | C105: =SUBTOTAL(109,C3:C101) -> 289673 | D105: =SUBTOTAL(101,D3:D101) -> 348.63001 | E105: =SUBTOTAL(101,E3:E101) -> 0.037050505
A106: Count | C106: Sum | D106: Avg | E106: Avg
A107: =SUBTOTAL(103,A3:A100) -> 98 | C107: =SUBTOTAL(109,C3:C100) -> 288785 | D107: =SUBTOTAL(101,D3:D100) -> 349.59854 | E107: =SUBTOTAL(101,E3:E100) -> 0.037102041

Sheet Agent Activity Report
A1: Agent Activity Report 09/2026 | C1: Staffing | E1: Open Cases | G1: Paternity Est | I1: Support Est | K1: Total Distributed Collections | N1: System Locates | R1: Manual Locates | V1: Paternity | Z1: Support Orders Established | AD1: Support Order Estab. Othr | AF1: Support Order Mod Comp | AH1: Support Order Mod Othr Comp | AJ1: Review Mods | AL1: Withholding | AN1: Enforcement Other | AR1: Enforcement Hearing
C2: Quarterly Staffing Report | E2: OCSE 157 | LINE 1 | G2: OCSE 157 | LINE 16 | I2: OCSE 157 | LINE 17 | K2: Incentive Goal Report | N2: ASR | R2: ASR | V2: ASR | Z2: ASR | AD2: ASR | AF2: ASR | AH2: ASR | AJ2: ASR | AL2: ASR | AN2: ASR | AR2: ASR
A3: Fips Name | B3: Region | C3: Unfrozen Agents | D3: Tot Unfroz Staff | E3: Open Cases | F3: Cases/Agt | G3: Pat Est | H3: Pat Est/Agt | I3: Orders | J3: Orders/Agt | K3: Tot Coll | L3: TotCollAgt | M3: TotColUnfozlStf | N3: Filed | O3: Filed/Agt | P3: Completed | Q3: Comp/Agt | R3: Filed | S3: Filed/Agt | T3: Completed | U3: Comp/Agt | V3: Filed | W3: Filed/Agt | X3: Completed | Y3: Comp/Agt | Z3: Filed | AA3: Filed/Agt | AB3: Completed | AC3: Comp/Agt | AD3: Completed | AE3: Comp/Agt | AF3: Completed | AG3: Comp/Agt | AH3: Completed | AI3: Comp/Agt | AJ3: Completed | AK3: Comp/Agt | AL3: Completed | AM3: Comp/Agt | AN3: Filed | AO3: Filed/Agt | AP3: Completed | AQ3: Comp/Agt | AR3: Completed | AS3: Comp/Agt
A4: ='Incentive Goal'!A3 -> ALAMANCE | B4: 3 | C4: 13 | D4: 22 | E4: 4954 | F4: 381.07692 | G4: 65 | H4: 0.2 | I4: 65 | J4: 0.2 | K4: 2657946.9 | L4: 204457.45 | M4: 120815.77 | N4: 25407 | O4: 1954.3846 | P4: 141 | Q4: 10.846154 | R4: 692 | S4: 53.230769 | T4: 18 | U4: 1.3846154 | V4: 39 | W4: 3 | X4: 67 | Y4: 5.1538462 | Z4: 126 | AA4: 9.6923077 | AB4: 59 | AC4: 4.5384615 | AD4: 574 | AE4: 44.153846 | AF4: 65 | AG4: 5 | AH4: 146 | AI4: 11.230769 | AJ4: 14 | AK4: 1.0769231 | AL4: 581 | AM4: 44.692308 | AN4: 471 | AO4: 36.230769 | AP4: 1251 | AQ4: 96.230769 | AR4: 189 | AS4: 14.538462
A5: ='Incentive Goal'!A4 -> ALEXANDER | B5: 2 | C5: 3.5 | D5: 4.75 | E5: 869 | F5: 248.28571 | G5: 21 | H5: 0.16666667 | I5: 14 | J5: 0.25 | K5: 383624.11 | L5: 109606.89 | M5: 80762.971 | N5: 6911 | O5: 1974.5714 | P5: 46 | Q5: 13.142857 | R5: 3433 | S5: 980.85714 | T5: 23 | U5: 6.5714286 | V5: 4 | W5: 1.1428571 | X5: 19 | Y5: 5.4285714 | Z5: 11 | AA5: 3.1428571 | AB5: 15 | AC5: 4.2857143 | AD5: 12 | AE5: 3.4285714 | AF5: 6 | AG5: 1.7142857 | AH5: 6 | AI5: 1.7142857 | AJ5: 1 | AK5: 0.28571429 | AL5: 131 | AM5: 37.428571 | AN5: 151 | AO5: 43.142857 | AP5: 955 | AQ5: 272.85714 | AR5: 18 | AS5: 5.1428571
A6: ='Incentive Goal'!A5 -> ALLEGHANY | B6: 2 | C6: 0 | D6: 1 | E6: 296 | F6: 296 | G6: 10 | H6: 0 | I6: 4 | J6: 0 | K6: 124603.88 | L6: #DIV/0! | M6: 124603.88 | N6: 1477 | P6: 4 | R6: 0 | T6: 0 | V6: 0 | X6: 10 | Z6: 1 | AB6: 2 | AD6: 0 | AF6: 0 | AH6: 12 | AJ6: 0 | AL6: 10 | AN6: 33 | AP6: 27 | AR6: 8
A7: ='Incentive Goal'!A6 -> ANSON | B7: 4 | C7: 3.75 | D7: 6 | E7: 1772 | F7: 472.53333 | G7: 27 | H7: 0.13888889 | I7: 18 | J7: 0.20833333 | K7: 673400.5 | L7: 179573.47 | M7: 112233.42 | N7: 12189 | O7: 3250.4 | P7: 71 | Q7: 18.933333 | R7: 128 | S7: 34.133333 | T7: 5 | U7: 1.3333333 | V7: 10 | W7: 2.6666667 | X7: 29 | Y7: 7.7333333 | Z7: 24 | AA7: 6.4 | AB7: 16 | AC7: 4.2666667 | AD7: 4 | AE7: 1.0666667 | AF7: 2 | AG7: 0.53333333 | AH7: 68 | AI7: 18.133333 | AJ7: 10 | AK7: 2.6666667 | AL7: 216 | AM7: 57.6 | AN7: 186 | AO7: 49.6 | AP7: 329 | AQ7: 87.733333 | AR7: 18 | AS7: 4.8
A8: ='Incentive Goal'!A7 -> ASHE | B8: 2 | C8: 3 | D8: 4.25 | E8: 718 | F8: 239.33333 | G8: 10 | H8: 0.3 | I8: 25 | J8: 0.12 | K8: 338487.95 | L8: 112829.32 | M8: 79644.224 | N8: 4016 | O8: 1338.6667 | P8: 44 | Q8: 14.666667 | R8: 24 | S8: 8 | T8: 0 | U8: 0 | V8: 0 | W8: 0 | X8: 10 | Y8: 3.3333333 | Z8: 27 | AA8: 9 | AB8: 26 | AC8: 8.6666667 | AD8: 12 | AE8: 4 | AF8: 7 | AG8: 2.3333333 | AH8: 24 | AI8: 8 | AJ8: 1 | AK8: 0.33333333 | AL8: 71 | AM8: 23.666667 | AN8: 234 | AO8: 78 | AP8: 126 | AQ8: 42 | AR8: 143 | AS8: 47.666667
A9: ='Incentive Goal'!A8 -> AVERY | B9: 2 | C9: 1 | D9: 2 | E9: 251 | F9: 251 | G9: 9 | H9: 0.11111111 | I9: 10 | J9: 0.1 | K9: 139445.56 | L9: 139445.56 | M9: 69722.78 | N9: 1384 | O9: 1384 | P9: 5 | Q9: 5 | R9: 23 | S9: 23 | T9: 1 | U9: 1 | V9: 0 | W9: 0 | X9: 10 | Y9: 10 | Z9: 5 | AA9: 5 | AB9: 10 | AC9: 10 | AD9: 0 | AE9: 0 | AF9: 2 | AG9: 2 | AH9: 6 | AI9: 6 | AJ9: 0 | AK9: 0 | AL9: 16 | AM9: 16 | AN9: 34 | AO9: 34 | AP9: 28 | AQ9: 28 | AR9: 12 | AS9: 12
A10: ='Incentive Goal'!A9 -> BEAUFORT | B10: 7 | C10: 5 | D10: 6 | E10: 1715 | F10: 343 | G10: 26 | H10: 0.19230769 | I10: 17 | J10: 0.29411765 | K10: 833706.15 | L10: 166741.23 | M10: 138951.02 | N10: 12091 | O10: 2418.2 | P10: 48 | Q10: 9.6 | R10: 337 | S10: 67.4 | T10: 5 | U10: 1 | V10: 17 | W10: 3.4 | X10: 37 | Y10: 7.4 | Z10: 28 | AA10: 5.6 | AB10: 23 | AC10: 4.6 | AD10: 0 | AE10: 0 | AF10: 26 | AG10: 5.2 | AH10: 55 | AI10: 11 | AJ10: 5 | AK10: 1 | AL10: 235 | AM10: 47 | AN10: 319 | AO10: 63.8 | AP10: 432 | AQ10: 86.4 | AR10: 275 | AS10: 55
A11: ='Incentive Goal'!A10 -> BERTIE | B11: 7 | C11: 3 | D11: 3.5 | E11: 989 | F11: 329.66667 | G11: 2 | H11: 1.5 | I11: 5 | J11: 0.6 | K11: 450363.67 | L11: 150121.22 | M11: 128675.33 | N11: 11474 | O11: 3824.6667 | P11: 48 | Q11: 16 | R11: 399 | S11: 133 | T11: 4 | U11: 1.3333333 | V11: 7 | W11: 2.3333333 | X11: 21 | Y11: 7 | Z11: 26 | AA11: 8.6666667 | AB11: 12 | AC11: 4 | AD11: 29 | AE11: 9.6666667 | AF11: 8 | AG11: 2.6666667 | AH11: 54 | AI11: 18 | AJ11: 0 | AK11: 0 | AL11: 165 | AM11: 55 | AN11: 126 | AO11: 42 | AP11: 199 | AQ11: 66.333333 | AR11: 6 | AS11: 2
A12: ='Incentive Goal'!A11 -> BLADEN | B12: 6 | C12: 5 | D12: 7 | E12: 1793 | F12: 358.6 | G12: 6 | H12: 0.83333333 | I12: 23 | J12: 0.2173913 | K12: 859552.45 | L12: 171910.49 | M12: 122793.21 | N12: 12139 | O12: 2427.8 | P12: 40 | Q12: 8 | R12: 325 | S12: 65 | T12: 6 | U12: 1.2 | V12: 9 | W12: 1.8 | X12: 6 | Y12: 1.2 | Z12: 29 | AA12: 5.8 | AB12: 22 | AC12: 4.4 | AD12: 1 | AE12: 0.2 | AF12: 15 | AG12: 3 | AH12: 53 | AI12: 10.6 | AJ12: 4 | AK12: 0.8 | AL12: 228 | AM12: 45.6 | AN12: 200 | AO12: 40 | AP12: 640 | AQ12: 128 | AR12: 28 | AS12: 5.6
A13: ='Incentive Goal'!A12 -> BRUNSWICK | B13: 6 | C13: 9.75 | D13: 12 | E13: 2929 | F13: 300.41026 | G13: 75 | H13: 0.13 | I13: 81 | J13: 0.12037037 | K13: 1681413.1 | L13: 172452.63 | M13: 140117.76 | N13: 16520 | O13: 1694.359 | P13: 123 | Q13: 12.615385 | R13: 331 | S13: 33.948718 | T13: 33 | U13: 3.3846154 | V13: 24 | W13: 2.4615385 | X13: 74 | Y13: 7.5897436 | Z13: 91 | AA13: 9.3333333 | AB13: 67 | AC13: 6.8717949 | AD13: 355 | AE13: 36.410256 | AF13: 10 | AG13: 1.025641 | AH13: 94 | AI13: 9.6410256 | AJ13: 10 | AK13: 1.025641 | AL13: 301 | AM13: 30.871795 | AN13: 227 | AO13: 23.282051 | AP13: 953 | AQ13: 97.74359 | AR13: 110 | AS13: 11.282051
A14: ='Incentive Goal'!A13 -> BUNCOMBE | B14: 1 | C14: 7 | D14: 14.5 | E14: 4652 | F14: 664.57143 | G14: 152 | H14: 0.046052632 | I14: 57 | J14: 0.12280702 | K14: 2424445.4 | L14: 346349.35 | M14: 167203.13 | N14: 30982 | O14: 4426 | P14: 262 | Q14: 37.428571 | R14: 347 | S14: 49.571429 | T14: 22 | U14: 3.1428571 | V14: 9 | W14: 1.2857143 | X14: 158 | Y14: 22.571429 | Z14: 73 | AA14: 10.428571 | AB14: 40 | AC14: 5.7142857 | AD14: 3 | AE14: 0.42857143 | AF14: 18 | AG14: 2.5714286 | AH14: 179 | AI14: 25.571429 | AJ14: 2 | AK14: 0.28571429 | AL14: 555 | AM14: 79.285714 | AN14: 1380 | AO14: 197.14286 | AP14: 773 | AQ14: 110.42857 | AR14: 975 | AS14: 139.28571
A15: ='Incentive Goal'!A14 -> BURKE | B15: 2 | C15: 5 | D15: 8 | E15: 2201 | F15: 440.2 | G15: 56 | H15: 0.089285714 | I15: 26 | J15: 0.19230769 | K15: 998421.98 | L15: 199684.4 | M15: 124802.75 | N15: 18474 | O15: 3694.8 | P15: 166 | Q15: 33.2 | R15: 688 | S15: 137.6 | T15: 60 | U15: 12 | V15: 1 | W15: 0.2 | X15: 59 | Y15: 11.8 | Z15: 14 | AA15: 2.8 | AB15: 26 | AC15: 5.2 | AD15: 3 | AE15: 0.6 | AF15: 27 | AG15: 5.4 | AH15: 33 | AI15: 6.6 | AJ15: 3 | AK15: 0.6 | AL15: 347 | AM15: 69.4 | AN15: 590 | AO15: 118 | AP15: 268 | AQ15: 53.6 | AR15: 178 | AS15: 35.6
A16: ='Incentive Goal'!A15 -> CABARRUS | B16: 4 | C16: 16.75 | D16: 24.5 | E16: 4151 | F16: 247.8209 | G16: 147 | H16: 0.11394558 | I16: 79 | J16: 0.21202532 | K16: 3328671 | L16: 198726.63 | M16: 135864.12 | N16: 22213 | O16: 1326.1493 | P16: 238 | Q16: 14.208955 | R16: 1305 | S16: 77.910448 | T16: 33 | U16: 1.9701493 | V16: 26 | W16: 1.5522388 | X16: 143 | Y16: 8.5373134 | Z16: 120 | AA16: 7.1641791 | AB16: 70 | AC16: 4.1791045 | AD16: 1 | AE16: 0.059701493 | AF16: 63 | AG16: 3.761194 | AH16: 85 | AI16: 5.0746269 | AJ16: 40 | AK16: 2.3880597 | AL16: 793 | AM16: 47.343284 | AN16: 2804 | AO16: 167.40299 | AP16: 2938 | AQ16: 175.40299 | AR16: 759 | AS16: 45.313433
A17: ='Incentive Goal'!A16 -> CALDWELL | B17: 2 | C17: 6.75 | D17: 9 | E17: 2265 | F17: 335.55556 | G17: 39 | H17: 0.17307692 | I17: 94 | J17: 0.071808511 | K17: 1336416.6 | L17: 197987.64 | M17: 148490.73 | N17: 15623 | O17: 2314.5185 | P17: 117 | Q17: 17.333333 | R17: 233 | S17: 34.518519 | T17: 22 | U17: 3.2592593 | V17: 8 | W17: 1.1851852 | X17: 35 | Y17: 5.1851852 | Z17: 26 | AA17: 3.8518519 | AB17: 39 | AC17: 5.7777778 | AD17: 4 | AE17: 0.59259259 | AF17: 21 | AG17: 3.1111111 | AH17: 74 | AI17: 10.962963 | AJ17: 7 | AK17: 1.037037 | AL17: 376 | AM17: 55.703704 | AN17: 383 | AO17: 56.740741 | AP17: 152 | AQ17: 22.518519 | AR17: 350 | AS17: 51.851852
A18: ='Incentive Goal'!A17 -> CAMDEN | B18: 7 | C18: 0.5 | D18: 1.25 | E18: 222 | F18: 444 | G18: 5 | H18: 0.1 | I18: 4 | J18: 0.125 | K18: 207815.74 | L18: 415631.48 | M18: 166252.59 | N18: 7 | O18: 14 | P18: 0 | Q18: 0 | R18: 0 | S18: 0 | T18: 0 | U18: 0 | V18: 0 | W18: 0 | X18: 0 | Y18: 0 | Z18: 0 | AA18: 0 | AB18: 0 | AC18: 0 | AD18: 0 | AE18: 0 | AF18: 0 | AG18: 0 | AH18: 0 | AI18: 0 | AJ18: 0 | AK18: 0 | AL18: 10 | AM18: 20 | AN18: 0 | AO18: 0 | AP18: 0 | AQ18: 0 | AR18: 11 | AS18: 22
... A24: ='Incentive Goal'!A23 -> CHOWAN | B24: 7 | C24: 3 | D24: 4 | E24: 683 | F24: 227.66667 | G24: 9 | H24: 0.33333333 | I24: 7 | J24: 0.42857143 | K24: 318044.63 | L24: 106014.88 | M24: 79511.158 | N24: 4361 | O24: 1453.6667 | P24: 7 | Q24: 2.3333333 | R24: 120 | S24: 40 | T24: 0 | U24: 0 | V24: 1 | W24: 0.33333333 | X24: 8 | Y24: 2.6666667 | Z24: 8 | AA24: 2.6666667 | AB24: 7 | AC24: 2.3333333 | AD24: 0 | AE24: 0 | AF24: 5 | AG24: 1.6666667 | AH24: 20 | AI24: 6.6666667 | AJ24: 1 | AK24: 0.33333333 | AL24: 66 | AM24: 22 | AN24: 68 | AO24: 22.666667 | AP24: 135 | AQ24: 45 | AR24: 42 | AS24: 14
A25: ='Incentive Goal'!A24 -> CLAY | B25: 1 | C25: 1 | D25: 1.1 | E25: 175 | F25: 175 | G25: 4 | H25: 0.25 | K25: 100084.65 | L25: 100084.65 | M25: 90986.045 | N25: 843 | O25: 843 | P25: 7 | Q25: 7 | R25: 6 | S25: 6 | T25: 0 | U25: 0 | V25: 0 | W25: 0 | X25: 4 | Y25: 4 | Z25: 0 | AA25: 0 | AB25: 0 | AC25: 0 | AD25: 0 | AE25: 0 | AF25: 2 | AG25: 2 | AH25: 9 | AI25: 9 | AJ25: 1 | AK25: 1 | AL25: 17 | AM25: 17 | AN25: 43 | AO25: 43 | AP25: 114 | AQ25: 114 | AR25: 0 | AS25: 0
A26: ='Incentive Goal'!A25 -> CLEVELAND | B26: 2 | C26: 14 | D26: 19 | E26: 5102 | F26: 364.42857 | G26: 96 | H26: 0.14583333 | I26: 50 | J26: 0.28 | K26: 1881914.7 | L26: 134422.48 | M26: 99048.14 | N26: 38953 | O26: 2782.3571 | P26: 156 | Q26: 11.142857 | R26: 839 | S26: 59.928571 | T26: 71 | U26: 5.0714286 | V26: 34 | W26: 2.4285714 | X26: 98 | Y26: 7 | Z26: 111 | AA26: 7.9285714 | AB26: 38 | AC26: 2.7142857 | AD26: 3 | AE26: 0.21428571 | AF26: 36 | AG26: 2.5714286 | AH26: 111 | AI26: 7.9285714 | AJ26: 5 | AK26: 0.35714286 | AL26: 634 | AM26: 45.285714 | AN26: 415 | AO26: 29.642857 | AP26: 1334 | AQ26: 95.285714 | AR26: 145 | AS26: 10.357143
A27: ='Incentive Goal'!A26 -> COLUMBUS | B27: 6 | C27: 9 | D27: 14 | E27: 2863 | F27: 318.11111 | G27: 35 | H27: 0.25714286 | I27: 55 | J27: 0.16363636 | K27: 1136231.9 | L27: 126247.99 | M27: 81159.424 | N27: 19509 | O27: 2167.6667 | P27: 96 | Q27: 10.666667 | R27: 795 | S27: 88.333333 | T27: 61 | U27: 6.7777778 | V27: 19 | W27: 2.1111111 | X27: 36 | Y27: 4 | Z27: 54 | AA27: 6 | AB27: 46 | AC27: 5.1111111 | AD27: 17 | AE27: 1.8888889 | AF27: 18 | AG27: 2 | AH27: 136 | AI27: 15.111111 | AJ27: 4 | AK27: 0.44444444 | AL27: 361 | AM27: 40.111111 | AN27: 389 | AO27: 43.222222 | AP27: 2065 | AQ27: 229.44444 | AR27: 77 | AS27: 8.5555556
A28: ='Incentive Goal'!A27 -> CRAVEN | B28: 6 | C28: 8 | D28: 9 | E28: 3303 | F28: 412.875 | G28: 71 | H28: 0.11267606 | I28: 35 | J28: 0.22857143 | K28: 1898181.4 | L28: 237272.67 | M28: 210909.04 | N28: 18120 | O28: 2265 | P28: 120 | Q28: 15 | R28: 746 | S28: 93.25 | T28: 7 | U28: 0.875 | V28: 23 | W28: 2.875 | X28: 78 | Y28: 9.75 | Z28: 54 | AA28: 6.75 | AB28: 29 | AC28: 3.625 | AD28: 21 | AE28: 2.625 | AF28: 14 | AG28: 1.75 | AH28: 70 | AI28: 8.75 | AJ28: 12 | AK28: 1.5 | AL28: 378 | AM28: 47.25 | AN28: 351 | AO28: 43.875 | AP28: 406 | AQ28: 50.75 | AR28: 181 | AS28: 22.625
A29: ='Incentive Goal'!A28 -> CUMBERLAND | B29: 6 | C29: 43 | D29: 72.5 | E29: 16124 | F29: 374.97674 | G29: 223 | H29: 0.19282511 | I29: 180 | J29: 0.23888889 | K29: 8589800.1 | L29: 199762.79 | M29: 118480 | N29: 89161 | O29: 2073.5116 | P29: 567 | Q29: 13.186047 | R29: 8789 | S29: 204.39535 | T29: 654 | U29: 15.209302 | V29: 102 | W29: 2.372093 | X29: 238 | Y29: 5.5348837 | Z29: 270 | AA29: 6.2790698 | AB29: 180 | AC29: 4.1860465 | AD29: 121 | AE29: 2.8139535 | AF29: 238 | AG29: 5.5348837 | AH29: 485 | AI29: 11.27907 | AJ29: 70 | AK29: 1.627907 | AL29: 1785 | AM29: 41.511628 | AN29: 2186 | AO29: 50.837209 | AP29: 8906 | AQ29: 207.11628 | AR29: 101 | AS29: 2.3488372
A30: ='Incentive Goal'!A29 -> CURRITUCK | B30: 7 | C30: 2 | D30: 2.5 | E30: 619 | F30: 309.5 | G30: 18 | H30: 0.11111111 | I30: 8 | J30: 0.25 | K30: 471250.44 | L30: 235625.22 | M30: 188500.18 | N30: 2182 | O30: 1091 | P30: 6 | Q30: 3 | R30: 10 | S30: 5 | T30: 0 | U30: 0 | V30: 1 | W30: 0.5 | X30: 2 | Y30: 1 | Z30: 0 | AA30: 0 | AB30: 4 | AC30: 2 | AD30: 0 | AE30: 0 | AF30: 12 | AG30: 6 | AH30: 31 | AI30: 15.5 | AJ30: 3 | AK30: 1.5 | AL30: 45 | AM30: 22.5 | AN30: 110 | AO30: 55 | AP30: 90 | AQ30: 45 | AR30: 45 | AS30: 22.5
A31: ='Incentive Goal'!A30 -> DARE | B31: 7 | C31: 0 | D31: 0.5 | E31: 581 | F31: 581 | G31: 7 | H31: 0 | I31: 7 | J31: 0 | K31: 418601.09 | L31: #DIV/0! | M31: 837202.18 | N31: 3484 | P31: 30 | R31: 34 | T31: 1 | V31: 3 | X31: 27 | Z31: 19 | AB31: 12 | AD31: 0 | AF31: 2 | AH31: 23 | AJ31: 1 | AL31: 53 | AN31: 73 | AP31: 62 | AR31: 29
A32: ='Incentive Goal'!A31 -> DAVIDSON | B32: 3 | C32: 12 | D32: 17 | E32: 4283 | F32: 356.91667 | G32: 67 | H32: 0.17910448 | I32: 53 | J32: 0.22641509 | K32: 3038551.9 | L32: 253212.66 | M32: 178738.35 | N32: 24434 | O32: 2036.1667 | P32: 122 | Q32: 10.166667 | R32: 1649 | S32: 137.41667 | T32: 197 | U32: 16.416667 | V32: 34 | W32: 2.8333333 | X32: 64 | Y32: 5.3333333 | Z32: 118 | AA32: 9.8333333 | AB32: 51 | AC32: 4.25 | AD32: 21 | AE32: 1.75 | AF32: 46 | AG32: 3.8333333 | AH32: 78 | AI32: 6.5 | AJ32: 6 | AK32: 0.5 | AL32: 521 | AM32: 43.416667 | AN32: 372 | AO32: 31 | AP32: 1191 | AQ32: 99.25 | AR32: 178 | AS32: 14.833333
A33: ='Incentive Goal'!A32 -> DAVIE | B33: 3 | C33: 3 | D33: 3 | E33: 884 | F33: 294.66667 | G33: 18 | H33: 0.16666667 | I33: 25 | J33: 0.12 | K33: 618766.77 | L33: 206255.59 | M33: 206255.59 | N33: 4070 | O33: 1356.6667 | P33: 8 | Q33: 2.6666667 | R33: 88 | S33: 29.333333 | T33: 2 | U33: 0.66666667 | V33: 5 | W33: 1.6666667 | X33: 18 | Y33: 6 | Z33: 37 | AA33: 12.333333 | AB33: 23 | AC33: 7.6666667 | AD33: 0 | AE33: 0 | AF33: 0 | AG33: 0 | AH33: 5 | AI33: 1.6666667 | AJ33: 0 | AK33: 0 | AL33: 164 | AM33: 54.666667 | AN33: 135 | AO33: 45 | AP33: 382 | AQ33: 127.33333 | AR33: 23 | AS33: 7.6666667
A34: ='Incentive Goal'!A33 -> DUPLIN | B34: 6 | C34: 5 | D34: 5 | E34: 1987 | F34: 397.4 | G34: 24 | H34: 0.20833333 | I34: 23 | J34: 0.2173913 | K34: 1106026.1 | L34: 221205.23 | M34: 221205.23 | N34: 11805 | O34: 2361 | P34: 60 | Q34: 12 | R34: 398 | S34: 79.6 | T34: 6 | U34: 1.2 | V34: 20 | W34: 4 | X34: 22 | Y34: 4.4 | Z34: 46 | AA34: 9.2 | AB34: 19 | AC34: 3.8 | AD34: 2 | AE34: 0.4 | AF34: 26 | AG34: 5.2 | AH34: 30 | AI34: 6 | AJ34: 8 | AK34: 1.6 | AL34: 278 | AM34: 55.6 | AN34: 299 | AO34: 59.8 | AP34: 172 | AQ34: 34.4 | AR34: 97 | AS34: 19.4
A35: ='Incentive Goal'!A34 -> DURHAM | B35: 3 | C35: 25 | D35: 32 | E35: 6541 | F35: 261.64 | G35: 160 | H35: 0.15625 | I35: 112 | J35: 0.22321429 | K35: 3496922.3 | L35: 139876.89 | M35: 109278.82 | N35: 39353 | O35: 1574.12 | P35: 264 | Q35: 10.56 | R35: 1941 | S35: 77.64 | T35: 56 | U35: 2.24 | V35: 31 | W35: 1.24 | X35: 169 | Y35: 6.76 | Z35: 61 | AA35: 2.44 | AB35: 99 | AC35: 3.96 | AD35: 79 | AE35: 3.16 | AF35: 38 | AG35: 1.52 | AH35: 245 | AI35: 9.8 | AJ35: 5 | AK35: 0.2 | AL35: 1035 | AM35: 41.4 | AN35: 493 | AO35: 19.72 | AP35: 2010 | AQ35: 80.4 | AR35: 251 | AS35: 10.04
A36: ='Incentive Goal'!A35 -> EDGE - Tarboro | B36: 5 | C36: 6.5 | D36: 8.5 | E36: 1857 | F36: 285.69231 | G36: 17 | H36: 0.38235294 | I36: 6 | J36: 1.0833333 | K36: 552735.8 | L36: 85036.277 | M36: 65027.741 | N36: 14798 | O36: 2276.6154 | P36: 65 | Q36: 10 | R36: 858 | S36: 132 | T36: 34 | U36: 5.2307692 | V36: 19 | W36: 2.9230769 | X36: 16 | Y36: 2.4615385 | Z36: 37 | AA36: 5.6923077 | AB36: 4 | AC36: 0.61538462 | AD36: 5 | AE36: 0.76923077 | AF36: 22 | AG36: 3.3846154 | AH36: 34 | AI36: 5.2307692 | AJ36: 0 | AK36: 0 | AL36: 188 | AM36: 28.923077 | AN36: 358 | AO36: 55.076923 | AP36: 213 | AQ36: 32.769231 | AR36: 66 | AS36: 10.153846
A37: ='Incentive Goal'!A36 -> EDGE - Rky Mt | B37: 5 | C37: 3.5 | D37: 6.5 | E37: 2024 | F37: 578.28571 | G37: 28 | H37: 0.125 | I37: 7 | J37: 0.5 | K37: 532767.59 | L37: 152219.31 | M37: 81964.245 | N37: 10049 | O37: 2871.1429 | P37: 64 | Q37: 18.285714 | R37: 434 | S37: 124 | T37: 20 | U37: 5.7142857 | V37: 12 | W37: 3.4285714 | X37: 27 | Y37: 7.7142857 | Z37: 21 | AA37: 6 | AB37: 9 | AC37: 2.5714286 | AD37: 1 | AE37: 0.28571429 | AF37: 13 | AG37: 3.7142857 | AH37: 49 | AI37: 14 | AJ37: 0 | AK37: 0 | AL37: 112 | AM37: 32 | AN37: 286 | AO37: 81.714286 | AP37: 623 | AQ37: 178 | AR37: 106 | AS37: 30.285714
A38: ='Incentive Goal'!A37 -> FORSYTH | B38: 3 | C38: 32 | D38: 46.5 | E38: 10644 | F38: 332.625 | G38: 165 | H38: 0.19393939 | I38: 163 | J38: 0.19631902 | K38: 5520537.4 | L38: 172516.79 | M38: 118721.23 | N38: 55006 | O38: 1718.9375 | P38: 313 | Q38: 9.78125 | R38: 865 | S38: 27.03125 | T38: 144 | U38: 4.5 | V38: 89 | W38: 2.78125 | X38: 180 | Y38: 5.625 | Z38: 224 | AA38: 7 | AB38: 143 | AC38: 4.46875 | AD38: 435 | AE38: 13.59375 | AF38: 76 | AG38: 2.375 | AH38: 161 | AI38: 5.03125 | AJ38: 25 | AK38: 0.78125 | AL38: 1621 | AM38: 50.65625 | AN38: 573 | AO38: 17.90625 | AP38: 7035 | AQ38: 219.84375 | AR38: 98 | AS38: 3.0625
A39: ='Incentive Goal'!A38 -> FRANKLIN | B39: 5 | C39: 9 | D39: 10 | E39: 2226 | F39: 247.33333 | G39: 27 | H39: 0.33333333 | I39: 25 | J39: 0.36 | K39: 1250839.3 | L39: 138982.14 | M39: 125083.93 | N39: 11624 | O39: 1291.5556 | P39: 107 | Q39: 11.888889 | R39: 158 | S39: 17.555556 | T39: 11 | U39: 1.2222222 | V39: 8 | W39: 0.88888889 | X39: 25 | Y39: 2.7777778 | Z39: 38 | AA39: 4.2222222 | AB39: 19 | AC39: 2.1111111 | AD39: 2 | AE39: 0.22222222 | AF39: 19 | AG39: 2.1111111 | AH39: 78 | AI39: 8.6666667 | AJ39: 3 | AK39: 0.33333333 | AL39: 309 | AM39: 34.333333 | AN39: 268 | AO39: 29.777778 | AP39: 690 | AQ39: 76.666667 | AR39: 146 | AS39: 16.222222
A40: ='Incentive Goal'!A39 -> GASTON | B40: 2 | C40: 23 | D40: 32 | E40: 7099 | F40: 308.65217 | G40: 114 | H40: 0.20175439 | I40: 96 | J40: 0.23958333 | K40: 3303701.3 | L40: 143639.19 | M40: 103240.67 | N40: 44745 | O40: 1945.4348 | P40: 240 | Q40: 10.434783 | R40: 1202 | S40: 52.26087 | T40: 117 | U40: 5.0869565 | V40: 83 | W40: 3.6086957 | X40: 122 | Y40: 5.3043478 | Z40: 246 | AA40: 10.695652 | AB40: 87 | AC40: 3.7826087 | AD40: 7 | AE40: 0.30434783 | AF40: 93 | AG40: 4.0434783 | AH40: 77 | AI40: 3.3478261 | AJ40: 19 | AK40: 0.82608696 | AL40: 1085 | AM40: 47.173913 | AN40: 295 | AO40: 12.826087 | AP40: 3109 | AQ40: 135.17391 | AR40: 94 | AS40: 4.0869565
A41: ='Incentive Goal'!A40 -> GATES | B41: 7 | C41: 1 | D41: 1.75 | E41: 337 | F41: 337 | G41: 5 | H41: 0.2 | I41: 1 | J41: 1 | K41: 234666.26 | L41: 234666.26 | M41: 134095.01 | N41: 36 | O41: 36 | P41: 0 | Q41: 0 | R41: 0 | S41: 0 | T41: 0 | U41: 0 | V41: 0 | W41: 0 | X41: 0 | Y41: 0 | Z41: 0 | AA41: 0 | AB41: 0 | AC41: 0 | AD41: 0 | AE41: 0 | AF41: 0 | AG41: 0 | AH41: 0 | AI41: 0 | AJ41: 0 | AK41: 0 | AL41: 24 | AM41: 24 | AN41: 0 | AO41: 0 | AP41: 0 | AQ41: 0 | AR41: 8 | AS41: 8
A42: ='Incentive Goal'!A41 -> GRAHAM | B42: 1 | C42: 0.75 | D42: 1 | E42: 195 | F42: 260 | G42: 5 | H42: 0.15 | I42: 1 | J42: 0.75 | K42: 99786.56 | L42: 133048.75 | M42: 99786.56 | N42: 887 | O42: 1182.6667 | P42: 11 | Q42: 14.666667 | R42: 10 | S42: 13.333333 | T42: 1 | U42: 1.3333333 | V42: 0 | W42: 0 | X42: 5 | Y42: 6.6666667 | Z42: 4 | AA42: 5.3333333 | AB42: 1 | AC42: 1.3333333 | AD42: 0 | AE42: 0 | AF42: 0 | AG42: 0 | AH42: 2 | AI42: 2.6666667 | AJ42: 0 | AK42: 0 | AL42: 20 | AM42: 26.666667 | AN42: 29 | AO42: 38.666667 | AP42: 23 | AQ42: 30.666667 | AR42: 0 | AS42: 0
A43: ='Incentive Goal'!A42 -> GRANVILLE | B43: 5 | C43: 8.5 | D43: 10 | E43: 1691 | F43: 198.94118 | G43: 37 | H43: 0.22972973 | I43: 38 | J43: 0.22368421 | K43: 919970.51 | L43: 108231.82 | M43: 91997.051 | N43: 10408 | O43: 1224.4706 | P43: 48 | Q43: 5.6470588 | R43: 258 | S43: 30.352941 | T43: 5 | U43: 0.58823529 | V43: 2 | W43: 0.23529412 | X43: 38 | Y43: 4.4705882 | Z43: 20 | AA43: 2.3529412 | AB43: 37 | AC43: 4.3529412 | AD43: 6 | AE43: 0.70588235 | AF43: 14 | AG43: 1.6470588 | AH43: 33 | AI43: 3.8823529 | AJ43: 8 | AK43: 0.94117647 | AL43: 328 | AM43: 38.588235 | AN43: 404 | AO43: 47.529412 | AP43: 479 | AQ43: 56.352941 | AR43: 74 | AS43: 8.7058824
... A46: ='Incentive Goal'!A45 -> GUIL - HP | B46: 3 | C46: 10 | D46: 23 | E46: 4135 | F46: 413.5 | G46: 77 | H46: 0.12987013 | I46: 71 | J46: 0.14084507 | K46: 2129526.8 | L46: 212952.67 | M46: 92588.12 | N46: 26790 | O46: 2679 | P46: 111 | Q46: 11.1 | R46: 570 | S46: 57 | T46: 24 | U46: 2.4 | V46: 22 | W46: 2.2 | X46: 81 | Y46: 8.1 | Z46: 85 | AA46: 8.5 | AB46: 55 | AC46: 5.5 | AD46: 302 | AE46: 30.2 | AF46: 33 | AG46: 3.3 | AH46: 121 | AI46: 12.1 | AJ46: 10 | AK46: 1 | AL46: 540 | AM46: 54 | AN46: 584 | AO46: 58.4 | AP46: 6234 | AQ46: 623.4 | AR46: 128 | AS46: 12.8
A47: ='Incentive Goal'!A47 -> HALIFAX | B47: 5 | C47: 13 | D47: 17 | E47: 2710 | F47: 208.46154 | G47: 70 | H47: 0.18571429 | I47: 45 | J47: 0.28888889 | K47: 1365976.8 | L47: 105075.14 | M47: 80351.577 | N47: 20272 | O47: 1559.3846 | P47: 79 | Q47: 6.0769231 | R47: 10272 | S47: 790.15385 | T47: 209 | U47: 16.076923 | V47: 22 | W47: 1.6923077 | X47: 69 | Y47: 5.3076923 | Z47: 71 | AA47: 5.4615385 | AB47: 39 | AC47: 3 | AD47: 64 | AE47: 4.9230769 | AF47: 84 | AG47: 6.4615385 | AH47: 92 | AI47: 7.0769231 | AJ47: 4 | AK47: 0.30769231 | AL47: 448 | AM47: 34.461538 | AN47: 932 | AO47: 71.692308 | AP47: 1674 | AQ47: 128.76923 | AR47: 461 | AS47: 35.461538
A48: ='Incentive Goal'!A48 -> HARNETT | B48: 4 | C48: 14 | D48: 18.5 | E48: 3929 | F48: 280.64286 | G48: 46 | H48: 0.30434783 | I48: 31 | J48: 0.4516129 | K48: 2497085.8 | L48: 178363.27 | M48: 134977.61 | N48: 20089 | O48: 1434.9286 | P48: 81 | Q48: 5.7857143 | R48: 611 | S48: 43.642857 | T48: 8 | U48: 0.57142857 | V48: 39 | W48: 2.7857143 | X48: 45 | Y48: 3.2142857 | Z48: 103 | AA48: 7.3571429 | AB48: 29 | AC48: 2.0714286 | AD48: 94 | AE48: 6.7142857 | AF48: 37 | AG48: 2.6428571 | AH48: 59 | AI48: 4.2142857 | AJ48: 1 | AK48: 0.071428571 | AL48: 479 | AM48: 34.214286 | AN48: 232 | AO48: 16.571429 | AP48: 1352 | AQ48: 96.571429 | AR48: 136 | AS48: 9.7142857
A49: ='Incentive Goal'!A49 -> HAYWOOD | B49: 1 | C49: 3 | D49: 7 | E49: 1017 | F49: 339 | G49: 2 | H49: 1.5 | I49: 19 | J49: 0.15789474 | K49: 646402.24 | L49: 215467.41 | M49: 92343.177 | N49: 5793 | O49: 1931 | P49: 63 | Q49: 21 | R49: 378 | S49: 126 | T49: 52 | U49: 17.333333 | V49: 0 | W49: 0 | X49: 1 | Y49: 0.33333333 | Z49: 18 | AA49: 6 | AB49: 18 | AC49: 6 | AD49: 5 | AE49: 1.6666667 | AF49: 8 | AG49: 2.6666667 | AH49: 14 | AI49: 4.6666667 | AJ49: 0 | AK49: 0 | AL49: 158 | AM49: 52.666667 | AN49: 164 | AO49: 54.666667 | AP49: 209 | AQ49: 69.666667 | AR49: 66 | AS49: 22
A50: ='Incentive Goal'!A50 -> HENDERSON | B50: 1 | C50: 4 | D50: 5.5 | E50: 1442 | F50: 360.5 | G50: 52 | H50: 0.076923077 | I50: 29 | J50: 0.13793103 | K50: 918035.61 | L50: 229508.9 | M50: 166915.57 | N50: 8041 | O50: 2010.25 | P50: 71 | Q50: 17.75 | R50: 732 | S50: 183 | T50: 14 | U50: 3.5 | V50: 9 | W50: 2.25 | X50: 54 | Y50: 13.5 | Z50: 34 | AA50: 8.5 | AB50: 26 | AC50: 6.5 | AD50: 40 | AE50: 10 | AF50: 15 | AG50: 3.75 | AH50: 32 | AI50: 8 | AJ50: 2 | AK50: 0.5 | AL50: 189 | AM50: 47.25 | AN50: 265 | AO50: 66.25 | AP50: 448 | AQ50: 112 | AR50: 27 | AS50: 6.75
A51: ='Incentive Goal'!A51 -> HERTFORD | B51: 7 | C51: 4 | D51: 4.5 | E51: 1311 | F51: 327.75 | G51: 18 | H51: 0.22222222 | I51: 10 | J51: 0.4 | K51: 618309.89 | L51: 154577.47 | M51: 137402.2 | N51: 1940 | O51: 485 | P51: 4 | Q51: 1 | R51: 41 | S51: 10.25 | T51: 2 | U51: 0.5 | V51: 2 | W51: 0.5 | X51: 0 | Y51: 0 | Z51: 1 | AA51: 0.25 | AB51: 0 | AC51: 0 | AD51: 1 | AE51: 0.25 | AF51: 6 | AG51: 1.5 | AH51: 12 | AI51: 3 | AJ51: 0 | AK51: 0 | AL51: 192 | AM51: 48 | AN51: 22 | AO51: 5.5 | AP51: 75 | AQ51: 18.75 | AR51: 13 | AS51: 3.25
A52: ='Incentive Goal'!A52 -> HOKE | B52: 4 | C52: 7.75 | D52: 10 | E52: 2047 | F52: 264.12903 | G52: 23 | H52: 0.33695652 | I52: 28 | J52: 0.27678571 | K52: 998705.19 | L52: 128865.19 | M52: 99870.519 | N52: 10373 | O52: 1338.4516 | P52: 64 | Q52: 8.2580645 | R52: 427 | S52: 55.096774 | T52: 20 | U52: 2.5806452 | V52: 19 | W52: 2.4516129 | X52: 23 | Y52: 2.9677419 | Z52: 34 | AA52: 4.3870968 | AB52: 28 | AC52: 3.6129032 | AD52: 44 | AE52: 5.6774194 | AF52: 17 | AG52: 2.1935484 | AH52: 36 | AI52: 4.6451613 | AJ52: 1 | AK52: 0.12903226 | AL52: 181 | AM52: 23.354839 | AN52: 221 | AO52: 28.516129 | AP52: 367 | AQ52: 47.354839 | AR52: 47 | AS52: 6.0645161
A53: ='Incentive Goal'!A53 -> HYDE | B53: 7 | C53: 0.5 | D53: 0.75 | E53: 95 | F53: 190 | G53: 2 | H53: 0.25 | I53: 4 | J53: 0.125 | K53: 57974.56 | L53: 115949.12 | M53: 77299.413 | N53: 0 | O53: 0 | P53: 0 | Q53: 0 | R53: 0 | S53: 0 | T53: 0 | U53: 0 | V53: 0 | W53: 0 | X53: 0 | Y53: 0 | Z53: 0 | AA53: 0 | AB53: 0 | AC53: 0 | AD53: 0 | AE53: 0 | AF53: 0 | AG53: 0 | AH53: 0 | AI53: 0 | AJ53: 0 | AK53: 0 | AL53: 24 | AM53: 48 | AN53: 0 | AO53: 0 | AP53: 0 | AQ53: 0 | AR53: 29 | AS53: 58
A54: ='Incentive Goal'!A54 -> IREDELL | B54: 2 | C54: 12 | D54: 18 | E54: 4209 | F54: 350.75 | G54: 81 | H54: 0.14814815 | I54: 57 | J54: 0.21052632 | K54: 2345658.1 | L54: 195471.51 | M54: 130314.34 | N54: 25250 | O54: 2104.1667 | P54: 174 | Q54: 14.5 | R54: 932 | S54: 77.666667 | T54: 33 | U54: 2.75 | V54: 19 | W54: 1.5833333 | X54: 82 | Y54: 6.8333333 | Z54: 75 | AA54: 6.25 | AB54: 47 | AC54: 3.9166667 | AD54: 8 | AE54: 0.66666667 | AF54: 16 | AG54: 1.3333333 | AH54: 77 | AI54: 6.4166667 | AJ54: 8 | AK54: 0.66666667 | AL54: 572 | AM54: 47.666667 | AN54: 662 | AO54: 55.166667 | AP54: 2626 | AQ54: 218.83333 | AR54: 282 | AS54: 23.5
A55: ='Incentive Goal'!A55 -> JACKSON | B55: 1 | C55: 2 | D55: 4 | E55: 710 | F55: 355 | G55: 9 | H55: 0.22222222 | I55: 3 | J55: 0.66666667 | K55: 406653.17 | L55: 203326.58 | M55: 101663.29 | N55: 2650 | O55: 1325 | P55: 9 | Q55: 4.5 | R55: 22 | S55: 11 | T55: 0 | U55: 0 | V55: 8 | W55: 4 | X55: 8 | Y55: 4 | Z55: 18 | AA55: 9 | AB55: 3 | AC55: 1.5 | AD55: 0 | AE55: 0 | AF55: 7 | AG55: 3.5 | AH55: 7 | AI55: 3.5 | AJ55: 2 | AK55: 1 | AL55: 46 | AM55: 23 | AN55: 166 | AO55: 83 | AP55: 81 | AQ55: 40.5 | AR55: 77 | AS55: 38.5
A56: ='Incentive Goal'!A56 -> JOHNSTON | B56: 5 | C56: 13 | D56: 21.5 | E56: 4618 | F56: 355.23077 | G56: 133 | H56: 0.097744361 | I56: 78 | J56: 0.16666667 | K56: 3706050.7 | L56: 285080.82 | M56: 172374.45 | N56: 30083 | O56: 2314.0769 | P56: 318 | Q56: 24.461538 | R56: 438 | S56: 33.692308 | T56: 18 | U56: 1.3846154 | V56: 53 | W56: 4.0769231 | X56: 135 | Y56: 10.384615 | Z56: 117 | AA56: 9 | AB56: 65 | AC56: 5 | AD56: 8 | AE56: 0.61538462 | AF56: 131 | AG56: 10.076923 | AH56: 202 | AI56: 15.538462 | AJ56: 12 | AK56: 0.92307692 | AL56: 901 | AM56: 69.307692 | AN56: 959 | AO56: 73.769231 | AP56: 882 | AQ56: 67.846154 | AR56: 229 | AS56: 17.615385
A57: ='Incentive Goal'!A57 -> JONES | B57: 6 | C57: 1 | D57: 2 | E57: 325 | F57: 325 | G57: 2 | H57: 0.5 | K57: 163763.21 | L57: 163763.21 | M57: 81881.605 | N57: 1925 | O57: 1925 | P57: 5 | Q57: 5 | R57: 57 | S57: 57 | T57: 2 | U57: 2 | V57: 1 | W57: 1 | X57: 1 | Y57: 1 | Z57: 3 | AA57: 3 | AB57: 0 | AC57: 0 | AD57: 0 | AE57: 0 | AF57: 2 | AG57: 2 | AH57: 2 | AI57: 2 | AJ57: 0 | AK57: 0 | AL57: 20 | AM57: 20 | AN57: 24 | AO57: 24 | AP57: 9 | AQ57: 9 | AR57: 17 | AS57: 17
A58: ='Incentive Goal'!A58 -> LEE | B58: 4 | C58: 4.75 | D58: 8 | E58: 1976 | F58: 416 | G58: 33 | H58: 0.14393939 | I58: 34 | J58: 0.13970588 | K58: 954137.88 | L58: 200871.13 | M58: 119267.24 | N58: 10074 | O58: 2120.8421 | P58: 57 | Q58: 12 | R58: 166 | S58: 34.947368 | T58: 6 | U58: 1.2631579 | V58: 9 | W58: 1.8947368 | X58: 33 | Y58: 6.9473684 | Z58: 44 | AA58: 9.2631579 | AB58: 33 | AC58: 6.9473684 | AD58: 2 | AE58: 0.42105263 | AF58: 4 | AG58: 0.84210526 | AH58: 32 | AI58: 6.7368421 | AJ58: 1 | AK58: 0.21052632 | AL58: 181 | AM58: 38.105263 | AN58: 115 | AO58: 24.210526 | AP58: 500 | AQ58: 105.26316 | AR58: 21 | AS58: 4.4210526
A59: ='Incentive Goal'!A59 -> LENOIR | B59: 6 | C59: 12 | D59: 18 | E59: 3674 | F59: 306.16667 | G59: 40 | H59: 0.3 | I59: 37 | J59: 0.32432432 | K59: 1709162.4 | L59: 142430.2 | M59: 94953.467 | N59: 25279 | O59: 2106.5833 | P59: 150 | Q59: 12.5 | R59: 1870 | S59: 155.83333 | T59: 66 | U59: 5.5 | V59: 12 | W59: 1 | X59: 42 | Y59: 3.5 | Z59: 33 | AA59: 2.75 | AB59: 39 | AC59: 3.25 | AD59: 0 | AE59: 0 | AF59: 41 | AG59: 3.4166667 | AH59: 119 | AI59: 9.9166667 | AJ59: 4 | AK59: 0.33333333 | AL59: 596 | AM59: 49.666667 | AN59: 941 | AO59: 78.416667 | AP59: 956 | AQ59: 79.666667 | AR59: 465 | AS59: 38.75
A60: ='Incentive Goal'!A60 -> LINCOLN | B60: 2 | C60: 8 | D60: 11 | E60: 1912 | F60: 239 | G60: 28 | H60: 0.28571429 | I60: 32 | J60: 0.25 | K60: 1028391.7 | L60: 128548.96 | M60: 93490.15 | N60: 11724 | O60: 1465.5 | P60: 83 | Q60: 10.375 | R60: 141 | S60: 17.625 | T60: 13 | U60: 1.625 | V60: 2 | W60: 0.25 | X60: 29 | Y60: 3.625 | Z60: 31 | AA60: 3.875 | AB60: 32 | AC60: 4 | AD60: 7 | AE60: 0.875 | AF60: 24 | AG60: 3 | AH60: 39 | AI60: 4.875 | AJ60: 3 | AK60: 0.375 | AL60: 265 | AM60: 33.125 | AN60: 334 | AO60: 41.75 | AP60: 543 | AQ60: 67.875 | AR60: 93 | AS60: 11.625
A61: ='Incentive Goal'!A61 -> MACON | B61: 1 | C61: 3 | D61: 3.25 | E61: 791 | F61: 263.66667 | G61: 9 | H61: 0.33333333 | I61: 5 | J61: 0.6 | K61: 445121.8 | L61: 148373.93 | M61: 136960.55 | N61: 4096 | O61: 1365.3333 | P61: 29 | Q61: 9.6666667 | R61: 167 | S61: 55.666667 | T61: 4 | U61: 1.3333333 | V61: 0 | W61: 0 | X61: 9 | Y61: 3 | Z61: 2 | AA61: 0.66666667 | AB61: 5 | AC61: 1.6666667 | AD61: 0 | AE61: 0 | AF61: 4 | AG61: 1.3333333 | AH61: 8 | AI61: 2.6666667 | AJ61: 1 | AK61: 0.33333333 | AL61: 63 | AM61: 21 | AN61: 147 | AO61: 49 | AP61: 343 | AQ61: 114.33333 | AR61: 6 | AS61: 2
A62: ='Incentive Goal'!A62 -> MADISON | B62: 1 | C62: 0.75 | D62: 1.35 | E62: 454 | F62: 605.33333 | G62: 4 | H62: 0.1875 | I62: 4 | J62: 0.1875 | K62: 143546.23 | L62: 191394.97 | M62: 106330.54 | N62: 2403 | O62: 3204 | P62: 13 | Q62: 17.333333 | R62: 34 | S62: 45.333333 | T62: 3 | U62: 4 | V62: 0 | W62: 0 | X62: 4 | Y62: 5.3333333 | Z62: 4 | AA62: 5.3333333 | AB62: 3 | AC62: 4 | AD62: 0 | AE62: 0 | AF62: 2 | AG62: 2.6666667 | AH62: 5 | AI62: 6.6666667 | AJ62: 1 | AK62: 1.3333333 | AL62: 4 | AM62: 5.3333333 | AN62: 44 | AO62: 58.666667 | AP62: 264 | AQ62: 352 | AR62: 14 | AS62: 18.666667
A63: ='Incentive Goal'!A63 -> MARTIN | B63: 7 | C63: 4 | D63: 4 | E63: 1234 | F63: 308.5 | G63: 15 | H63: 0.26666667 | I63: 6 | J63: 0.66666667 | K63: 521060.56 | L63: 130265.14 | M63: 130265.14 | N63: 8339 | O63: 2084.75 | P63: 28 | Q63: 7 | R63: 519 | S63: 129.75 | T63: 8 | U63: 2 | V63: 11 | W63: 2.75 | X63: 19 | Y63: 4.75 | Z63: 19 | AA63: 4.75 | AB63: 7 | AC63: 1.75 | AD63: 0 | AE63: 0 | AF63: 11 | AG63: 2.75 | AH63: 40 | AI63: 10 | AJ63: 2 | AK63: 0.5 | AL63: 177 | AM63: 44.25 | AN63: 202 | AO63: 50.5 | AP63: 432 | AQ63: 108 | AR63: 100 | AS63: 25
A64: ='Incentive Goal'!A64 -> MCDOWELL | B64: 2 | C64: 4 | D64: 6.5 | E64: 1227 | F64: 306.75 | G64: 23 | H64: 0.17391304 | I64: 20 | J64: 0.2 | K64: 579441.28 | L64: 144860.32 | M64: 89144.812 | N64: 8430 | O64: 2107.5 | P64: 45 | Q64: 11.25 | R64: 973 | S64: 243.25 | T64: 14 | U64: 3.5 | V64: 4 | W64: 1 | X64: 26 | Y64: 6.5 | Z64: 7 | AA64: 1.75 | AB64: 14 | AC64: 3.5 | AD64: 0 | AE64: 0 | AF64: 9 | AG64: 2.25 | AH64: 57 | AI64: 14.25 | AJ64: 10 | AK64: 2.5 | AL64: 209 | AM64: 52.25 | AN64: 86 | AO64: 21.5 | AP64: 583 | AQ64: 145.75 | AR64: 66 | AS64: 16.5
A65: ='Incentive Goal'!A65 -> MECKLENBURG | B65: 4 | C65: 79 | D65: 131 | E65: 24331 | F65: 307.98734 | G65: 621 | H65: 0.12721417 | I65: 410 | J65: 0.19268293 | K65: 12266799 | L65: 155275.94 | M65: 93639.69 | N65: 135129 | O65: 1710.4937 | P65: 449 | Q65: 5.6835443 | R65: 2006 | S65: 25.392405 | T65: 61 | U65: 0.7721519 | V65: 241 | W65: 3.0506329 | X65: 662 | Y65: 8.3797468 | Z65: 625 | AA65: 7.9113924 | AB65: 349 | AC65: 4.4177215 | AD65: 311 | AE65: 3.9367089 | AF65: 223 | AG65: 2.8227848 | AH65: 708 | AI65: 8.9620253 | AJ65: 95 | AK65: 1.2025316 | AL65: 3121 | AM65: 39.506329 | AN65: 1326 | AO65: 16.78481 | AP65: 5539 | AQ65: 70.113924 | AR65: 319 | AS65: 4.0379747
A66: ='Incentive Goal'!A66 -> MITCHELL | B66: 1 | C66: 1 | D66: 1 | E66: 219 | F66: 219 | G66: 3 | H66: 0.33333333 | I66: 10 | J66: 0.1 | K66: 169149.04 | L66: 169149.04 | M66: 169149.04 | N66: 1296 | O66: 1296 | P66: 15 | Q66: 15 | R66: 65 | S66: 65 | T66: 1 | U66: 1 | V66: 0 | W66: 0 | X66: 3 | Y66: 3 | Z66: 2 | AA66: 2 | AB66: 9 | AC66: 9 | AD66: 0 | AE66: 0 | AF66: 2 | AG66: 2 | AH66: 3 | AI66: 3 | AJ66: 1 | AK66: 1 | AL66: 27 | AM66: 27 | AN66: 52 | AO66: 52 | AP66: 27 | AQ66: 27 | AR66: 28 | AS66: 28
A67: ='Incentive Goal'!A67 -> MONTGOMERY | B67: 4 | C67: 4 | D67: 5 | E67: 1126 | F67: 281.5 | G67: 27 | H67: 0.14814815 | I67: 37 | J67: 0.10810811 | K67: 500079.32 | L67: 125019.83 | M67: 100015.86 | N67: 7270 | O67: 1817.5 | P67: 22 | Q67: 5.5 | R67: 42 | S67: 10.5 | T67: 3 | U67: 0.75 | V67: 7 | W67: 1.75 | X67: 27 | Y67: 6.75 | Z67: 25 | AA67: 6.25 | AB67: 28 | AC67: 7 | AD67: 1 | AE67: 0.25 | AF67: 11 | AG67: 2.75 | AH67: 21 | AI67: 5.25 | AJ67: 2 | AK67: 0.5 | AL67: 137 | AM67: 34.25 | AN67: 323 | AO67: 80.75 | AP67: 176 | AQ67: 44 | AR67: 280 | AS67: 70
A68: ='Incentive Goal'!A68 -> MOORE | B68: 4 | C68: 7 | D68: 12 | E68: 1890 | F68: 270 | G68: 20 | H68: 0.35 | I68: 19 | J68: 0.36842105 | K68: 1235640 | L68: 176520 | M68: 102970 | N68: 11604 | O68: 1657.7143 | P68: 67 | Q68: 9.5714286 | R68: 395 | S68: 56.428571 | T68: 23 | U68: 3.2857143 | V68: 6 | W68: 0.85714286 | X68: 19 | Y68: 2.7142857 | Z68: 18 | AA68: 2.5714286 | AB68: 16 | AC68: 2.2857143 | AD68: 13 | AE68: 1.8571429 | AF68: 17 | AG68: 2.4285714 | AH68: 63 | AI68: 9 | AJ68: 10 | AK68: 1.4285714 | AL68: 252 | AM68: 36 | AN68: 473 | AO68: 67.571429 | AP68: 404 | AQ68: 57.714286 | AR68: 243 | AS68: 34.714286
A69: ='Incentive Goal'!A69 -> NASH | B69: 5 | C69: 12 | D69: 18 | E69: 3821 | F69: 318.41667 | G69: 64 | H69: 0.1875 | I69: 34 | J69: 0.35294118 | K69: 2221945.5 | L69: 185162.13 | M69: 123441.42 | N69: 26623 | O69: 2218.5833 | P69: 127 | Q69: 10.583333 | R69: 1934 | S69: 161.16667 | T69: 265 | U69: 22.083333 | V69: 22 | W69: 1.8333333 | X69: 65 | Y69: 5.4166667 | Z69: 58 | AA69: 4.8333333 | AB69: 32 | AC69: 2.6666667 | AD69: 136 | AE69: 11.333333 | AF69: 76 | AG69: 6.3333333 | AH69: 116 | AI69: 9.6666667 | AJ69: 12 | AK69: 1 | AL69: 568 | AM69: 47.333333 | AN69: 791 | AO69: 65.916667 | AP69: 1225 | AQ69: 102.08333 | AR69: 775 | AS69: 64.583333
... A71: ='Incentive Goal'!A71 -> NORTHAMPTON | B71: 5 | C71: 5 | D71: 7 | E71: 1339 | F71: 267.8 | G71: 13 | H71: 0.38461538 | I71: 9 | J71: 0.55555556 | K71: 462000.99 | L71: 92400.198 | M71: 66000.141 | N71: 8656 | O71: 1731.2 | P71: 24 | Q71: 4.8 | R71: 1345 | S71: 269 | T71: 4 | U71: 0.8 | V71: 10 | W71: 2 | X71: 12 | Y71: 2.4 | Z71: 18 | AA71: 3.6 | AB71: 6 | AC71: 1.2 | AD71: 10 | AE71: 2 | AF71: 7 | AG71: 1.4 | AH71: 46 | AI71: 9.2 | AJ71: 7 | AK71: 1.4 | AL71: 203 | AM71: 40.6 | AN71: 190 | AO71: 38 | AP71: 162 | AQ71: 32.4 | AR71: 104 | AS71: 20.8
A72: ='Incentive Goal'!A72 -> NORTH CAROLINA | E72: 11 | N72: 97678 | P72: 827 | R72: 5523 | T72: 6 | AP72: 11
A73: ='Incentive Goal'!A73 -> ONSLOW | B73: 6 | C73: 13 | D73: 17 | E73: 5924 | F73: 455.69231 | G73: 112 | H73: 0.11607143 | I73: 55 | J73: 0.23636364 | K73: 4419612.7 | L73: 339970.21 | M73: 259977.22 | N73: 27519 | O73: 2116.8462 | P73: 133 | Q73: 10.230769 | R73: 384 | S73: 29.538462 | T73: 3 | U73: 0.23076923 | V73: 35 | W73: 2.6923077 | X73: 105 | Y73: 8.0769231 | Z73: 104 | AA73: 8 | AB73: 57 | AC73: 4.3846154 | AD73: 4 | AE73: 0.30769231 | AF73: 37 | AG73: 2.8461538 | AH73: 151 | AI73: 11.615385 | AJ73: 6 | AK73: 0.46153846 | AL73: 489 | AM73: 37.615385 | AN73: 589 | AO73: 45.307692 | AP73: 641 | AQ73: 49.307692 | AR73: 300 | AS73: 23.076923
A74: ='Incentive Goal'!A74 -> ORANGE | B74: 3 | C74: 8 | D74: 13 | E74: 1435 | F74: 179.375 | G74: 22 | H74: 0.36363636 | I74: 18 | J74: 0.44444444 | K74: 1010658.2 | L74: 126332.28 | M74: 77742.942 | N74: 9453 | O74: 1181.625 | P74: 44 | Q74: 5.5 | R74: 1756 | S74: 219.5 | T74: 36 | U74: 4.5 | V74: 18 | W74: 2.25 | X74: 21 | Y74: 2.625 | Z74: 30 | AA74: 3.75 | AB74: 18 | AC74: 2.25 | AD74: 66 | AE74: 8.25 | AF74: 31 | AG74: 3.875 | AH74: 57 | AI74: 7.125 | AJ74: 3 | AK74: 0.375 | AL74: 179 | AM74: 22.375 | AN74: 152 | AO74: 19 | AP74: 487 | AQ74: 60.875 | AR74: 76 | AS74: 9.5
A75: ='Incentive Goal'!A75 -> PAMLICO | B75: 6 | C75: 1 | D75: 1.33 | E75: 390 | F75: 390 | G75: 7 | H75: 0.14285714 | I75: 4 | J75: 0.25 | K75: 165522.3 | L75: 165522.3 | M75: 124452.86 | N75: 2517 | O75: 2517 | P75: 5 | Q75: 5 | R75: 68 | S75: 68 | T75: 0 | U75: 0 | V75: 0 | W75: 0 | X75: 8 | Y75: 8 | Z75: 3 | AA75: 3 | AB75: 5 | AC75: 5 | AD75: 0 | AE75: 0 | AF75: 4 | AG75: 4 | AH75: 8 | AI75: 8 | AJ75: 2 | AK75: 2 | AL75: 33 | AM75: 33 | AN75: 103 | AO75: 103 | AP75: 15 | AQ75: 15 | AR75: 32 | AS75: 32
A76: ='Incentive Goal'!A76 -> PASQUOTANK | B76: 7 | C76: 4 | D76: 4.75 | E76: 1718 | F76: 429.5 | G76: 37 | H76: 0.10810811 | I76: 13 | J76: 0.30769231 | K76: 937918.75 | L76: 234479.69 | M76: 197456.58 | N76: 14215 | O76: 3553.75 | P76: 66 | Q76: 16.5 | R76: 180 | S76: 45 | T76: 12 | U76: 3 | V76: 12 | W76: 3 | X76: 56 | Y76: 14 | Z76: 37 | AA76: 9.25 | AB76: 22 | AC76: 5.5 | AD76: 3 | AE76: 0.75 | AF76: 17 | AG76: 4.25 | AH76: 73 | AI76: 18.25 | AJ76: 3 | AK76: 0.75 | AL76: 91 | AM76: 22.75 | AN76: 402 | AO76: 100.5 | AP76: 300 | AQ76: 75 | AR76: 71 | AS76: 17.75
A77: ='Incentive Goal'!A77 -> PENDER | B77: 6 | C77: 3 | D77: 5.75 | E77: 1280 | F77: 426.66667 | G77: 28 | H77: 0.10714286 | I77: 29 | J77: 0.10344828 | K77: 888579.75 | L77: 296193.25 | M77: 154535.61 | N77: 7053 | O77: 2351 | P77: 60 | Q77: 20 | R77: 91 | S77: 30.333333 | T77: 1 | U77: 0.33333333 | V77: 1 | W77: 0.33333333 | X77: 30 | Y77: 10 | Z77: 12 | AA77: 4 | AB77: 26 | AC77: 8.6666667 | AD77: 10 | AE77: 3.3333333 | AF77: 24 | AG77: 8 | AH77: 39 | AI77: 13 | AJ77: 9 | AK77: 3 | AL77: 176 | AM77: 58.666667 | AN77: 174 | AO77: 58 | AP77: 189 | AQ77: 63 | AR77: 58 | AS77: 19.333333
A78: ='Incentive Goal'!A78 -> PERQUIMANS | B78: 7 | C78: 0.5 | D78: 1.25 | E78: 420 | F78: 840 | G78: 13 | H78: 0.038461538 | I78: 5 | J78: 0.1 | K78: 236195.2 | L78: 472390.4 | M78: 188956.16 | N78: 38 | O78: 76 | P78: 0 | Q78: 0 | R78: 0 | S78: 0 | T78: 0 | U78: 0 | V78: 0 | W78: 0 | X78: 0 | Y78: 0 | Z78: 0 | AA78: 0 | AB78: 0 | AC78: 0 | AD78: 0 | AE78: 0 | AF78: 0 | AG78: 0 | AH78: 0 | AI78: 0 | AJ78: 1 | AK78: 2 | AL78: 30 | AM78: 60 | AN78: 0 | AO78: 0 | AP78: 0 | AQ78: 0 | AR78: 16 | AS78: 32
A79: ='Incentive Goal'!A79 -> PERSON | B79: 3 | C79: 6 | D79: 9 | E79: 1535 | F79: 255.83333 | G79: 26 | H79: 0.23076923 | I79: 23 | J79: 0.26086957 | K79: 724224.92 | L79: 120704.15 | M79: 80469.436 | N79: 9519 | O79: 1586.5 | P79: 47 | Q79: 7.8333333 | R79: 1351 | S79: 225.16667 | T79: 113 | U79: 18.833333 | V79: 3 | W79: 0.5 | X79: 27 | Y79: 4.5 | Z79: 25 | AA79: 4.1666667 | AB79: 21 | AC79: 3.5 | AD79: 0 | AE79: 0 | AF79: 18 | AG79: 3 | AH79: 16 | AI79: 2.6666667 | AJ79: 5 | AK79: 0.83333333 | AL79: 164 | AM79: 27.333333 | AN79: 362 | AO79: 60.333333 | AP79: 332 | AQ79: 55.333333 | AR79: 245 | AS79: 40.833333
A80: ='Incentive Goal'!A80 -> PITT | B80: 5 | C80: 21 | D80: 30 | E80: 8541 | F80: 406.71429 | G80: 120 | H80: 0.175 | I80: 131 | J80: 0.16030534 | K80: 3508987.3 | L80: 167094.63 | M80: 116966.24 | N80: 41061 | O80: 1955.2857 | P80: 176 | Q80: 8.3809524 | R80: 4265 | S80: 203.09524 | T80: 296 | U80: 14.095238 | V80: 343 | W80: 16.333333 | X80: 117 | Y80: 5.5714286 | Z80: 563 | AA80: 26.809524 | AB80: 95 | AC80: 4.5238095 | AD80: 421 | AE80: 20.047619 | AF80: 94 | AG80: 4.4761905 | AH80: 169 | AI80: 8.047619 | AJ80: 23 | AK80: 1.0952381 | AL80: 1185 | AM80: 56.428571 | AN80: 1539 | AO80: 73.285714 | AP80: 3146 | AQ80: 149.80952 | AR80: 468 | AS80: 22.285714
A81: ='Incentive Goal'!A81 -> POLK | B81: 1 | C81: 1 | D81: 0.1 | E81: 262 | F81: 262 | G81: 7 | H81: 0.14285714 | I81: 3 | J81: 0.33333333 | K81: 152032.02 | L81: 152032.02 | M81: 1520320.2 | N81: 1778 | O81: 1778 | P81: 20 | Q81: 20 | R81: 48 | S81: 48 | T81: 0 | U81: 0 | V81: 0 | W81: 0 | X81: 5 | Y81: 5 | Z81: 4 | AA81: 4 | AB81: 3 | AC81: 3 | AD81: 1 | AE81: 1 | AF81: 2 | AG81: 2 | AH81: 4 | AI81: 4 | AJ81: 1 | AK81: 1 | AL81: 44 | AM81: 44 | AN81: 46 | AO81: 46 | AP81: 35 | AQ81: 35 | AR81: 29 | AS81: 29
A82: ='Incentive Goal'!A82 -> RANDOLPH | B82: 3 | C82: 11 | D82: 15.5 | E82: 3268 | F82: 297.09091 | G82: 63 | H82: 0.17460317 | I82: 32 | J82: 0.34375 | K82: 1916520.9 | L82: 174229.17 | M82: 123646.51 | N82: 19180 | O82: 1743.6364 | P82: 79 | Q82: 7.1818182 | R82: 351 | S82: 31.909091 | T82: 12 | U82: 1.0909091 | V82: 16 | W82: 1.4545455 | X82: 65 | Y82: 5.9090909 | Z82: 61 | AA82: 5.5454545 | AB82: 32 | AC82: 2.9090909 | AD82: 3 | AE82: 0.27272727 | AF82: 30 | AG82: 2.7272727 | AH82: 86 | AI82: 7.8181818 | AJ82: 5 | AK82: 0.45454545 | AL82: 379 | AM82: 34.454545 | AN82: 486 | AO82: 44.181818 | AP82: 767 | AQ82: 69.727273 | AR82: 265 | AS82: 24.090909
A83: ='Incentive Goal'!A83 -> RICHMOND | B83: 4 | C83: 7.75 | D83: 11 | E83: 3631 | F83: 468.51613 | G83: 50 | H83: 0.155 | I83: 38 | J83: 0.20394737 | K83: 1222899.2 | L83: 157793.45 | M83: 111172.65 | N83: 25591 | O83: 3302.0645 | P83: 93 | Q83: 12 | R83: 603 | S83: 77.806452 | T83: 33 | U83: 4.2580645 | V83: 18 | W83: 2.3225806 | X83: 49 | Y83: 6.3225806 | Z83: 63 | AA83: 8.1290323 | AB83: 33 | AC83: 4.2580645 | AD83: 2 | AE83: 0.25806452 | AF83: 29 | AG83: 3.7419355 | AH83: 40 | AI83: 5.1612903 | AJ83: 10 | AK83: 1.2903226 | AL83: 472 | AM83: 60.903226 | AN83: 484 | AO83: 62.451613 | AP83: 3460 | AQ83: 446.45161 | AR83: 166 | AS83: 21.419355
A84: ='Incentive Goal'!A84 -> ROBESON | B84: 4 | C84: 25 | D84: 31 | E84: 7323 | F84: 292.92 | G84: 185 | H84: 0.13513514 | I84: 136 | J84: 0.18382353 | K84: 2897206 | L84: 115888.24 | M84: 93458.258 | N84: 51229 | O84: 2049.16 | P84: 305 | Q84: 12.2 | R84: 745 | S84: 29.8 | T84: 40 | U84: 1.6 | V84: 53 | W84: 2.12 | X84: 190 | Y84: 7.6 | Z84: 122 | AA84: 4.88 | AB84: 112 | AC84: 4.48 | AD84: 117 | AE84: 4.68 | AF84: 75 | AG84: 3 | AH84: 350 | AI84: 14 | AJ84: 7 | AK84: 0.28 | AL84: 766 | AM84: 30.64 | AN84: 691 | AO84: 27.64 | AP84: 1729 | AQ84: 69.16 | AR84: 320 | AS84: 12.8
... A106: ='Incentive Goal'!A106 -> YANCEY | B106: 1 | C106: 0.75 | D106: 1 | E106: 311 | F106: 414.66667 | G106: 10 | H106: 0.075 | I106: 10 | J106: 0.075 | K106: 186552.82 | L106: 248737.09 | M106: 186552.82 | N106: 1497 | O106: 1996 | P106: 10 | Q106: 13.333333 | R106: 121 | S106: 161.33333 | T106: 7 | U106: 9.3333333 | V106: 2 | W106: 2.6666667 | X106: 10 | Y106: 13.333333 | Z106: 11 | AA106: 14.666667 | AB106: 9 | AC106: 12 | AD106: 0 | AE106: 0 | AF106: 3 | AG106: 4 | AH106: 5 | AI106: 6.6666667 | AJ106: 0 | AK106: 0 | AL106: 24 | AM106: 32 | AN106: 36 | AO106: 48 | AP106: 27 | AQ106: 36 | AR106: 8 | AS106: 10.666667
A107: Filtered total | C107: 858.13 | D107: 1287.37 | E107: 289995 | F107: 337.93831 | G107: 5370 | H107: 0.15980074 | I107: 4091 | J107: 0.20976045 | K107: 1.5279809e+08 | L107: 178059.37 | M107: 118690.11 | N107: 1822835 | O107: 2124.1945 | P107: 10986 | Q107: 12.802256 | R107: 88613 | S107: 103.26291 | T107: 8417 | U107: 9.8085372 | V107: 2279 | W107: 2.6557748 | X107: 5500 | Y107: 6.4092853 | Z107: 5938 | AA107: 6.9196975 | AB107: 3567 | AC107: 4.1567129 | AD107: 4138 | AE107: 4.8221132 | AF107: 2892 | AG107: 3.3701187 | AH107: 7641 | AI107: 8.9042453 | AJ107: 794 | AK107: 0.92526773 | AL107: 37347 | AM107: 43.521378 | AN107: 39315 | AO107: 45.814737 | AP107: 105908 | AQ107: 123.4172 | AR107: 15702 | AS107: 18.297927
A108: Edgecombe Tot | B108: 5 | C108: 10 | D108: 15 | E108: 3881 | F108: 388.1 | G108: 45 | H108: 0.22222222 | I108: 13 | J108: 0.76923077 | K108: 1085503.4 | L108: 108550.34 | M108: 72366.893 | N108: 24847 | O108: 2484.7 | P108: 129 | Q108: 12.9 | R108: 1292 | S108: 129.2 | T108: 54 | U108: 5.4 | V108: 31 | W108: 3.1 | X108: 43 | Y108: 4.3 | Z108: 58 | AA108: 5.8 | AB108: 13 | AC108: 1.3 | AD108: 6 | AE108: 0.6 | AF108: 35 | AG108: 3.5 | AH108: 83 | AI108: 8.3 | AJ108: 0 | AK108: 0 | AL108: 300 | AM108: 30 | AN108: 644 | AO108: 64.4 | AP108: 836 | AQ108: 83.6 | AR108: 172 | AS108: 17.2
A109: Guilford Tot | B109: 3 | C109: 38 | D109: 83 | E109: 15421 | F109: 405.81579 | G109: 245 | H109: 0.15510204 | I109: 227 | J109: 0.16740088 | K109: 7861815.8 | L109: 206889.89 | M109: 94720.673 | N109: 92602 | O109: 2436.8947 | P109: 566 | Q109: 14.894737 | R109: 1533 | S109: 40.342105 | T109: 49 | U109: 1.2894737 | V109: 147 | W109: 3.8684211 | X109: 255 | Y109: 6.7105263 | Z109: 319 | AA109: 8.3947368 | AB109: 202 | AC109: 5.3157895 | AD109: 718 | AE109: 18.894737 | AF109: 151 | AG109: 3.9736842 | AH109: 448 | AI109: 11.789474 | AJ109: 46 | AK109: 1.2105263 | AL109: 2212 | AM109: 58.210526 | AN109: 1525 | AO109: 40.131579 | AP109: 13989 | AQ109: 368.13158 | AR109: 363 | AS109: 9.5526316
A110: STATEWIDE | C110: 858.13 | D110: 1287.37 | E110: 289995 | F110: 337.93831 | G110: 5370 | H110: 0.15980074 | I110: 4091 | J110: 0.20976045 | K110: 1.5279809e+08 | L110: 178059.37 | M110: 118690.11 | N110: 1822835 | O110: 2124.1945 | P110: 10986 | Q110: 12.802256 | R110: 88613 | S110: 103.26291 | T110: 8417 | U110: 9.8085372 | V110: 2279 | W110: 2.6557748 | X110: 5500 | Y110: 6.4092853 | Z110: 5938 | AA110: 6.9196975 | AB110: 3567 | AC110: 4.1567129 | AD110: 4138 | AE110: 4.8221132 | AF110: 2892 | AG110: 3.3701187 | AH110: 7641 | AI110: 8.9042453 | AJ110: 794 | AK110: 0.92526773 | AL110: 37347 | AM110: 43.521378 | AN110: 39315 | AO110: 45.814737 | AP110: 105908 | AQ110: 123.4172 | AR110: 15702 | AS110: 18.297927

Sheet Staffing Report
A1: QUARTERLY TOTAL STAFFING | C1: 4th Qtr 09/30/2026 | E1: IV-D SUPERVISORS | I1: IV-D AGENTS | M1: IV-D CLERICAL/ADMIN | Q1: IV-D ATTY / PARALEGAL / OTHER | U1: TOTAL ALL COUNTY POSITIONS | Y1: TOTAL FILLED STAFF IV-D SERVICES FTE | Z1: CONTRACT FTE's | AA1: Description for Contract FTEs
A2: DSS PRIVATE COUNTY MANAGER | B2: CQI Specialist | C2: County | D2: Region | E2: Total Authorized Supervisor Positions | F2: Total Positions Currently Frozen (Not Available for Hiring) | G2: Total Vacant Positions on Last Day of the Quarter | H2: Total Supervisors Active on Last Day of Quarter | I2: Total Authorized IV-D Agent Positions | J2: Total Positions Currently Frozen (Not Available for Hiring) | K2: Total Vacant Positions on Last Day of the Quarter | L2: Total IV-D Agents Active on Last Day of Quarter | M2: Total Authorized IV-D Clerical / Admin Positions | N2: Total Positions Currently Frozen (Not Available for Hiring) | O2: Total Vacant Positions on Last Day of the Quarter | P2: Total IV-D Clerical / Admin Staff Active on Last Day of Quarter | Q2: Total Authorized IV-D Atty / Paralegal / Other Positions | R2: Total Positions Currently Frozen (Not Available for Hiring) | S2: Total Vacant Positions on Last Day of the Quarter | T2: Total IV-D Atty / Paralegal / Other Staff Active on Last Day of Quarter | U2: Total Authorized All IV-D Positions | V2: Total Positions Currently Frozen (Not Available for Hiring) | W2: Total Vacant Positions on Last Day of the Quarter | X2: Total Staff Active on Last Day of Quarter
A3: DSS/OTHER | B3: Newsome, Kenya | C3: ALAMANCE | D3: 3 | E3: 3 | F3: 0 | G3: 0 | H3: =E3-F3-G3 -> 3 | I3: 13 | J3: 0 | K3: 0 | L3: =I3-J3-K3 -> 13 | M3: 3 | N3: 0 | O3: 0 | P3: =M3-N3-O3 -> 3 | Q3: 3 | R3: 0 | S3: 0 | T3: =Q3-R3-S3 -> 3 | U3: =SUM(E3,I3,M3,Q3) -> 22 | V3: =SUM(F3,J3,N3,R3,) -> 0 | W3: =SUM(G3,K3,O3,S3,) -> 0 | X3: =U3-V3-W3 -> 22 | Y3: =X3 -> 22 | Z3: 1 | AA3: DeputY
A4: DSS/OTHER | B4: Loftin, Angela | C4: ALEXANDER | D4: 2 | E4: 1 | F4: 0 | G4: 0 | H4: =E4-F4-G4 -> 1 | I4: 4.5 | J4: 0 | K4: 1 | L4: =I4-J4-K4 -> 3.5 | M4: 0 | N4: 0 | O4: 0 | P4: =M4-N4-O4 -> 0 | Q4: 0.25 | R4: 0 | S4: 0 | T4: =Q4-R4-S4 -> 0.25 | U4: =SUM(E4,I4,M4,Q4) -> 5.75 | V4: =SUM(F4,J4,N4,R4,) -> 0 | W4: =SUM(G4,K4,O4,S4,) -> 1 | X4: =U4-V4-W4 -> 4.75 | Y4: =X4 -> 4.75 | Z4: 0
A5: DSS/OTHER | B5: Loftin, Angela | C5: ALLEGHANY | D5: 2 | E5: 1 | F5: 0 | G5: 0 | H5: =E5-F5-G5 -> 1 | I5: 1 | J5: 0 | K5: 1 | L5: =I5-J5-K5 -> 0 | M5: 0 | N5: 0 | O5: 0 | P5: =M5-N5-O5 -> 0 | Q5: 0 | R5: 0 | S5: 0 | T5: =Q5-R5-S5 -> 0 | U5: =SUM(E5,I5,M5,Q5) -> 2 | V5: =SUM(F5,J5,N5,R5,) -> 0 | W5: =SUM(G5,K5,O5,S5,) -> 1 | X5: =U5-V5-W5 -> 1 | Y5: =X5 -> 1 | Z5: 0
A6: DSS/OTHER | B6: Hasty, Laurie | C6: ANSON | D6: 4 | E6: 1.25 | F6: 0 | G6: 0 | H6: =E6-F6-G6 -> 1.25 | I6: 4.75 | J6: 0 | K6: 1 | L6: =I6-J6-K6 -> 3.75 | M6: 1 | N6: 0 | O6: 0 | P6: =M6-N6-O6 -> 1 | Q6: 0 | R6: 0 | S6: 0 | T6: =Q6-R6-S6 -> 0 | U6: =SUM(E6,I6,M6,Q6) -> 7 | V6: =SUM(F6,J6,N6,R6,) -> 0 | W6: =SUM(G6,K6,O6,S6,) -> 1 | X6: =U6-V6-W6 -> 6 | Y6: =X6 -> 6 | Z6: 1.5 | AA6: 1 Attorney, .5 Deputy
A7: DSS/OTHER | B7: Loftin, Angela | C7: ASHE | D7: 2 | E7: 1 | F7: 0 | G7: 0 | H7: =E7-F7-G7 -> 1 | I7: 4 | J7: 0 | K7: 1 | L7: =I7-J7-K7 -> 3 | M7: 0 | N7: 0 | O7: 0 | P7: =M7-N7-O7 -> 0 | Q7: 0.25 | R7: 0 | S7: 0 | T7: =Q7-R7-S7 -> 0.25 | U7: =SUM(E7,I7,M7,Q7) -> 5.25 | V7: =SUM(F7,J7,N7,R7,) -> 0 | W7: =SUM(G7,K7,O7,S7,) -> 1 | X7: =U7-V7-W7 -> 4.25 | Y7: =X7 -> 4.25 | Z7: 0
A8: DSS/OTHER | B8: Loftin, Angela | C8: AVERY | D8: 2 | E8: 1 | F8: 0 | G8: 0 | H8: =E8-F8-G8 -> 1 | I8: 1 | J8: 0 | K8: 0 | L8: =I8-J8-K8 -> 1 | M8: 0 | N8: 0 | O8: 0 | P8: =M8-N8-O8 -> 0 | Q8: 0 | R8: 0 | S8: 0 | T8: =Q8-R8-S8 -> 0 | U8: =SUM(E8,I8,M8,Q8) -> 2 | V8: =SUM(F8,J8,N8,R8,) -> 0 | W8: =SUM(G8,K8,O8,S8,) -> 0 | X8: =U8-V8-W8 -> 2 | Y8: =X8 -> 2 | Z8: 0
A9: Private | B9: Smith, Omia | C9: BEAUFORT | D9: 7 | E9: 1 | F9: 0 | G9: 0 | H9: =E9-F9-G9 -> 1 | I9: 5 | J9: 0 | K9: 0 | L9: =I9-J9-K9 -> 5 | M9: 1 | N9: 0 | O9: 1 | P9: =M9-N9-O9 -> 0 | Q9: 0 | R9: 0 | S9: 0 | T9: =Q9-R9-S9 -> 0 | U9: =SUM(E9,I9,M9,Q9) -> 7 | V9: =SUM(F9,J9,N9,R9,) -> 0 | W9: =SUM(G9,K9,O9,S9,) -> 1 | X9: =U9-V9-W9 -> 6 | Y9: =X9 -> 6 | Z9: 0.1 | AA9: Attorney
A10: Private | B10: Smith, Omia | C10: BERTIE | D10: 7 | E10: 0.5 | F10: 0 | G10: 0 | H10: =E10-F10-G10 -> 0.5 | I10: 3 | J10: 0 | K10: 0 | L10: =I10-J10-K10 -> 3 | M10: 0 | N10: 0 | O10: 0 | P10: =M10-N10-O10 -> 0 | Q10: 0 | R10: 0 | S10: 0 | T10: =Q10-R10-S10 -> 0 | U10: =SUM(E10,I10,M10,Q10) -> 3.5 | V10: =SUM(F10,J10,N10,R10,) -> 0 | W10: =SUM(G10,K10,O10,S10,) -> 0 | X10: =U10-V10-W10 -> 3.5 | Y10: =X10 -> 3.5 | Z10: 0.1 | AA10: Attorney
A11: DSS/OTHER | B11: Foreman, Cora | C11: BLADEN | D11: 6 | E11: 1 | F11: 0 | G11: 0 | H11: =E11-F11-G11 -> 1 | I11: 6 | J11: 0 | K11: 1 | L11: =I11-J11-K11 -> 5 | M11: 1 | N11: 0 | O11: 0 | P11: =M11-N11-O11 -> 1 | Q11: 0 | R11: 0 | S11: 0 | T11: =Q11-R11-S11 -> 0 | U11: =SUM(E11,I11,M11,Q11) -> 8 | V11: =SUM(F11,J11,N11,R11,) -> 0 | W11: =SUM(G11,K11,O11,S11,) -> 1 | X11: =U11-V11-W11 -> 7 | Y11: =X11 -> 7 | Z11: 2.6 | AA11: .10 attorney + 2.5 Deputies
A12: DSS/OTHER | B12: Foreman, Cora | C12: BRUNSWICK | D12: 6 | E12: 1.25 | F12: 0 | G12: 0 | H12: =E12-F12-G12 -> 1.25 | I12: 10.75 | J12: 0 | K12: 1 | L12: =I12-J12-K12 -> 9.75 | M12: 2 | N12: 0 | O12: 1 | P12: =M12-N12-O12 -> 1 | Q12: 0 | R12: 0 | S12: 0 | T12: =Q12-R12-S12 -> 0 | U12: =SUM(E12,I12,M12,Q12) -> 14 | V12: =SUM(F12,J12,N12,R12,) -> 0 | W12: =SUM(G12,K12,O12,S12,) -> 2 | X12: =U12-V12-W12 -> 12 | Y12: =X12 -> 12 | Z12: 0.25 | AA12: contract attorney
A13: Private | B13: Jenkins, Pamela | C13: BUNCOMBE | D13: 1 | E13: 3 | F13: 0 | G13: 0 | H13: =E13-F13-G13 -> 3 | I13: 10 | J13: 2 | K13: 1 | L13: =I13-J13-K13 -> 7 | M13: 4 | N13: 0 | O13: 0 | P13: =M13-N13-O13 -> 4 | Q13: 1.5 | R13: 0 | S13: 1 | T13: =Q13-R13-S13 -> 0.5 | U13: =SUM(E13,I13,M13,Q13) -> 18.5 | V13: =SUM(F13,J13,N13,R13,) -> 2 | W13: =SUM(G13,K13,O13,S13,) -> 2 | X13: =U13-V13-W13 -> 14.5 | Y13: =X13 -> 14.5 | Z13: 0 | AA13: 3 Supervisors, 10 unfrozen staff, two vacancies, 4 Clerical, 1.5 attorneys
A14: Private | B14: Loftin, Angela | C14: BURKE | D14: 2 | E14: 2 | F14: 0 | G14: 0 | H14: =E14-F14-G14 -> 2 | I14: 5 | J14: 0 | K14: 0 | L14: =I14-J14-K14 -> 5 | M14: 1 | N14: 0 | O14: 0 | P14: =M14-N14-O14 -> 1 | Q14: 0 | R14: 0 | S14: 0 | T14: =Q14-R14-S14 -> 0 | U14: =SUM(E14,I14,M14,Q14) -> 8 | V14: =SUM(F14,J14,N14,R14,) -> 0 | W14: =SUM(G14,K14,O14,S14,) -> 0 | X14: =U14-V14-W14 -> 8 | Y14: =X14 -> 8 | Z14: 0
A15: County Manager | B15: Hasty, Laurie | C15: CABARRUS | D15: 4 | E15: 4.25 | F15: 0 | G15: 0 | H15: =E15-F15-G15 -> 4.25 | I15: 16.75 | J15: 0 | K15: 0 | L15: =I15-J15-K15 -> 16.75 | M15: 3 | N15: 0 | O15: 0 | P15: =M15-N15-O15 -> 3 | Q15: 0.5 | R15: 0 | S15: 0 | T15: =Q15-R15-S15 -> 0.5 | U15: =SUM(E15,I15,M15,Q15) -> 24.5 | V15: =SUM(F15,J15,N15,R15,) -> 0 | W15: =SUM(G15,K15,O15,S15,) -> 0 | X15: =U15-V15-W15 -> 24.5 | Y15: =X15 -> 24.5 | Z15: 2.05 | AA15: Attorney (.25), Depities (1.6) P.I. (.20)
A16: DSS/OTHER | B16: Loftin, Angela | C16: CALDWELL | D16: 2 | E16: 1.25 | F16: 0 | G16: 0 | H16: =E16-F16-G16 -> 1.25 | I16: 6.75 | J16: 0 | K16: 0 | L16: =I16-J16-K16 -> 6.75 | M16: 1 | N16: 0 | O16: 0 | P16: =M16-N16-O16 -> 1 | Q16: 0 | R16: 0 | S16: 0 | T16: =Q16-R16-S16 -> 0 | U16: =SUM(E16,I16,M16,Q16) -> 9 | V16: =SUM(F16,J16,N16,R16,) -> 0 | W16: =SUM(G16,K16,O16,S16,) -> 0 | X16: =U16-V16-W16 -> 9 | Y16: =X16 -> 9 | Z16: 1 | AA16: Attorney
A17: Private | B17: Smith, Omia | C17: CAMDEN | D17: 7 | E17: 0.5 | F17: 0 | G17: 0 | H17: =E17-F17-G17 -> 0.5 | I17: 0.5 | J17: 0 | K17: 0 | L17: =I17-J17-K17 -> 0.5 | M17: 0.5 | N17: 0.25 | O17: 0 | P17: =M17-N17-O17 -> 0.25 | Q17: 0 | R17: 0 | S17: 0 | T17: =Q17-R17-S17 -> 0 | U17: =SUM(E17,I17,M17,Q17) -> 1.5 | V17: =SUM(F17,J17,N17,R17,) -> 0.25 | W17: =SUM(G17,K17,O17,S17,) -> 0 | X17: =U17-V17-W17 -> 1.25 | Y17: =X17 -> 1.25 | Z17: 0.1 | AA17: Attorney
A18: DSS/OTHER | B18: Foreman, Cora | C18: CARTERET | D18: 6 | E18: 1 | F18: 0 | G18: 0 | H18: =E18-F18-G18 -> 1 | I18: 4 | J18: 0 | K18: 0 | L18: =I18-J18-K18 -> 4 | M18: 1 | N18: 0 | O18: 0 | P18: =M18-N18-O18 -> 1 | Q18: 1 | R18: 0 | S18: 0 | T18: =Q18-R18-S18 -> 1 | U18: =SUM(E18,I18,M18,Q18) -> 7 | V18: =SUM(F18,J18,N18,R18,) -> 0 | W18: =SUM(G18,K18,O18,S18,) -> 0 | X18: =U18-V18-W18 -> 7 | Y18: =X18 -> 7 | Z18: 0
A19: DSS/OTHER | B19: Newsome, Kenya | C19: CASWELL | D19: 3 | E19: 0.33 | F19: 0 | G19: 0 | H19: =E19-F19-G19 -> 0.33 | I19: 3 | J19: 0 | K19: 1 | L19: =I19-J19-K19 -> 2 | M19: 1 | N19: 0 | O19: 0 | P19: =M19-N19-O19 -> 1 | Q19: 0 | R19: 0 | S19: 0 | T19: =Q19-R19-S19 -> 0 | U19: =SUM(E19,I19,M19,Q19) -> 4.33 | V19: =SUM(F19,J19,N19,R19,) -> 0 | W19: =SUM(G19,K19,O19,S19,) -> 1 | X19: =U19-V19-W19 -> 3.33 | Y19: =X19 -> 3.33 | Z19: 1 | AA19: Attorney
A20: DSS/OTHER | B20: Loftin, Angela | C20: CATAWBA | D20: 2 | E20: 3 | F20: 0 | G20: 0 | H20: =E20-F20-G20 -> 3 | I20: 18 | J20: 0 | K20: 0 | L20: =I20-J20-K20 -> 18 | M20: 3 | N20: 0 | O20: 0 | P20: =M20-N20-O20 -> 3 | Q20: 0 | R20: 0 | S20: 0 | T20: =Q20-R20-S20 -> 0 | U20: =SUM(E20,I20,M20,Q20) -> 24 | V20: =SUM(F20,J20,N20,R20,) -> 0 | W20: =SUM(G20,K20,O20,S20,) -> 0 | X20: =U20-V20-W20 -> 24 | Y20: =X20 -> 24 | Z20: 1 | AA20: Attorney (DSS Shared)
A21: DSS/OTHER | B21: Newsome, Kenya | C21: CHATHAM | D21: 3 | E21: 1 | F21: 0 | G21: 0 | H21: =E21-F21-G21 -> 1 | I21: 4 | J21: 0 | K21: 0 | L21: =I21-J21-K21 -> 4 | M21: 0 | N21: 0 | O21: 0 | P21: =M21-N21-O21 -> 0 | Q21: 0 | R21: 0 | S21: 0 | T21: =Q21-R21-S21 -> 0 | U21: =SUM(E21,I21,M21,Q21) -> 5 | V21: =SUM(F21,J21,N21,R21,) -> 0 | W21: =SUM(G21,K21,O21,S21,) -> 0 | X21: =U21-V21-W21 -> 5 | Y21: =X21 -> 5 | Z21: 0
A22: DSS/OTHER | B22: Jenkins, Pamela | C22: CHEROKEE | D22: 1 | E22: 1 | F22: 0 | G22: 0 | H22: =E22-F22-G22 -> 1 | I22: 1 | J22: 0 | K22: 0 | L22: =I22-J22-K22 -> 1 | M22: 0 | N22: 0 | O22: 0 | P22: =M22-N22-O22 -> 0 | Q22: 0.1 | R22: 0 | S22: 0 | T22: =Q22-R22-S22 -> 0.1 | U22: =SUM(E22,I22,M22,Q22) -> 2.1 | V22: =SUM(F22,J22,N22,R22,) -> 0 | W22: =SUM(G22,K22,O22,S22,) -> 0 | X22: =U22-V22-W22 -> 2.1 | Y22: =X22 -> 2.1 | Z22: 0.1 | AA22: 1 Supervisor, 1 Agent, part-time contract attorney 0.10 currently being used.
A23: Private | B23: Smith, Omia | C23: CHOWAN | D23: 7 | E23: 1 | F23: 0 | G23: 0 | H23: =E23-F23-G23 -> 1 | I23: 3 | J23: 0 | K23: 0 | L23: =I23-J23-K23 -> 3 | M23: 0 | N23: 0 | O23: 0 | P23: =M23-N23-O23 -> 0 | Q23: 0 | R23: 0 | S23: 0 | T23: =Q23-R23-S23 -> 0 | U23: =SUM(E23,I23,M23,Q23) -> 4 | V23: =SUM(F23,J23,N23,R23,) -> 0 | W23: =SUM(G23,K23,O23,S23,) -> 0 | X23: =U23-V23-W23 -> 4 | Y23: =X23 -> 4 | Z23: 0.5 | AA23: Attorney
A24: DSS/OTHER | B24: Jenkins, Pamela | C24: CLAY | D24: 1 | E24: 0.1 | F24: 0 | G24: 0 | H24: =E24-F24-G24 -> 0.1 | I24: 1 | J24: 0 | K24: 0 | L24: =I24-J24-K24 -> 1 | M24: 0 | N24: 0 | O24: 0 | P24: =M24-N24-O24 -> 0 | Q24: 0 | R24: 0 | S24: 0 | T24: =Q24-R24-S24 -> 0 | U24: =SUM(E24,I24,M24,Q24) -> 1.1 | V24: =SUM(F24,J24,N24,R24,) -> 0 | W24: =SUM(G24,K24,O24,S24,) -> 0 | X24: =U24-V24-W24 -> 1.1 | Y24: =X24 -> 1.1 | Z24: 0.1 | AA24: Attorney is contract and not included.
A25: DSS/OTHER | B25: Loftin, Angela | C25: CLEVELAND | D25: 2 | E25: 3 | F25: 0 | G25: 0 | H25: =E25-F25-G25 -> 3 | I25: 14 | J25: 0 | K25: 0 | L25: =I25-J25-K25 -> 14 | M25: 1 | N25: 0 | O25: 0 | P25: =M25-N25-O25 -> 1 | Q25: 1 | R25: 0 | S25: 0 | T25: =Q25-R25-S25 -> 1 | U25: =SUM(E25,I25,M25,Q25) -> 19 | V25: =SUM(F25,J25,N25,R25,) -> 0 | W25: =SUM(G25,K25,O25,S25,) -> 0 | X25: =U25-V25-W25 -> 19 | Y25: =X25 -> 19 | Z25: 0
A26: DSS/OTHER | B26: Foreman, Cora | C26: COLUMBUS | D26: 6 | E26: 3 | F26: 0 | G26: 0 | H26: =E26-F26-G26 -> 3 | I26: 12 | J26: 3 | K26: 0 | L26: =I26-J26-K26 -> 9 | M26: 1 | N26: 0 | O26: 0 | P26: =M26-N26-O26 -> 1 | Q26: 1 | R26: 0 | S26: 0 | T26: =Q26-R26-S26 -> 1 | U26: =SUM(E26,I26,M26,Q26) -> 17 | V26: =SUM(F26,J26,N26,R26,) -> 3 | W26: =SUM(G26,K26,O26,S26,) -> 0 | X26: =U26-V26-W26 -> 14 | Y26: =X26 -> 14 | Z26: 0.5 | AA26: Attorney
A27: Private | B27: Foreman, Cora | C27: CRAVEN | D27: 6 | E27: 1 | F27: 0 | G27: 0 | H27: =E27-F27-G27 -> 1 | I27: 9 | J27: 0 | K27: 1 | L27: =I27-J27-K27 -> 8 | M27: 0 | N27: 0 | O27: 0 | P27: =M27-N27-O27 -> 0 | Q27: 0 | R27: 0 | S27: 0 | T27: =Q27-R27-S27 -> 0 | U27: =SUM(E27,I27,M27,Q27) -> 10 | V27: =SUM(F27,J27,N27,R27,) -> 0 | W27: =SUM(G27,K27,O27,S27,) -> 1 | X27: =U27-V27-W27 -> 9 | Y27: =X27 -> 9 | Z27: 1 | AA27: Attorney
A28: County Manager | B28: Foreman, Cora | C28: CUMBERLAND | D28: 6 | E28: 9 | F28: 0 | G28: 0 | H28: =E28-F28-G28 -> 9 | I28: 44 | J28: 0 | K28: 1 | L28: =I28-J28-K28 -> 43 | M28: 17.5 | N28: 0 | O28: 2 | P28: =M28-N28-O28 -> 15.5 | Q28: 5 | R28: 0 | S28: 0 | T28: =Q28-R28-S28 -> 5 | U28: =SUM(E28,I28,M28,Q28) -> 75.5 | V28: =SUM(F28,J28,N28,R28,) -> 0 | W28: =SUM(G28,K28,O28,S28,) -> 3 | X28: =U28-V28-W28 -> 72.5 | Y28: =X28 -> 72.5 | Z28: 5.5 | AA28: contract deputies
A29: Private | B29: Smith, Omia | C29: CURRITUCK | D29: 7 | E29: 0.5 | F29: 0 | G29: 0 | H29: =E29-F29-G29 -> 0.5 | I29: 2 | J29: 0 | K29: 0 | L29: =I29-J29-K29 -> 2 | M29: 0 | N29: 0 | O29: 0 | P29: =M29-N29-O29 -> 0 | Q29: 0 | R29: 0 | S29: 0 | T29: =Q29-R29-S29 -> 0 | U29: =SUM(E29,I29,M29,Q29) -> 2.5 | V29: =SUM(F29,J29,N29,R29,) -> 0 | W29: =SUM(G29,K29,O29,S29,) -> 0 | X29: =U29-V29-W29 -> 2.5 | Y29: =X29 -> 2.5 | Z29: 0.5 | AA29: Attorney
A30: Private | B30: Smith, Omia | C30: DARE | D30: 7 | E30: 0.5 | F30: 0 | G30: 0 | H30: =E30-F30-G30 -> 0.5 | I30: 1 | J30: 0 | K30: 1 | L30: =I30-J30-K30 -> 0 | M30: 0 | N30: 0 | O30: 0 | P30: =M30-N30-O30 -> 0 | Q30: 0 | R30: 0 | S30: 0 | T30: =Q30-R30-S30 -> 0 | U30: =SUM(E30,I30,M30,Q30) -> 1.5 | V30: =SUM(F30,J30,N30,R30,) -> 0 | W30: =SUM(G30,K30,O30,S30,) -> 1 | X30: =U30-V30-W30 -> 0.5 | Y30: =X30 -> 0.5 | Z30: 0.5 | AA30: Attorney
A31: DSS/OTHER | B31: Newsome, Kenya | C31: DAVIDSON | D31: 3 | E31: 2 | F31: 0 | G31: 0 | H31: =E31-F31-G31 -> 2 | I31: 14 | J31: 0 | K31: 2 | L31: =I31-J31-K31 -> 12 | M31: 2 | N31: 0 | O31: 0 | P31: =M31-N31-O31 -> 2 | Q31: 1 | R31: 0 | S31: 0 | T31: =Q31-R31-S31 -> 1 | U31: =SUM(E31,I31,M31,Q31) -> 19 | V31: =SUM(F31,J31,N31,R31,) -> 0 | W31: =SUM(G31,K31,O31,S31,) -> 2 | X31: =U31-V31-W31 -> 17 | Y31: =X31 -> 17 | Z31: 0
A32: DSS/OTHER | B32: Newsome, Kenya | C32: DAVIE | D32: 3 | E32: 1 | F32: 0 | G32: 0 | H32: =E32-F32-G32 -> 1 | I32: 3 | J32: 0 | K32: 0 | L32: =I32-J32-K32 -> 3 | M32: 0 | N32: 0 | O32: 0 | P32: =M32-N32-O32 -> 0 | Q32: 0 | R32: 0 | S32: 0 | T32: =Q32-R32-S32 -> 0 | U32: =SUM(E32,I32,M32,Q32) -> 4 | V32: =SUM(F32,J32,N32,R32,) -> 0 | W32: 1 | X32: =U32-V32-W32 -> 3 | Y32: =X32 -> 3 | Z32: 0
A33: DSS/OTHER | B33: Foreman, Cora | C33: DUPLIN | D33: 6 | E33: 1 | F33: 0 | G33: 1 | H33: =E33-F33-G33 -> 0 | I33: 5 | J33: 0 | K33: 0 | L33: =I33-J33-K33 -> 5 | M33: 0 | N33: 0 | O33: 0 | P33: =M33-N33-O33 -> 0 | Q33: 0 | R33: 0 | S33: 0 | T33: =Q33-R33-S33 -> 0 | U33: =SUM(E33,I33,M33,Q33) -> 6 | V33: =SUM(F33,J33,N33,R33,) -> 0 | W33: =SUM(G33,K33,O33,S33,) -> 1 | X33: =U33-V33-W33 -> 5 | Y33: =X33 -> 5 | Z33: 1.1 | AA33: .10 attorney + 1 Deputy
A34: DSS/OTHER | B34: Newsome, Kenya | C34: DURHAM | D34: 3 | E34: 6 | F34: 0 | G34: 0 | H34: =E34-F34-G34 -> 6 | I34: 27 | J34: 0 | K34: 2 | L34: =I34-J34-K34 -> 25 | M34: 3 | N34: 0 | O34: 2 | P34: =M34-N34-O34 -> 1 | Q34: 0 | R34: 0 | S34: 0 | T34: =Q34-R34-S34 -> 0 | U34: =SUM(E34,I34,M34,Q34) -> 36 | V34: =SUM(F34,J34,N34,R34,) -> 0 | W34: =SUM(G34,K34,O34,S34,) -> 4 | X34: =U34-V34-W34 -> 32 | Y34: =X34 -> 32 | Z34: 0
A35: DSS/OTHER | B35: Mayfield, Kristi | C35: EDGECOMBE - TB | D35: 5 | E35: 1.5 | F35: 0 | G35: 0 | H35: =E35-F35-G35 -> 1.5 | I35: 7.5 | J35: 0 | K35: 1 | L35: =I35-J35-K35 -> 6.5 | M35: 1 | N35: 0 | O35: 1 | P35: =M35-N35-O35 -> 0 | Q35: 0.5 | R35: 0 | S35: 0 | T35: =Q35-R35-S35 -> 0.5 | U35: =SUM(E35,I35,M35,Q35) -> 10.5 | V35: =SUM(F35,J35,N35,R35,) -> 0 | W35: =SUM(G35,K35,O35,S35,) -> 2 | X35: =U35-V35-W35 -> 8.5 | Y35: =X35 -> 8.5 | Z35: 1.5 | AA35: 1 (part-time) Lieutenant and 2 (part-time) Deupties
A36: DSS/OTHER | B36: Mayfield, Kristi | C36: EDGECOMBE - RM | D36: 5 | E36: 1.5 | F36: 0 | G36: 0 | H36: =E36-F36-G36 -> 1.5 | I36: 7.5 | J36: 0 | K36: 4 | L36: =I36-J36-K36 -> 3.5 | M36: 1 | N36: 0 | O36: 0 | P36: =M36-N36-O36 -> 1 | Q36: 0.5 | R36: 0 | S36: 0 | T36: =Q36-R36-S36 -> 0.5 | U36: =SUM(E36,I36,M36,Q36) -> 10.5 | V36: =SUM(F36,J36,N36,R36,) -> 0 | W36: =SUM(G36,K36,O36,S36,) -> 4 | X36: =U36-V36-W36 -> 6.5 | Y36: =X36 -> 6.5 | Z36: 1.5 | AA36: 1 (part-time) Lieutenant and 2 (part-time) Deupties
A37: DSS/OTHER | B37: Newsome, Kenya | C37: FORSYTH | D37: 3 | E37: 5 | F37: 0 | G37: 0 | H37: =E37-F37-G37 -> 5 | I37: 34 | J37: 0 | K37: 2 | L37: =I37-J37-K37 -> 32 | M37: 9 | N37: 0 | O37: 3 | P37: =M37-N37-O37 -> 6 | Q37: 3.5 | R37: 0 | S37: 0 | T37: =Q37-R37-S37 -> 3.5 | U37: =SUM(E37,I37,M37,Q37) -> 51.5 | V37: =SUM(F37,J37,N37,R37,) -> 0 | W37: =SUM(G37,K37,O37,S37,) -> 5 | X37: =U37-V37-W37 -> 46.5 | Y37: =X37 -> 46.5 | Z37: 0
A38: DSS/OTHER | B38: Mayfield, Kristi | C38: FRANKLIN | D38: 5 | E38: 1 | F38: 0 | G38: 0 | H38: =E38-F38-G38 -> 1 | I38: 9 | J38: 0 | K38: 0 | L38: =I38-J38-K38 -> 9 | M38: 0 | N38: 0 | O38: 0 | P38: =M38-N38-O38 -> 0 | Q38: 0 | R38: 0 | S38: 0 | T38: =Q38-R38-S38 -> 0 | U38: =SUM(E38,I38,M38,Q38) -> 10 | V38: =SUM(F38,J38,N38,R38,) -> 0 | W38: =SUM(G38,K38,O38,S38,) -> 0 | X38: =U38-V38-W38 -> 10 | Y38: =X38 -> 10 | Z38: 2.5 | AA38: 1 Deputy and 1.5 IV-D Atty.
A39: DSS/OTHER | B39: Loftin, Angela | C39: GASTON | D39: 2 | E39: 5 | F39: 0 | G39: 0 | H39: =E39-F39-G39 -> 5 | I39: 25 | J39: 0 | K39: 2 | L39: =I39-J39-K39 -> 23 | M39: 4 | N39: 0 | O39: 0 | P39: =M39-N39-O39 -> 4 | Q39: 1 | R39: 0 | S39: 1 | T39: =Q39-R39-S39 -> 0 | U39: =SUM(E39,I39,M39,Q39) -> 35 | V39: =SUM(F39,J39,N39,R39,) -> 0 | W39: =SUM(G39,K39,O39,S39,) -> 3 | X39: =U39-V39-W39 -> 32 | Y39: =X39 -> 32 | Z39: 0
A40: Private | B40: Smith, Omia | C40: GATES | D40: 7 | E40: 0.5 | F40: 0 | G40: 0 | H40: =E40-F40-G40 -> 0.5 | I40: 1 | J40: 0 | K40: 0 | L40: =I40-J40-K40 -> 1 | M40: 0.5 | N40: 0.25 | O40: 0 | P40: =M40-N40-O40 -> 0.25 | Q40: 0 | R40: 0 | S40: 0 | T40: =Q40-R40-S40 -> 0 | U40: =SUM(E40,I40,M40,Q40) -> 2 | V40: =SUM(F40,J40,N40,R40,) -> 0.25 | W40: =SUM(G40,K40,O40,S40,) -> 0 | X40: =U40-V40-W40 -> 1.75 | Y40: =X40 -> 1.75 | Z40: 0.5 | AA40: Attorney
A41: DSS/OTHER | B41: Jenkins, Pamela | C41: GRAHAM | D41: 1 | E41: 0.25 | F41: 0 | G41: 0 | H41: =E41-F41-G41 -> 0.25 | I41: 0.75 | J41: 0 | K41: 0 | L41: =I41-J41-K41 -> 0.75 | M41: 0 | N41: 0 | O41: 0 | P41: =M41-N41-O41 -> 0 | Q41: 0 | R41: 0 | S41: 0 | T41: =Q41-R41-S41 -> 0 | U41: =SUM(E41,I41,M41,Q41) -> 1 | V41: =SUM(F41,J41,N41,R41,) -> 0 | W41: =SUM(G41,K41,O41,S41,) -> 0 | X41: =U41-V41-W41 -> 1 | Y41: =X41 -> 1 | Z41: 0.1 | AA41: 1 person office. Attorney is contract and not included.
A42: DSS/OTHER | B42: Mayfield, Kristi | C42: GRANVILLE | D42: 5 | E42: 1.5 | F42: 0 | G42: 0 | H42: =E42-F42-G42 -> 1.5 | I42: 8.5 | J42: 0 | K42: 0 | L42: =I42-J42-K42 -> 8.5 | M42: 0 | N42: 0 | O42: 0 | P42: =M42-N42-O42 -> 0 | Q42: 0 | R42: 0 | S42: 0 | T42: =Q42-R42-S42 -> 0 | U42: =SUM(E42,I42,M42,Q42) -> 10 | V42: =SUM(F42,J42,N42,R42,) -> 0 | W42: =SUM(G42,K42,O42,S42,) -> 0 | X42: =U42-V42-W42 -> 10 | Y42: =X42 -> 10 | Z42: 0.25 | AA42: .25Attorney
A43: DSS/OTHER | B43: Mayfield, Kristi | C43: GREENE | D43: 5 | E43: 1 | F43: 0 | G43: 0 | H43: =E43-F43-G43 -> 1 | I43: 3 | J43: 0 | K43: 0 | L43: =I43-J43-K43 -> 3 | M43: 0.5 | N43: 0 | O43: 0 | P43: =M43-N43-O43 -> 0.5 | Q43: 0.25 | R43: 0 | S43: 0 | T43: =Q43-R43-S43 -> 0.25 | U43: =SUM(E43,I43,M43,Q43) -> 4.75 | V43: =SUM(F43,J43,N43,R43,) -> 0 | W43: =SUM(G43,K43,O43,S43,) -> 0 | X43: =U43-V43-W43 -> 4.75 | Y43: =X43 -> 4.75 | Z43: 0
A44: County Manager | B44: Newsome, Kenya | C44: GUILFORD - GB | D44: 3 | E44: 13 | F44: 0 | G44: 0 | H44: =E44-F44-G44 -> 13 | I44: 31 | J44: 0 | K44: 3 | L44: =I44-J44-K44 -> 28 | M44: 19 | N44: 0 | O44: 1 | P44: =M44-N44-O44 -> 18 | Q44: 1 | R44: 0 | S44: 0 | T44: =Q44-R44-S44 -> 1 | U44: =SUM(E44,I44,M44,Q44) -> 64 | V44: =SUM(F44,J44,N44,R44,) -> 0 | W44: =SUM(G44,K44,O44,S44,) -> 4 | X44: =U44-V44-W44 -> 60 | Y44: =X44 -> 60 | Z44: 0 | AA44: Attorney
A45: County Manager | B45: Newsome, Kenya | C45: GUILFORD - HP | D45: 3 | E45: 5 | F45: 0 | G45: 0 | H45: =E45-F45-G45 -> 5 | I45: 12 | J45: 0 | K45: 2 | L45: =I45-J45-K45 -> 10 | M45: 10 | N45: 0 | O45: 2 | P45: =M45-N45-O45 -> 8 | Q45: 0 | R45: 0 | S45: 0 | T45: =Q45-R45-S45 -> 0 | U45: =SUM(E45,I45,M45,Q45) -> 27 | V45: =SUM(F45,J45,N45,R45,) -> 0 | W45: =SUM(G45,K45,O45,S45,) -> 4 | X45: =U45-V45-W45 -> 23 | Y45: =X45 -> 23 | Z45: 0
A46: DSS/OTHER | B46: Mayfield, Kristi | C46: HALIFAX | D46: 5 | E46: 3 | F46: 0 | G46: 0 | H46: =E46-F46-G46 -> 3 | I46: 14 | J46: 0 | K46: 1 | L46: =I46-J46-K46 -> 13 | M46: 0 | N46: 0 | O46: 0 | P46: =M46-N46-O46 -> 0 | Q46: 1 | R46: 0 | S46: 0 | T46: =Q46-R46-S46 -> 1 | U46: =SUM(E46,I46,M46,Q46) -> 18 | V46: =SUM(F46,J46,N46,R46,) -> 0 | W46: =SUM(G46,K46,O46,S46,) -> 1 | X46: =U46-V46-W46 -> 17 | Y46: =X46 -> 17 | Z46: 3 | AA46: 1.5 contracted clerical (3-pt) and 1 contracted Trainer (2 pt), .50 Atty (1 pt)
A47: DSS/OTHER | B47: Hasty, Laurie | C47: HARNETT | D47: 4 | E47: 2.5 | F47: 0 | G47: 0 | H47: =E47-F47-G47 -> 2.5 | I47: 14 | J47: 0 | K47: 0 | L47: =I47-J47-K47 -> 14 | M47: 2 | N47: 0 | O47: 1 | P47: =M47-N47-O47 -> 1 | Q47: 1 | R47: 0 | S47: 0 | T47: =Q47-R47-S47 -> 1 | U47: =SUM(E47,I47,M47,Q47) -> 19.5 | V47: =SUM(F47,J47,N47,R47,) -> 0 | W47: =SUM(G47,K47,O47,S47,) -> 1 | X47: =U47-V47-W47 -> 18.5 | Y47: =X47 -> 18.5 | Z47: 1 | AA47: Deputy
A48: DSS/OTHER | B48: Jenkins, Pamela | C48: HAYWOOD | D48: 1 | E48: 1 | F48: 0 | G48: 0 | H48: =E48-F48-G48 -> 1 | I48: 4 | J48: 0 | K48: 1 | L48: =I48-J48-K48 -> 3 | M48: 1 | N48: 0 | O48: 0 | P48: =M48-N48-O48 -> 1 | Q48: 2 | R48: 0 | S48: 0 | T48: =Q48-R48-S48 -> 2 | U48: =SUM(E48,I48,M48,Q48) -> 8 | V48: =SUM(F48,J48,N48,R48,) -> 0 | W48: =SUM(G48,K48,O48,S48,) -> 1 | X48: =U48-V48-W48 -> 7 | Y48: =X48 -> 7 | Z48: 0 | AA48: 1 agent vacancy.
A49: DSS/OTHER | B49: Jenkins, Pamela | C49: HENDERSON | D49: 1 | E49: 1 | F49: 0 | G49: 0 | H49: =E49-F49-G49 -> 1 | I49: 5 | J49: 0 | K49: 1 | L49: =I49-J49-K49 -> 4 | M49: 0 | N49: 0 | O49: 0 | P49: =M49-N49-O49 -> 0 | Q49: 0.5 | R49: 0 | S49: 0 | T49: =Q49-R49-S49 -> 0.5 | U49: =SUM(E49,I49,M49,Q49) -> 6.5 | V49: =SUM(F49,J49,N49,R49,) -> 0 | W49: =SUM(G49,K49,O49,S49,) -> 1 | X49: =U49-V49-W49 -> 5.5 | Y49: =X49 -> 5.5 | Z49: 0 | AA49: 1 Supervisor, 5 Agents, part-tme IV-D attorney
A50: Private | B50: Smith, Omia | C50: HERTFORD | D50: 7 | E50: 0.5 | F50: 0 | G50: 0 | H50: =E50-F50-G50 -> 0.5 | I50: 4 | J50: 0 | K50: 0 | L50: =I50-J50-K50 -> 4 | M50: 0 | N50: 0 | O50: 0 | P50: =M50-N50-O50 -> 0 | Q50: 0 | R50: 0 | S50: 0 | T50: =Q50-R50-S50 -> 0 | U50: =SUM(E50,I50,M50,Q50) -> 4.5 | V50: =SUM(F50,J50,N50,R50,) -> 0 | W50: =SUM(G50,K50,O50,S50,) -> 0 | X50: =U50-V50-W50 -> 4.5 | Y50: =X50 -> 4.5 | Z50: 0.1 | AA50: Attorney
A51: DSS/OTHER | B51: Hasty, Laurie | C51: HOKE | D51: 4 | E51: 1.25 | F51: 0 | G51: 0 | H51: =E51-F51-G51 -> 1.25 | I51: 8.75 | J51: 0 | K51: 1 | L51: =I51-J51-K51 -> 7.75 | M51: 2 | N51: 0 | O51: 1 | P51: =M51-N51-O51 -> 1 | Q51: 0 | R51: 0 | S51: 0 | T51: =Q51-R51-S51 -> 0 | U51: =SUM(E51,I51,M51,Q51) -> 12 | V51: =SUM(F51,J51,N51,R51,) -> 0 | W51: =SUM(G51,K51,O51,S51,) -> 2 | X51: =U51-V51-W51 -> 10 | Y51: =X51 -> 10 | Z51: 0.93 | AA51: .20Attorney, .73 Deputy
A52: Private | B52: Smith, Omia | C52: HYDE | D52: 7 | E52: 0.25 | F52: 0 | G52: 0 | H52: =E52-F52-G52 -> 0.25 | I52: 0.5 | J52: 0 | K52: 0 | L52: =I52-J52-K52 -> 0.5 | M52: 0 | N52: 0 | O52: 0 | P52: =M52-N52-O52 -> 0 | Q52: 0 | R52: 0 | S52: 0 | T52: =Q52-R52-S52 -> 0 | U52: =SUM(E52,I52,M52,Q52) -> 0.75 | V52: =SUM(F52,J52,N52,R52,) -> 0 | W52: =SUM(G52,K52,O52,S52,) -> 0 | X52: =U52-V52-W52 -> 0.75 | Y52: =X52 -> 0.75 | Z52: 0.1 | AA52: Attorney
A53: DSS/OTHER | B53: Loftin, Angela | C53: IREDELL | D53: 2 | E53: 2 | F53: 0 | G53: 0 | H53: =E53-F53-G53 -> 2 | I53: 13 | J53: 0 | K53: 1 | L53: =I53-J53-K53 -> 12 | M53: 2 | N53: 0 | O53: 0 | P53: =M53-N53-O53 -> 2 | Q53: 2 | R53: 0 | S53: 0 | T53: =Q53-R53-S53 -> 2 | U53: =SUM(E53,I53,M53,Q53) -> 19 | V53: =SUM(F53,J53,N53,R53,) -> 0 | W53: =SUM(G53,K53,O53,S53,) -> 1 | X53: =U53-V53-W53 -> 18 | Y53: =X53 -> 18 | Z53: 2 | AA53: Sheriff Deputies
A54: DSS/OTHER | B54: Jenkins, Pamela | C54: JACKSON | D54: 1 | E54: 1 | F54: 0 | G54: 0 | H54: =E54-F54-G54 -> 1 | I54: 2 | J54: 0 | K54: 0 | L54: =I54-J54-K54 -> 2 | M54: 1 | N54: 0 | O54: 0 | P54: =M54-N54-O54 -> 1 | Q54: 0 | R54: 0 | S54: 0 | T54: =Q54-R54-S54 -> 0 | U54: =SUM(E54,I54,M54,Q54) -> 4 | V54: =SUM(F54,J54,N54,R54,) -> 0 | W54: =SUM(G54,K54,O54,S54,) -> 0 | X54: =U54-V54-W54 -> 4 | Y54: =X54 -> 4 | Z54: 0.1 | AA54: Total staff is 4. County has a contract attorney, not inclcuded in count.
A55: County Manager | B55: Mayfield, Kristi | C55: JOHNSTON | D55: 5 | E55: 4 | F55: 0 | G55: 0 | H55: =E55-F55-G55 -> 4 | I55: 16 | J55: 0 | K55: 3 | L55: =I55-J55-K55 -> 13 | M55: 4 | N55: 0 | O55: 0 | P55: =M55-N55-O55 -> 4 | Q55: 0.5 | R55: 0 | S55: 0 | T55: =Q55-R55-S55 -> 0.5 | U55: =SUM(E55,I55,M55,Q55) -> 24.5 | V55: =SUM(F55,J55,N55,R55,) -> 0 | W55: =SUM(G55,K55,O55,S55,) -> 3 | X55: =U55-V55-W55 -> 21.5 | Y55: =X55 -> 21.5 | Z55: 0
A56: DSS/OTHER | B56: Foreman, Cora | C56: JONES | D56: 6 | E56: 1 | F56: 0 | G56: 0 | H56: =E56-F56-G56 -> 1 | I56: 1 | J56: 0 | K56: 0 | L56: =I56-J56-K56 -> 1 | M56: 0 | N56: 0 | O56: 0 | P56: =M56-N56-O56 -> 0 | Q56: 0 | R56: 0 | S56: 0 | T56: =Q56-R56-S56 -> 0 | U56: =SUM(E56,I56,M56,Q56) -> 2 | V56: =SUM(F56,J56,N56,R56,) -> 0 | W56: =SUM(G56,K56,O56,S56,) -> 0 | X56: =U56-V56-W56 -> 2 | Y56: =X56 -> 2 | Z56: 0.1 | AA56: contract attorney
A57: DSS/OTHER | B57: Hasty, Laurie | C57: LEE | D57: 4 | E57: 1.25 | F57: 0 | G57: 0 | H57: =E57-F57-G57 -> 1.25 | I57: 6.75 | J57: 0 | K57: 2 | L57: =I57-J57-K57 -> 4.75 | M57: 1 | N57: 0 | O57: 0 | P57: =M57-N57-O57 -> 1 | Q57: 1 | R57: 0 | S57: 0 | T57: =Q57-R57-S57 -> 1 | U57: =SUM(E57,I57,M57,Q57) -> 10 | V57: =SUM(F57,J57,N57,R57,) -> 0 | W57: =SUM(G57,K57,O57,S57,) -> 2 | X57: =U57-V57-W57 -> 8 | Y57: =X57 -> 8 | Z57: 0
A58: DSS/OTHER | B58: Foreman, Cora | C58: LENOIR | D58: 6 | E58: 3 | F58: 0 | G58: 0 | H58: =E58-F58-G58 -> 3 | I58: 13 | J58: 0 | K58: 1 | L58: =I58-J58-K58 -> 12 | M58: 2 | N58: 0 | O58: 0 | P58: =M58-N58-O58 -> 2 | Q58: 1 | R58: 0 | S58: 0 | T58: =Q58-R58-S58 -> 1 | U58: =SUM(E58,I58,M58,Q58) -> 19 | V58: =SUM(F58,J58,N58,R58,) -> 0 | W58: =SUM(G58,K58,O58,S58,) -> 1 | X58: =U58-V58-W58 -> 18 | Y58: =X58 -> 18 | Z58: 1 | AA58: contract attorney
A59: DSS/OTHER | B59: Loftin, Angela | C59: LINCOLN | D59: 2 | E59: 1 | F59: 0 | G59: 0 | H59: =E59-F59-G59 -> 1 | I59: 8 | J59: 0 | K59: 0 | L59: =I59-J59-K59 -> 8 | M59: 1 | N59: 0 | O59: 0 | P59: =M59-N59-O59 -> 1 | Q59: 1 | R59: 0 | S59: 0 | T59: =Q59-R59-S59 -> 1 | U59: =SUM(E59,I59,M59,Q59) -> 11 | V59: =SUM(F59,J59,N59,R59,) -> 0 | W59: =SUM(G59,K59,O59,S59,) -> 0 | X59: =U59-V59-W59 -> 11 | Y59: =X59 -> 11 | Z59: 0
A60: DSS/OTHER | B60: Jenkins, Pamela | C60: MACON | D60: 1 | E60: 0.25 | F60: 0 | G60: 0 | H60: =E60-F60-G60 -> 0.25 | I60: 3 | J60: 0 | K60: 0 | L60: =I60-J60-K60 -> 3 | M60: 0 | N60: 0 | O60: 0 | P60: =M60-N60-O60 -> 0 | Q60: 0 | R60: 0 | S60: 0 | T60: =Q60-R60-S60 -> 0 | U60: =SUM(E60,I60,M60,Q60) -> 3.25 | V60: =SUM(F60,J60,N60,R60,) -> 0 | W60: =SUM(G60,K60,O60,S60,) -> 0 | X60: =U60-V60-W60 -> 3.25 | Y60: =X60 -> 3.25 | Z60: 0.1 | AA60: Part-time Supervisor, 3 Agents. County has contracted attorney 0.10 not included in count.
A61: County Manager | B61: Jenkins, Pamela | C61: MADISON | D61: 1 | E61: 0.25 | F61: 0 | G61: 0 | H61: =E61-F61-G61 -> 0.25 | I61: 0.75 | J61: 0 | K61: 0 | L61: =I61-J61-K61 -> 0.75 | M61: 0.25 | N61: 0 | O61: 0 | P61: =M61-N61-O61 -> 0.25 | Q61: 0.1 | R61: 0 | S61: 0 | T61: =Q61-R61-S61 -> 0.1 | U61: =SUM(E61,I61,M61,Q61) -> 1.35 | V61: =SUM(F61,J61,N61,R61,) -> 0 | W61: =SUM(G61,K61,O61,S61,) -> 0 | X61: =U61-V61-W61 -> 1.35 | Y61: =X61 -> 1.35 | Z61: 0 | AA61: Agent/Supervisor and part-time Clerk, part-time attorney for child support
A62: Private | B62: Smith, Omia | C62: MARTIN | D62: 7 | E62: 1 | F62: 0 | G62: 1 | H62: =E62-F62-G62 -> 0 | I62: 4 | J62: 0 | K62: 0 | L62: =I62-J62-K62 -> 4 | M62: 0 | N62: 0 | O62: 0 | P62: =M62-N62-O62 -> 0 | Q62: 0 | R62: 0 | S62: 0 | T62: =Q62-R62-S62 -> 0 | U62: =SUM(E62,I62,M62,Q62) -> 5 | V62: =SUM(F62,J62,N62,R62,) -> 0 | W62: =SUM(G62,K62,O62,S62,) -> 1 | X62: =U62-V62-W62 -> 4 | Y62: =X62 -> 4 | Z62: 0.1 | AA62: Attorney
A63: DSS/OTHER | B63: Loftin, Angela | C63: MCDOWELL | D63: 2 | E63: 1 | F63: 0 | G63: 0 | H63: =E63-F63-G63 -> 1 | I63: 4 | J63: 0 | K63: 0 | L63: =I63-J63-K63 -> 4 | M63: 1 | N63: 0 | O63: 0 | P63: =M63-N63-O63 -> 1 | Q63: 0.5 | R63: 0 | S63: 0 | T63: =Q63-R63-S63 -> 0.5 | U63: =SUM(E63,I63,M63,Q63) -> 6.5 | V63: =SUM(F63,J63,N63,R63,) -> 0 | W63: =SUM(G63,K63,O63,S63,) -> 0 | X63: =U63-V63-W63 -> 6.5 | Y63: =X63 -> 6.5 | Z63: 0
A64: County Manager | B64: Hasty, Laurie | C64: MECKLENBURG | D64: 4 | E64: 27 | F64: 0 | G64: 0 | H64: =E64-F64-G64 -> 27 | I64: 80 | J64: 0 | K64: 1 | L64: =I64-J64-K64 -> 79 | M64: 16 | N64: 0 | O64: 0 | P64: =M64-N64-O64 -> 16 | Q64: 9 | R64: 0 | S64: 0 | T64: =Q64-R64-S64 -> 9 | U64: =SUM(E64,I64,M64,Q64) -> 132 | V64: =SUM(F64,J64,N64,R64,) -> 0 | W64: =SUM(G64,K64,O64,S64,) -> 1 | X64: =U64-V64-W64 -> 131 | Y64: =X64 -> 131 | Z64: 6 | AA64: 6 Deputies
A65: DSS/OTHER | B65: Jenkins, Pamela | C65: MITCHELL | D65: 1 | E65: 0 | F65: 0 | G65: 0 | H65: =E65-F65-G65 -> 0 | I65: 1 | J65: 0 | K65: 0 | L65: =I65-J65-K65 -> 1 | M65: 0 | N65: 0 | O65: 0 | P65: =M65-N65-O65 -> 0 | Q65: 0 | R65: 0 | S65: 0 | T65: =Q65-R65-S65 -> 0 | U65: =SUM(E65,I65,M65,Q65) -> 1 | V65: =SUM(F65,J65,N65,R65,) -> 0 | W65: =SUM(G65,K65,O65,S65,) -> 0 | X65: =U65-V65-W65 -> 1 | Y65: =X65 -> 1 | Z65: 0.05 | AA65: 1 Agent office, county has part-time contract attorney not included.
A66: DSS/OTHER | B66: Hasty, Laurie | C66: MONTGOMERY | D66: 4 | E66: 1 | F66: 0 | G66: 0 | H66: =E66-F66-G66 -> 1 | I66: 4 | J66: 0 | K66: 0 | L66: =I66-J66-K66 -> 4 | M66: 1 | N66: 0 | O66: 1 | P66: =M66-N66-O66 -> 0 | Q66: 0 | R66: 0 | S66: 0 | T66: =Q66-R66-S66 -> 0 | U66: =SUM(E66,I66,M66,Q66) -> 6 | V66: =SUM(F66,J66,N66,R66,) -> 0 | W66: =SUM(G66,K66,O66,S66,) -> 1 | X66: =U66-V66-W66 -> 5 | Y66: =X66 -> 5 | Z66: 0.5 | AA66: Attorney (Shared)
A67: County Manager | B67: Hasty, Laurie | C67: MOORE | D67: 4 | E67: 2 | F67: 0 | G67: 0 | H67: =E67-F67-G67 -> 2 | I67: 7 | J67: 0 | K67: 0 | L67: =I67-J67-K67 -> 7 | M67: 2 | N67: 0 | O67: 0 | P67: =M67-N67-O67 -> 2 | Q67: 1 | R67: 0 | S67: 0 | T67: =Q67-R67-S67 -> 1 | U67: =SUM(E67,I67,M67,Q67) -> 12 | V67: =SUM(F67,J67,N67,R67,) -> 0 | W67: =SUM(G67,K67,O67,S67,) -> 0 | X67: =U67-V67-W67 -> 12 | Y67: =X67 -> 12 | Z67: 0
A68: DSS/OTHER | B68: Mayfield, Kristi | C68: NASH | D68: 5 | E68: 2 | F68: 0 | G68: 0 | H68: =E68-F68-G68 -> 2 | I68: 14 | J68: 0 | K68: 2 | L68: =I68-J68-K68 -> 12 | M68: 2 | N68: 0 | O68: 0 | P68: =M68-N68-O68 -> 2 | Q68: 2 | R68: 0 | S68: 0 | T68: =Q68-R68-S68 -> 2 | U68: =SUM(E68,I68,M68,Q68) -> 20 | V68: =SUM(F68,J68,N68,R68,) -> 0 | W68: =SUM(G68,K68,O68,S68,) -> 2 | X68: =U68-V68-W68 -> 18 | Y68: =X68 -> 18 | Z68: 0.5 | AA68: Part-time interim establishment Supervisor
A69: Private | B69: Foreman, Cora | C69: NEW HANOVER | D69: 6 | E69: 2 | F69: 0 | G69: 0 | H69: =E69-F69-G69 -> 2 | I69: 10 | J69: 0 | K69: 1 | L69: =I69-J69-K69 -> 9 | M69: 3 | N69: 0 | O69: 0 | P69: =M69-N69-O69 -> 3 | Q69: 0 | R69: 0 | S69: 0 | T69: =Q69-R69-S69 -> 0 | U69: =SUM(E69,I69,M69,Q69) -> 15 | V69: =SUM(F69,J69,N69,R69,) -> 0 | W69: =SUM(G69,K69,O69,S69,) -> 1 | X69: =U69-V69-W69 -> 14 | Y69: =X69 -> 14 | Z69: 1 | AA69: Attorney
A70: DSS/OTHER | B70: Mayfield, Kristi | C70: NORTHAMPTON | D70: 5 | E70: 1 | F70: 0 | G70: 0 | H70: =E70-F70-G70 -> 1 | I70: 6 | J70: 0 | K70: 1 | L70: =I70-J70-K70 -> 5 | M70: 1 | N70: 0 | O70: 0 | P70: =M70-N70-O70 -> 1 | Q70: 0 | R70: 0 | S70: 0 | T70: =Q70-R70-S70 -> 0 | U70: =SUM(E70,I70,M70,Q70) -> 8 | V70: =SUM(F70,J70,N70,R70,) -> 0 | W70: =SUM(G70,K70,O70,S70,) -> 1 | X70: =U70-V70-W70 -> 7 | Y70: =X70 -> 7 | Z70: 0.75 | AA70: .25 IV-D Atty. and .50 Deputy
A71: Private | B71: Foreman, Cora | C71: ONSLOW | D71: 6 | E71: 3 | F71: 0 | G71: 0 | H71: =E71-F71-G71 -> 3 | I71: 15 | J71: 0 | K71: 2 | L71: =I71-J71-K71 -> 13 | M71: 1 | N71: 0 | O71: 0 | P71: =M71-N71-O71 -> 1 | Q71: 0 | R71: 0 | S71: 0 | T71: =Q71-R71-S71 -> 0 | U71: =SUM(E71,I71,M71,Q71) -> 19 | V71: =SUM(F71,J71,N71,R71,) -> 0 | W71: =SUM(G71,K71,O71,S71,) -> 2 | X71: =U71-V71-W71 -> 17 | Y71: =X71 -> 17 | Z71: 1 | AA71: Attorney
A72: County Manager | B72: Newsome, Kenya | C72: ORANGE | D72: 3 | E72: 3 | F72: 0 | G72: 0 | H72: =E72-F72-G72 -> 3 | I72: 8 | J72: 0 | K72: 0 | L72: =I72-J72-K72 -> 8 | M72: 2 | N72: 0 | O72: 0 | P72: =M72-N72-O72 -> 2 | Q72: 0 | R72: 0 | S72: 0 | T72: =Q72-R72-S72 -> 0 | U72: =SUM(E72,I72,M72,Q72) -> 13 | V72: =SUM(F72,J72,N72,R72,) -> 0 | W72: =SUM(G72,K72,O72,S72,) -> 0 | X72: =U72-V72-W72 -> 13 | Y72: =X72 -> 13 | Z72: 0.2 | AA72: Coutny Attaorney (shared DSS)
A73: DSS/OTHER | B73: Foreman, Cora | C73: PAMLICO | D73: 6 | E73: 0.33 | F73: 0 | G73: 0 | H73: =E73-F73-G73 -> 0.33 | I73: 1 | J73: 0 | K73: 0 | L73: =I73-J73-K73 -> 1 | M73: 0 | N73: 0 | O73: 0 | P73: =M73-N73-O73 -> 0 | Q73: 0 | R73: 0 | S73: 0 | T73: =Q73-R73-S73 -> 0 | U73: =SUM(E73,I73,M73,Q73) -> 1.33 | V73: =SUM(F73,J73,N73,R73,) -> 0 | W73: =SUM(G73,K73,O73,S73,) -> 0 | X73: =U73-V73-W73 -> 1.33 | Y73: =X73 -> 1.33 | Z73: 0.25 | AA73: contract attorney
A74: Private | B74: Smith, Omia | C74: PASQUOTANK | D74: 7 | E74: 0.5 | F74: 0 | G74: 0 | H74: =E74-F74-G74 -> 0.5 | I74: 5 | J74: 1 | K74: 0 | L74: =I74-J74-K74 -> 4 | M74: 0.5 | N74: 0.25 | O74: 0 | P74: =M74-N74-O74 -> 0.25 | Q74: 0 | R74: 0 | S74: 0 | T74: =Q74-R74-S74 -> 0 | U74: =SUM(E74,I74,M74,Q74) -> 6 | V74: =SUM(F74,J74,N74,R74,) -> 1.25 | W74: =SUM(G74,K74,O74,S74,) -> 0 | X74: =U74-V74-W74 -> 4.75 | Y74: =X74 -> 4.75 | Z74: 0.1 | AA74: Attorney
A75: DSS/OTHER | B75: Foreman, Cora | C75: PENDER | D75: 6 | E75: 1 | F75: 0 | G75: 0 | H75: =E75-F75-G75 -> 1 | I75: 4 | J75: 0 | K75: 1 | L75: =I75-J75-K75 -> 3 | M75: 1 | N75: 0 | O75: 0 | P75: =M75-N75-O75 -> 1 | Q75: 0.75 | R75: 0 | S75: 0 | T75: =Q75-R75-S75 -> 0.75 | U75: =SUM(E75,I75,M75,Q75) -> 6.75 | V75: =SUM(F75,J75,N75,R75,) -> 0 | W75: =SUM(G75,K75,O75,S75,) -> 1 | X75: =U75-V75-W75 -> 5.75 | Y75: =X75 -> 5.75 | Z75: 0
A76: Private | B76: Smith, Omia | C76: PERQUIMANS | D76: 7 | E76: 0.5 | F76: 0 | G76: 0 | H76: =E76-F76-G76 -> 0.5 | I76: 0.5 | J76: 0 | K76: 0 | L76: =I76-J76-K76 -> 0.5 | M76: 0.5 | N76: 0.25 | O76: 0 | P76: =M76-N76-O76 -> 0.25 | Q76: 0 | R76: 0 | S76: 0 | T76: =Q76-R76-S76 -> 0 | U76: =SUM(E76,I76,M76,Q76) -> 1.5 | V76: =SUM(F76,J76,N76,R76,) -> 0.25 | W76: =SUM(G76,K76,O76,S76,) -> 0 | X76: =U76-V76-W76 -> 1.25 | Y76: =X76 -> 1.25 | Z76: 0.1 | AA76: Attorney
A77: DSS/OTHER | B77: Newsome, Kenya | C77: PERSON | D77: 3 | E77: 1 | F77: 0 | G77: 0 | H77: =E77-F77-G77 -> 1 | I77: 7 | J77: 0 | K77: 1 | L77: =I77-J77-K77 -> 6 | M77: 1 | N77: 0 | O77: 0 | P77: =M77-N77-O77 -> 1 | Q77: 1 | R77: 0 | S77: 0 | T77: =Q77-R77-S77 -> 1 | U77: =SUM(E77,I77,M77,Q77) -> 10 | V77: =SUM(F77,J77,N77,R77,) -> 0 | W77: =SUM(G77,K77,O77,S77,) -> 1 | X77: =U77-V77-W77 -> 9 | Y77: =X77 -> 9 | Z77: 1 | AA77: Attorney
A78: DSS/OTHER | B78: Mayfield, Kristi | C78: PITT | D78: 5 | E78: 3 | F78: 0 | G78: 0 | H78: =E78-F78-G78 -> 3 | I78: 21 | J78: 0 | K78: 0 | L78: =I78-J78-K78 -> 21 | M78: 4 | N78: 0 | O78: 1 | P78: =M78-N78-O78 -> 3 | Q78: 3.5 | R78: 0 | S78: 0.5 | T78: =Q78-R78-S78 -> 3 | U78: =SUM(E78,I78,M78,Q78) -> 31.5 | V78: =SUM(F78,J78,N78,R78,) -> 0 | W78: =SUM(G78,K78,O78,S78,) -> 1.5 | X78: =U78-V78-W78 -> 30 | Y78: =X78 -> 30 | Z78: 0 | AA78: Attorney
A79: Private | B79: Jenkins, Pamela | C79: POLK | D79: 1 | E79: 0 | F79: 0 | G79: 0 | H79: =E79-F79-G79 -> 0 | I79: 1 | J79: 0 | K79: 0 | L79: =I79-J79-K79 -> 1 | M79: 0 | N79: 0 | O79: 0 | P79: =M79-N79-O79 -> 0 | Q79: 0.1 | R79: 0 | S79: 0 | T79: =Q79-R79-S79 -> 0.1 | U79: =SUM(E79,I79,M79,Q79) -> 1.1 | V79: =SUM(F79,J79,N79,R79,) -> 0 | W79: 1 | X79: =U79-V79-W79 -> 0.1 | Y79: =X79 -> 0.1 | Z79: 0 | AA79: 1 Agent currently vacant, part-time IV-D attorney
A80: County Manager | B80: Newsome, Kenya | C80: RANDOLPH | D80: 3 | E80: 1 | F80: 0 | G80: 0 | H80: =E80-F80-G80 -> 1 | I80: 12 | J80: 0 | K80: 1 | L80: =I80-J80-K80 -> 11 | M80: 3.5 | N80: 0 | O80: 0 | P80: =M80-N80-O80 -> 3.5 | Q80: 0 | R80: 0 | S80: 0 | T80: =Q80-R80-S80 -> 0 | U80: =SUM(E80,I80,M80,Q80) -> 16.5 | V80: =SUM(F80,J80,N80,R80,) -> 0 | W80: =SUM(G80,K80,O80,S80,) -> 1 | X80: =U80-V80-W80 -> 15.5 | Y80: =X80 -> 15.5 | Z80: 2 | AA80: Attorney
A81: DSS/OTHER | B81: Hasty, Laurie | C81: RICHMOND | D81: 4 | E81: 1.25 | F81: 0 | G81: 0 | H81: =E81-F81-G81 -> 1.25 | I81: 9.75 | J81: 0 | K81: 2 | L81: =I81-J81-K81 -> 7.75 | M81: 2 | N81: 0 | O81: 0 | P81: =M81-N81-O81 -> 2 | Q81: 0 | R81: 0 | S81: 0 | T81: =Q81-R81-S81 -> 0 | U81: =SUM(E81,I81,M81,Q81) -> 13 | V81: =SUM(F81,J81,N81,R81,) -> 0 | W81: =SUM(G81,K81,O81,S81,) -> 2 | X81: =U81-V81-W81 -> 11 | Y81: =X81 -> 11 | Z81: 0.4 | AA81: Attorney (Shared)
A82: DSS/OTHER | B82: Hasty, Laurie | C82: ROBESON | D82: 4 | E82: 4 | F82: 0 | G82: 0 | H82: =E82-F82-G82 -> 4 | I82: 25 | J82: 0 | K82: 0 | L82: =I82-J82-K82 -> 25 | M82: 1 | N82: 0 | O82: 0 | P82: =M82-N82-O82 -> 1 | Q82: 1 | R82: 0 | S82: 0 | T82: =Q82-R82-S82 -> 1 | U82: =SUM(E82,I82,M82,Q82) -> 31 | V82: =SUM(F82,J82,N82,R82,) -> 0 | W82: =SUM(G82,K82,O82,S82,) -> 0 | X82: =U82-V82-W82 -> 31 | Y82: =X82 -> 31 | Z82: 6 | AA82: 1 Attorney. 5 Deputies
A83: DSS/OTHER | B83: Newsome, Kenya | C83: ROCKINGHAM | D83: 3 | E83: 1 | F83: 0 | G83: 0 | H83: =E83-F83-G83 -> 1 | I83: 8 | J83: 0 | K83: 0 | L83: =I83-J83-K83 -> 8 | M83: 2 | N83: 0 | O83: 0 | P83: =M83-N83-O83 -> 2 | Q83: 0 | R83: 0 | S83: 0 | T83: =Q83-R83-S83 -> 0 | U83: =SUM(E83,I83,M83,Q83) -> 11 | V83: =SUM(F83,J83,N83,R83,) -> 0 | W83: =SUM(G83,K83,O83,S83,) -> 0 | X83: =U83-V83-W83 -> 11 | Y83: =X83 -> 11 | Z83: 1 | AA83: Attorney
A84: DSS/OTHER | B84: Hasty, Laurie | C84: ROWAN | D84: 4 | E84: 2.25 | F84: 0 | G84: 0 | H84: =E84-F84-G84 -> 2.25 | I84: 13.75 | J84: 0 | K84: 0 | L84: =I84-J84-K84 -> 13.75 | M84: 2 | N84: 0 | O84: 0 | P84: =M84-N84-O84 -> 2 | Q84: 1.33 | R84: 0 | S84: 0 | T84: =Q84-R84-S84 -> 1.33 | U84: =SUM(E84,I84,M84,Q84) -> 19.33 | V84: =SUM(F84,J84,N84,R84,) -> 0 | W84: =SUM(G84,K84,O84,S84,) -> 0 | X84: =U84-V84-W84 -> 19.33 | Y84: =X84 -> 19.33 | Z84: 0
A85: DSS/OTHER | B85: Loftin, Angela | C85: RUTHERFORD | D85: 2 | E85: 1 | F85: 0 | G85: 0 | H85: =E85-F85-G85 -> 1 | I85: 10 | J85: 0 | K85: 2 | L85: =I85-J85-K85 -> 8 | M85: 0 | N85: 0 | O85: 0 | P85: =M85-N85-O85 -> 0 | Q85: 1 | R85: 0 | S85: 0 | T85: =Q85-R85-S85 -> 1 | U85: =SUM(E85,I85,M85,Q85) -> 12 | V85: =SUM(F85,J85,N85,R85,) -> 0 | W85: =SUM(G85,K85,O85,S85,) -> 2 | X85: =U85-V85-W85 -> 10 | Y85: =X85 -> 10 | Z85: 0
A86: DSS/OTHER | B86: Foreman, Cora | C86: SAMPSON | D86: 6 | E86: 2 | F86: 0 | G86: 0 | H86: =E86-F86-G86 -> 2 | I86: 9 | J86: 0 | K86: 0 | L86: =I86-J86-K86 -> 9 | M86: 1 | N86: 0 | O86: 0 | P86: =M86-N86-O86 -> 1 | Q86: 0 | R86: 0 | S86: 0 | T86: =Q86-R86-S86 -> 0 | U86: =SUM(E86,I86,M86,Q86) -> 12 | V86: =SUM(F86,J86,N86,R86,) -> 0 | W86: =SUM(G86,K86,O86,S86,) -> 0 | X86: =U86-V86-W86 -> 12 | Y86: =X86 -> 12 | Z86: 2.4 | AA86: .40 attorney and 2.00 Deputies
A87: DSS/OTHER | B87: Hasty, Laurie | C87: SCOTLAND | D87: 4 | E87: 1.25 | F87: 0 | G87: 0 | H87: =E87-F87-G87 -> 1.25 | I87: 11.75 | J87: 1 | K87: 1 | L87: =I87-J87-K87 -> 9.75 | M87: 0 | N87: 0 | O87: 0 | P87: =M87-N87-O87 -> 0 | Q87: 0 | R87: 0 | S87: 0 | T87: =Q87-R87-S87 -> 0 | U87: =SUM(E87,I87,M87,Q87) -> 13 | V87: =SUM(F87,J87,N87,R87,) -> 1 | W87: =SUM(G87,K87,O87,S87,) -> 1 | X87: =U87-V87-W87 -> 11 | Y87: =X87 -> 11 | Z87: 0.4 | AA87: Attorney0Shared)
A88: DSS/OTHER | B88: Hasty, Laurie | C88: STANLY | D88: 4 | E88: 1 | F88: 0 | G88: 0 | H88: =E88-F88-G88 -> 1 | I88: 6.63 | J88: 0 | K88: 0 | L88: =I88-J88-K88 -> 6.63 | M88: 2 | N88: 0 | O88: 0 | P88: =M88-N88-O88 -> 2 | Q88: 1 | R88: 0 | S88: 0 | T88: =Q88-R88-S88 -> 1 | U88: =SUM(E88,I88,M88,Q88) -> 10.63 | V88: =SUM(F88,J88,N88,R88,) -> 0 | W88: =SUM(G88,K88,O88,S88,) -> 0 | X88: =U88-V88-W88 -> 10.63 | Y88: =X88 -> 10.63 | Z88: 0
A89: DSS/OTHER | B89: Newsome, Kenya | C89: STOKES | D89: 3 | E89: 1 | F89: 0 | G89: 0 | H89: =E89-F89-G89 -> 1 | I89: 4 | J89: 0 | K89: 1 | L89: =I89-J89-K89 -> 3 | M89: 0 | N89: 0 | O89: 0 | P89: =M89-N89-O89 -> 0 | Q89: 0 | R89: 0 | S89: 0 | T89: =Q89-R89-S89 -> 0 | U89: =SUM(E89,I89,M89,Q89) -> 5 | V89: =SUM(F89,J89,N89,R89,) -> 0 | W89: =SUM(G89,K89,O89,S89,) -> 1 | X89: =U89-V89-W89 -> 4 | Y89: =X89 -> 4 | Z89: 3 | AA89: 2 Attorneys, 1 clerk
A90: DSS/OTHER | B90: Newsome, Kenya | C90: SURRY | D90: 3 | E90: 1 | F90: 0 | G90: 0 | H90: =E90-F90-G90 -> 1 | I90: 7 | J90: 0 | K90: 0 | L90: =I90-J90-K90 -> 7 | M90: 2 | N90: 0 | O90: 0 | P90: =M90-N90-O90 -> 2 | Q90: 0 | R90: 0 | S90: 0 | T90: =Q90-R90-S90 -> 0 | U90: =SUM(E90,I90,M90,Q90) -> 10 | V90: =SUM(F90,J90,N90,R90,) -> 0 | W90: =SUM(G90,K90,O90,S90,) -> 0 | X90: =U90-V90-W90 -> 10 | Y90: =X90 -> 10 | Z90: 0
A91: DSS/OTHER | B91: Jenkins, Pamela | C91: SWAIN | D91: 1 | E91: 0.25 | F91: 0 | G91: 0 | H91: =E91-F91-G91 -> 0.25 | I91: 2 | J91: 1 | K91: 0 | L91: =I91-J91-K91 -> 1 | M91: 0 | N91: 0 | O91: 0 | P91: =M91-N91-O91 -> 0 | Q91: 0 | R91: 0 | S91: 0 | T91: =Q91-R91-S91 -> 0 | U91: =SUM(E91,I91,M91,Q91) -> 2.25 | V91: =SUM(F91,J91,N91,R91,) -> 1 | W91: =SUM(G91,K91,O91,S91,) -> 0 | X91: =U91-V91-W91 -> 1.25 | Y91: =X91 -> 1.25 | Z91: 0.1 | AA91: Part-time Supervisor, 2 Agent positions with 1 frozen. County has contract attorney not included.
A92: Private | B92: Jenkins, Pamela | C92: TRANSYLVANIA | D92: 1 | E92: 0 | F92: 0 | G92: 0 | H92: =E92-F92-G92 -> 0 | I92: 2 | J92: 0 | K92: 1 | L92: =I92-J92-K92 -> 1 | M92: 0 | N92: 0 | O92: 0 | P92: =M92-N92-O92 -> 0 | Q92: 0.1 | R92: 0 | S92: 0 | T92: =Q92-R92-S92 -> 0.1 | U92: =SUM(E92,I92,M92,Q92) -> 2.1 | V92: =SUM(F92,J92,N92,R92,) -> 0 | W92: =SUM(G92,K92,O92,S92,) -> 1 | X92: =U92-V92-W92 -> 1.1 | Y92: =X92 -> 1.1 | Z92: 0 | AA92: 2 Agents, part-time attorney
A93: Private | B93: Smith, Omia | C93: TYRRELL | D93: 7 | E93: 0.5 | F93: 0 | G93: 0 | H93: =E93-F93-G93 -> 0.5 | I93: 0.5 | J93: 0 | K93: 0 | L93: =I93-J93-K93 -> 0.5 | M93: 0 | N93: 0 | O93: 0 | P93: =M93-N93-O93 -> 0 | Q93: 0 | R93: 0 | S93: 0 | T93: =Q93-R93-S93 -> 0 | U93: =SUM(E93,I93,M93,Q93) -> 1 | V93: =SUM(F93,J93,N93,R93,) -> 0 | W93: =SUM(G93,K93,O93,S93,) -> 0 | X93: =U93-V93-W93 -> 1 | Y93: =X93 -> 1 | Z93: 0.1 | AA93: Attorney
A94: Private | B94: Hasty, Laurie | C94: UNION | D94: 4 | E94: 2 | F94: 0 | G94: 0 | H94: =E94-F94-G94 -> 2 | I94: 9 | J94: 0 | K94: 1 | L94: =I94-J94-K94 -> 8 | M94: 2 | N94: 0 | O94: 0 | P94: =M94-N94-O94 -> 2 | Q94: 1 | R94: 0 | S94: 0 | T94: =Q94-R94-S94 -> 1 | U94: =SUM(E94,I94,M94,Q94) -> 14 | V94: =SUM(F94,J94,N94,R94,) -> 0 | W94: =SUM(G94,K94,O94,S94,) -> 1 | X94: =U94-V94-W94 -> 13 | Y94: =X94 -> 13 | Z94: 0
A95: DSS/OTHER | B95: Mayfield, Kristi | C95: VANCE | D95: 5 | E95: 1.5 | F95: 0 | G95: 0 | H95: =E95-F95-G95 -> 1.5 | I95: 10.5 | J95: 0 | K95: 0 | L95: =I95-J95-K95 -> 10.5 | M95: 0 | N95: 0 | O95: 0 | P95: =M95-N95-O95 -> 0 | Q95: 0 | R95: 0 | S95: 0 | T95: =Q95-R95-S95 -> 0 | U95: =SUM(E95,I95,M95,Q95) -> 12 | V95: =SUM(F95,J95,N95,R95,) -> 0 | W95: =SUM(G95,K95,O95,S95,) -> 0 | X95: =U95-V95-W95 -> 12 | Y95: =X95 -> 12 | Z95: 1.23 | AA95: .23 Attorney / 1.00 Sheriff 's Lieutenant
A96: DSS/OTHER | B96: Mayfield, Kristi | C96: WAKE | D96: 5 | E96: 11 | F96: 0 | G96: 0 | H96: =E96-F96-G96 -> 11 | I96: 45 | J96: 0 | K96: 2 | L96: =I96-J96-K96 -> 43 | M96: 12 | N96: 0 | O96: 1 | P96: =M96-N96-O96 -> 11 | Q96: 10 | R96: 0 | S96: 0 | T96: =Q96-R96-S96 -> 10 | U96: =SUM(E96,I96,M96,Q96) -> 78 | V96: =SUM(F96,J96,N96,R96,) -> 0 | W96: =SUM(G96,K96,O96,S96,) -> 3 | X96: =U96-V96-W96 -> 75 | Y96: =X96 -> 75 | Z96: 2.8 | AA96: Data Analyst (24 hrs); Paralegal (24 hrs); 2 Admin Case Agents (24/16 hrs); IT Business Analyst (24)
A97: DSS/OTHER | B97: Mayfield, Kristi | C97: WARREN | D97: 5 | E97: 1 | F97: 0 | G97: 0 | H97: =E97-F97-G97 -> 1 | I97: 4 | J97: 0 | K97: 1 | L97: =I97-J97-K97 -> 3 | M97: 1 | N97: 0 | O97: 1 | P97: =M97-N97-O97 -> 0 | Q97: 0 | R97: 0 | S97: 0 | T97: =Q97-R97-S97 -> 0 | U97: =SUM(E97,I97,M97,Q97) -> 6 | V97: =SUM(F97,J97,N97,R97,) -> 0 | W97: =SUM(G97,K97,O97,S97,) -> 2 | X97: =U97-V97-W97 -> 4 | Y97: =X97 -> 4 | Z97: 1.25 | AA97: .25 Attorney, 1 Deputy
A98: Private | B98: Smith, Omia | C98: WASHINGTON | D98: 7 | E98: 0.25 | F98: 0 | G98: 0 | H98: =E98-F98-G98 -> 0.25 | I98: 1 | J98: 0 | K98: 0 | L98: =I98-J98-K98 -> 1 | M98: 0 | N98: 0 | O98: 0 | P98: =M98-N98-O98 -> 0 | Q98: 0 | R98: 0 | S98: 0 | T98: =Q98-R98-S98 -> 0 | U98: =SUM(E98,I98,M98,Q98) -> 1.25 | V98: =SUM(F98,J98,N98,R98,) -> 0 | W98: =SUM(G98,K98,O98,S98,) -> 0 | X98: =U98-V98-W98 -> 1.25 | Y98: =X98 -> 1.25 | Z98: 0.1 | AA98: Attorney
A99: DSS/OTHER | B99: Loftin, Angela | C99: WATAUGA | D99: 2 | E99: 1 | F99: 0 | G99: 0 | H99: =E99-F99-G99 -> 1 | I99: 1 | J99: 0 | K99: 0 | L99: =I99-J99-K99 -> 1 | M99: 0 | N99: 0 | O99: 0 | P99: =M99-N99-O99 -> 0 | Q99: 0 | R99: 0 | S99: 0 | T99: =Q99-R99-S99 -> 0 | U99: =SUM(E99,I99,M99,Q99) -> 2 | V99: =SUM(F99,J99,N99,R99,) -> 0 | W99: =SUM(G99,K99,O99,S99,) -> 0 | X99: =U99-V99-W99 -> 2 | Y99: =X99 -> 2 | Z99: 0
A100: Private | B100: Mayfield, Kristi | C100: WAYNE | D100: 5 | E100: 3 | F100: 0 | G100: 0 | H100: =E100-F100-G100 -> 3 | I100: 10 | J100: 0 | K100: 0 | L100: =I100-J100-K100 -> 10 | M100: 3.5 | N100: 0 | O100: 0 | P100: =M100-N100-O100 -> 3.5 | Q100: 1 | R100: 0 | S100: 0 | T100: =Q100-R100-S100 -> 1 | U100: =SUM(E100,I100,M100,Q100) -> 17.5 | V100: =SUM(F100,J100,N100,R100,) -> 0 | W100: =SUM(G100,K100,O100,S100,) -> 0 | X100: =U100-V100-W100 -> 17.5 | Y100: =X100 -> 17.5 | Z100: 0.4 | AA100: .40 Attorney
...

Sheet Self-Assessment Scores for All 
A1: SELF-ASSESSMENT 09/2026 | D1: CASE CLOSURE | E1: ENFORCEMENT | F1: ESTABLISHMENT | G1: EXPEDITED PROCESS 12 MONTH | H1: EXPEDITED PROCESS 6 MONTH | I1: INTERSTATE | J1: MEDICAL | K1: REVIEW AND ADJUSTMENT INCLUSIVE | L1: REVIEW AND ADJUSTMENT REVIEW NEEDED
A2: COUNTY | B2: CONSULTANT | C2: STANDARD | D2: 90 | E2: 75 | F2: 75 | G2: 90 | H2: 75 | I2: 75 | J2: 75 | K2: 75 | L2: 75
C3: STATEWIDE SCORE REGION | D3: 99.068258 | E3: 89.27789 | F3: 73.515474 | G3: 93.645014 | H3: 83.127525 | I3: 82.987672 | J3: 88.053521 | K3: 98.824319 | L3: 89.5962
A4: ALAMANCE | B4: Newsome, Kenya | C4: 3 | D4: 99.396135 | E4: 89.217836 | F4: 69.020867 | G4: 91.005291 | H4: 89.0625 | I4: 68.292683 | J4: 87.33945 | K4: 98.601399 | L4: 83.606557
A5: ALEXANDER | B5: Loftin, Angela | C5: 2 | D5: 99.713467 | E5: 92.964824 | F5: 84.415584 | G5: 90.47619 | H5: 80.952381 | I5: 72.413793 | J5: 90.650407 | K5: 97.391304 | L5: 88.461538
A6: ALLEGHANY | B6: Loftin, Angela | C6: 2 | D6: 100 | E6: 66.666667 | F6: 65 | I6: 83.333333 | J6: 91.37931 | K6: 100 | L6: 100
A7: ANSON | B7: Hasty, Laurie | C7: 4 | D7: 98.689956 | E7: 89.880305 | F7: 64.925373 | G7: 100 | H7: 85.294118 | I7: 80 | J7: 87.977369 | K7: 93.469388 | L7: 52.941176
A8: ASHE | B8: Loftin, Angela | C8: 2 | D8: 98.857143 | E8: 91.015625 | F8: 94.117647 | G8: 97.142857 | H8: 97.058824 | I8: 96.774194 | J8: 94.475138 | K8: 100 | L8: 100
A9: AVERY | B9: Loftin, Angela | C9: 2 | D9: 98.823529 | E9: 83.333333 | F9: 63.265306 | G9: 100 | H9: 87.5 | I9: 73.333333 | J9: 79.816514 | K9: 92 | L9: 33.333333
A10: BEAUFORT | B10: Smith, Omia | C10: 7 | D10: 99.797571 | E10: 86.030151 | F10: 87.195122 | G10: 98.214286 | H10: 96.428571 | I10: 82.051282 | J10: 81.914894 | K10: 98.601399 | L10: 86.666667
A11: BERTIE | B11: Smith, Omia | C11: 7 | D11: 99.24812 | E11: 92.393321 | F11: 53.846154 | G11: 100 | H11: 90 | I11: 90 | J11: 88.036117 | K11: 99.2 | L11: 80
A12: BLADEN | B12: Foreman, Cora | C12: 6 | D12: 99.616858 | E12: 89.366273 | F12: 65.730337 | G12: 94.285714 | H12: 75.675676 | I12: 80.769231 | J12: 84.90099 | K12: 94.055944 | L12: 54.054054
A13: BRUNSWICK | B13: Foreman, Cora | C13: 6 | D13: 98.895028 | E13: 89.734816 | F13: 94.247788 | G13: 99.047619 | H13: 96.078431 | I13: 80.681818 | J13: 94.736842 | K13: 98.172324 | L13: 85.416667
A14: BUNCOMBE | B14: Jenkins, Pamela | C14: 1 | D14: 99.489051 | E14: 89.567669 | F14: 97.490347 | G14: 98.4 | H14: 94.53125 | I14: 85.443038 | J14: 97.052402 | K14: 99.381762 | L14: 94.594595
A15: BURKE | B15: Loftin, Angela | C15: 2 | D15: 98.77551 | E15: 90.631164 | F15: 95.643564 | G15: 95.081967 | H15: 94.827586 | I15: 67.857143 | J15: 96.385542 | K15: 99.115044 | L15: 95.348837
A16: CABARRUS | B16: Hasty, Laurie | C16: 4 | D16: 99.776786 | E16: 94.399502 | F16: 95.314788 | G16: 98.425197 | H16: 96.862745 | I16: 88.586957 | J16: 99.684543 | K16: 99.695122 | L16: 98.734177
A17: CALDWELL | B17: Loftin, Angela | C17: 2 | D17: 99.148211 | E17: 94.731296 | F17: 96.441281 | G17: 97.333333 | H17: 94.444444 | I17: 94.871795 | J17: 95.166858 | K17: 99.082569 | L17: 92.682927
A18: CAMDEN | B18: Smith, Omia | C18: 7 | D18: 100 | E18: 88.372093 | F18: 91.304348 | G18: 77.777778 | H18: 77.777778 | I18: 100 | J18: 83.333333 | K18: 100 | L18: 100
... A41: GATES | B41: Smith, Omia | C41: 7 | D41: 98.412698 | E41: 91.452991 | F41: 58.333333 | G41: 100 | H41: 100 | I41: 83.333333 | J41: 73.404255 | K41: 97.560976 | L41: 80
A42: GRAHAM | B42: Jenkins, Pamela | C42: 1 | D42: 97.368421 | E42: 89.156627 | F42: 66.666667 | G42: #DIV/0 | H42: #DIV/0 | I42: 60 | J42: 81.481481 | K42: 96.875 | L42: 66.666667
A43: GRANVILLE | B43: Mayfield, Kristi | C43: 5 | D43: 99.357602 | E43: 89.978903 | F43: 96.527778 | G43: 100 | H43: 100 | I43: 97.297297 | J43: 90.812721 | K43: 98.421053 | L43: 90
A44: GREENE | B44: Mayfield, Kristi | C44: 5 | D44: 99.537037 | E44: 89.005236 | F44: 93.548387 | G44: 100 | H44: 96.078431 | I44: 90.909091 | J44: 91.333333 | K44: 98.601399 | L44: 91.666667
A45: GUIL - Gboro | B45: Newsome, Kenya | C45: 3 | D45: 98.814532 | E45: 88.651437 | F45: 86.061381 | G45: 97.191011 | H45: 81.440443 | I45: 91.186441 | J45: 92.904427 | K45: 99.519231 | L45: 95.205479
A46: GUIL - HP | B46: Newsome, Kenya | C46: 3 | D46: 98.696682 | E46: 89.012004 | F46: 82.618026 | G46: 98 | H46: 91.608392 | I46: 80.851064 | J46: 94.092827 | K46: 98.296422 | L46: 80.392157
A47: HALIFAX | B47: Mayfield, Kristi | C47: 5 | D47: 98.666667 | E47: 92.812777 | F47: 81.13879 | G47: 96.491228 | H47: 93.859649 | I47: 97.826087 | J47: 94.847021 | K47: 100 | L47: 100
A48: HARNETT | B48: Hasty, Laurie | C48: 4 | D48: 99.84 | E48: 90.620272 | F48: 75.257732 | G48: 91.666667 | H48: 79.591837 | I48: 92.391304 | J48: 79.699248 | K48: 97.814208 | L48: 64.705882
A49: HAYWOOD | B49: Jenkins, Pamela | C49: 1 | D49: 98.963731 | E49: 89.61039 | F49: 95.56962 | G49: 100 | H49: 100 | I49: 76.470588 | J49: 95.635674 | K49: 97.515528 | L49: 73.333333
A50: HENDERSON | B50: Jenkins, Pamela | C50: 1 | D50: 99.804305 | E50: 92.239186 | F50: 99.576271 | G50: 100 | H50: 94.117647 | I50: 97.058824 | J50: 98.591549 | K50: 100 | L50: 100
A51: HERTFORD | B51: Smith, Omia | C51: 7 | D51: 97.790055 | E51: 89.946381 | F51: 65.625 | G51: 100 | H51: 100 | I51: 76 | J51: 84.355828 | K51: 93.121693 | L51: 53.571429
A52: HOKE | B52: Hasty, Laurie | C52: 4 | D52: 98.550725 | E52: 88.092933 | F52: 53.308824 | G52: 93.181818 | H52: 80 | I52: 77.777778 | J52: 88.4 | K52: 98.728814 | L52: 88.461538
A53: HYDE | B53: Smith, Omia | C53: 7 | D53: 92 | E53: 83.333333 | F53: 100 | G53: 100 | H53: 100 | I53: 100 | J53: 77.083333 | K53: 100 | L53: 100
A54: IREDELL | B54: Loftin, Angela | C54: 2 | D54: 99.565689 | E54: 89.21613 | F54: 80.769231 | G54: 92.982456 | H54: 79.83871 | I54: 88.181818 | J54: 91.765579 | K54: 99.335548 | L54: 78.947368
... A71: NORTHAMPTON | B71: Mayfield, Kristi | C71: 5 | D71: 97.959184 | E71: 82.379518 | F71: 89.473684 | G71: 100 | H71: 100 | I71: 78.571429 | J71: 86.956522 | K71: 99.152542 | L71: 90
A72: NORTH CAROLINA | D72: 99.983918 | E72: 100 | F72: 0 | I72: 0
A73: ONSLOW | B73: Foreman, Cora | C73: 6 | D73: 99.119295 | E73: 89.360902 | F73: 63.823934 | G73: 81.896552 | H73: 61.832061 | I73: 90.58296 | J73: 78.685481 | K73: 99.5086 | L73: 93.333333
A74: ORANGE | B74: Newsome, Kenya | C74: 3 | D74: 99.112426 | E74: 91.153846 | F74: 89 | G74: 88.709677 | H74: 78.125 | I74: 92.5 | J74: 89.336493 | K74: 98.453608 | L74: 90.322581
A75: PAMLICO | B75: Foreman, Cora | C75: 6 | D75: 98.461538 | E75: 91.219512 | F75: 60.606061 | G75: 100 | H75: 83.333333 | I75: 53.846154 | J75: 93.902439 | K75: 98.076923 | L75: 93.333333
A76: PASQUOTANK | B76: Smith, Omia | C76: 7 | D76: 99.104478 | E76: 90.01387 | F76: 58.139535 | G76: 100 | H76: 100 | I76: 83.333333 | J76: 82.608696 | K76: 100 | L76: 100
A77: PENDER | B77: Foreman, Cora | C77: 6 | D77: 99.685535 | E77: 88.466948 | F77: 98.850575 | G77: 90.740741 | H77: 82.692308 | I77: 93.181818 | J77: 96.68325 | K77: 98.93617 | L77: 90.47619
A78: PERQUIMANS | B78: Smith, Omia | C78: 7 | D78: 96.703297 | E78: 88.823529 | F78: 76.056338 | G78: 100 | H78: 84.615385 | I78: 77.777778 | J78: 84.962406 | K78: 98.181818 | L78: 83.333333
A79: PERSON | B79: Newsome, Kenya | C79: 3 | D79: 99.57265 | E79: 92.357513 | F79: 90.983607 | G79: 100 | H79: 95.652174 | I79: 76.190476 | J79: 85.025381 | K79: 99.425287 | L79: 95.652174
A80: PITT | B80: Mayfield, Kristi | C80: 5 | D80: 96.765847 | E80: 89.889229 | F80: 79.065239 | G80: 94.774347 | H80: 80.454545 | I80: 96.875 | J80: 93.752809 | K80: 99.908004 | L80: 99.122807
A81: POLK | B81: Jenkins, Pamela | C81: 1 | D81: 100 | E81: 89.719626 | F81: 58.62069 | G81: 100 | H81: 100 | I81: 80 | J81: 98.529412 | K81: 100 | L81: 100
A82: RANDOLPH | B82: Newsome, Kenya | C82: 3 | D82: 99.15878 | E82: 88.526373 | F82: 73.611111 | G82: 93.75 | H82: 79.166667 | I82: 81.034483 | J82: 78.36478 | K82: 97.940075 | L82: 81.355932
A83: RICHMOND | B83: Hasty, Laurie | C83: 4 | D83: 100 | E83: 90.646921 | F83: 93.851133 | G83: 90.322581 | H83: 73.75 | I83: 96.969697 | J83: 93.625977 | K83: 99.457995 | L83: 95.652174
A84: ROBESON | B84: Hasty, Laurie | C84: 4 | D84: 98.950525 | E84: 87.713998 | F84: 84.063047 | G84: 96.995708 | H84: 94.323144 | I84: 85.9375 | J84: 75.891239 | K84: 98.381071 | L84: 77.586207
... A94: TRANSYLVANIA | B94: Jenkins, Pamela | C94: 1 | D94: 99.159664 | E94: 90.829694 | F94: 95.27027 | G94: 100 | H94: 91.666667 | I94: 83.333333 | J94: 96.571429 | K94: 100 | L94: 100
A95: TYRRELL | B95: Smith, Omia | C95: 7 | D95: 100 | E95: 95.652174 | F95: 75 | G95: 100 | H95: 100 | I95: 100 | J95: 97.014925 | K95: 100
A96: UNION | B96: Hasty, Laurie | C96: 4 | D96: 99.363636 | E96: 87.143656 | F96: 94.091904 | G96: 99.333333 | H96: 97.333333 | I96: 75.694444 | J96: 86.287953 | K96: 97.040169 | L96: 86.915888
A97: VANCE | B97: Mayfield, Kristi | C97: 5 | D97: 99.47644 | E97: 92.346616 | F97: 91.891892 | G97: 100 | H97: 100 | I97: 81.818182 | J97: 95.096463 | K97: 100 | L97: 100
A98: WAKE | B98: Mayfield, Kristi | C98: 5 | D98: 98.923247 | E98: 89.27994 | F98: 67.701654 | G98: 94.827586 | H98: 78.977273 | I98: 79.466119 | J98: 84.424424 | K98: 97.342872 | L98: 72.774869
A99: WARREN | B99: Mayfield, Kristi | C99: 5 | D99: 96.875 | E99: 91.970803 | F99: 67.647059 | G99: 86.956522 | H99: 86.956522 | I99: 87.5 | J99: 90.990991 | K99: 100 | L99: 100
A100: WASHINGTON | B100: Smith, Omia | C100: 7 | D100: 99.186992 | E100: 88.978495 | F100: 76.086957 | G100: 100 | H100: 81.818182 | I100: 70 | J100: 84.52381 | K100: 97.435897 | L100: 83.333333
A101: WATAUGA | B101: Loftin, Angela | C101: 2 | D101: 98.969072 | E101: 92.810458 | F101: 94.444444 | G101: 94.736842 | H101: 89.473684 | I101: 93.333333 | J101: 99.009901 | K101: 100 | L101: 100
A102: WAYNE | B102: Mayfield, Kristi | C102: 5 | D102: 98.16092 | E102: 88.916486 | F102: 70.250896 | G102: 94.736842 | H102: 93.283582 | I102: 88.349515 | J102: 92.822086 | K102: 98.869144 | L102: 91.139241
A103: WILKES | B103: Loftin, Angela | C103: 2 | D103: 99.044586 | E103: 95.233051 | F103: 72.556391 | G103: 88.679245 | H103: 81.132075 | I103: 73.333333 | J103: 99.361702 | K103: 100 | L103: 100
A104: WILSON | B104: Mayfield, Kristi | C104: 5 | D104: 98.113208 | E104: 90.501446 | F104: 90.754717 | G104: 98.75 | H104: 95.56962 | I104: 87.5 | J104: 97.521866 | K104: 99.412916 | L104: 91.891892
A105: YADKIN | B105: Newsome, Kenya | C105: 3 | D105: 97.163121 | E105: 91.015625 | F105: 71.264368 | G105: 96.153846 | H105: 96.153846 | I105: 66.666667 | J105: 88.571429 | K105: 98.550725 | L105: 84.615385
A106: YANCEY | B106: Jenkins, Pamela | C106: 1 | D106: 100 | E106: 84.848485 | F106: 52.941176 | G106: 84.615385 | H106: 76.923077 | I106: 83.333333 | J106: 89.719626 | K106: 100 | L106: 100
D107: 100 | E107: 84.848485 | F107: 52.941176 | G107: 84.615385 | H107: 76.923077 | I107: 83.333333 | J107: 89.719626 | K107: 100 | L107: 100
A108: Edgecombe Tot | B108: Mayfield, Kristi | C108: 5 | D108: 97.62 | E108: 88.51 | F108: 15.52 | G108: 73.58 | H108: 71.7 | I108: 95.83 | J108: 81.65 | K108: 97.79 | L108: 84.21
A109: Guilford Tot | B109: Newsome, Kenya | C109: 3 | D109: 98.79 | E109: 88.75 | F109: 85.49 | G109: 97.43 | H109: 84.33 | I109: 88.69 | J109: 93.14 | K109: 99.17 | L109: 91.37
A111: Edgecombe Tot & Guilford Tot (See Matrix)

Sheet Incentive Goal
A1: Incentive Goal SFY2027 09/2026 | D1: TOTAL DISBURSED COLLECTIONS | G1: PATERNITY ESTABLISHMENT | K1: CASES UNDER ORDER | O1: CURRENT SUPPORT | S1: ARREARS | W1: MEDICAL
A2: County | B2: County Fips | C2: Region | D2: SFY Actual | E2: Goal | F2: % of Goal | G2: Prev BOW | H2: Pat Est | I2: %PatEst | J2: Goal | K2: Open Cases | L2: CUO | M2: %CUO | N2: Goal | O2: CSup due | P2: CSup Coll | Q2: %CurCol | R2: Goal | S2: Cases Arr due | T2: Cases Arr Col | U2: %Arr | V2: Goal | W2: MedCase | X2: MedSup | Y2: %Med
A3: ALAMANCE | B3: 3700100400 | C3: 3 | D3: 2657946.9 | E3: 10507571 | F3: 0.2529554 | G3: 3748 | H3: 3258 | I3: 0.86926361 | J3: 0.94672801 | K3: 4954 | L3: 4328 | M3: 0.87363746 | N3: 0.87333466 | O3: 3069967.1 | P3: 2062232.4 | Q3: 0.67174415 | R3: 0.65601555 | S3: 3536 | T3: 1697 | U3: 0.47992081 | V3: 0.66755246 | W3: 2863 | X3: 2213 | Y3: 0.77296542
A4: ALEXANDER | B4: 3700300800 | C4: 2 | D4: 383624.11 | E4: 1551276.9 | F4: 0.24729571 | G4: 645 | H4: 615 | I4: 0.95348837 | J4: 1 | K4: 869 | L4: 784 | M4: 0.90218642 | N4: 0.9 | O4: 446776.38 | P4: 302635.52 | Q4: 0.67737583 | R4: 0.67340626 | S4: 588 | T4: 274 | U4: 0.46598639 | V4: 0.64997878 | W4: 459 | X4: 380 | Y4: 0.82788671
A5: ALLEGHANY | B5: 3700500800 | C5: 2 | D5: 124603.88 | E5: 481497.15 | F5: 0.25878425 | G5: 197 | H5: 188 | I5: 0.95431472 | J5: 1 | K5: 296 | L5: 267 | M5: 0.90202703 | N5: 0.9 | O5: 147701.02 | P5: 91834.46 | Q5: 0.62175915 | R5: 0.6093009 | S5: 224 | T5: 98 | U5: 0.4375 | V5: 0.63953815 | W5: 132 | X5: 108 | Y5: 0.81818182
A6: ANSON | B6: 3700700400 | C6: 4 | D6: 673400.5 | E6: 2794575.4 | F6: 0.24096702 | G6: 1383 | H6: 1298 | I6: 0.93853941 | J6: 0.92530945 | K6: 1772 | L6: 1677 | M6: 0.94638826 | N6: 0.9 | O6: 853822.57 | P6: 517744.86 | Q6: 0.6063846 | R6: 0.60847558 | S6: 1222 | T6: 525 | U6: 0.42962357 | V6: 0.62671687 | W6: 1103 | X6: 944 | Y6: 0.85584769
A7: ASHE | B7: 3700900800 | C7: 2 | D7: 338487.95 | E7: 1287145.1 | F7: 0.26297575 | G7: 426 | H7: 397 | I7: 0.93192488 | J7: 1 | K7: 718 | L7: 668 | M7: 0.93036212 | N7: 0.9 | O7: 369696.88 | P7: 274527.25 | Q7: 0.74257389 | R7: 0.7 | S7: 489 | T7: 256 | U7: 0.52351738 | V7: 0.7 | W7: 460 | X7: 382 | Y7: 0.83043478
A8: AVERY | B8: 3701100200 | C8: 2 | D8: 139445.56 | E8: 526735.5 | F8: 0.26473545 | G8: 164 | H8: 156 | I8: 0.95121951 | J8: 1 | K8: 251 | L8: 211 | M8: 0.84063745 | N8: 0.84484375 | O8: 163345.73 | P8: 117936.66 | Q8: 0.72200638 | R8: 0.7 | S8: 155 | T8: 75 | U8: 0.48387097 | V8: 0.61215054 | W8: 156 | X8: 68 | Y8: 0.43589744
A9: BEAUFORT | B9: 3701300700 | C9: 7 | D9: 833706.15 | E9: 3713593.9 | F9: 0.22450116 | G9: 1353 | H9: 1240 | I9: 0.91648189 | J9: 0.98737542 | K9: 1715 | L9: 1641 | M9: 0.95685131 | N9: 0.9 | O9: 914096.4 | P9: 619965.37 | Q9: 0.67822756 | R9: 0.685527 | S9: 1315 | T9: 631 | U9: 0.47984791 | V9: 0.69175196 | W9: 993 | X9: 839 | Y9: 0.8449144
A10: BERTIE | B10: 3701500100 | C10: 7 | D10: 450363.67 | E10: 1865172.6 | F10: 0.24145951 | G10: 784 | H10: 721 | I10: 0.91964286 | J10: 0.95976636 | K10: 989 | L10: 952 | M10: 0.96258847 | N10: 0.9 | O10: 497903.13 | P10: 343133.97 | Q10: 0.68915809 | R10: 0.66980207 | S10: 706 | T10: 353 | U10: 0.5 | V10: 0.6882793 | W10: 599 | X10: 506 | Y10: 0.84474124
A11: BLADEN | B11: 3701700700 | C11: 6 | D11: 859552.45 | E11: 3799649.5 | F11: 0.22621888 | G11: 1349 | H11: 1204 | I11: 0.89251297 | J11: 0.95506259 | K11: 1793 | L11: 1608 | M11: 0.89682097 | N11: 0.9 | O11: 1142725.7 | P11: 722626.87 | Q11: 0.63237122 | R11: 0.65703343 | S11: 1381 | T11: 554 | U11: 0.40115858 | V11: 0.62538462 | W11: 1092 | X11: 952 | Y11: 0.87179487
A12: BRUNSWICK | B12: 3701900700 | C12: 6 | D12: 1681413.1 | E12: 6316195.8 | F12: 0.26620662 | G12: 2369 | H12: 2277 | I12: 0.96116505 | J12: 1 | K12: 2929 | L12: 2661 | M12: 0.90850119 | N12: 0.9 | O12: 1878805.7 | P12: 1377795.5 | Q12: 0.73333578 | R12: 0.7 | S12: 1726 | T12: 855 | U12: 0.49536501 | V12: 0.7 | W12: 2161 | X12: 1799 | Y12: 0.83248496
A13: BUNCOMBE | B13: 3702100500 | C13: 1 | D13: 2424445.4 | E13: 10357493 | F13: 0.23407647 | G13: 3264 | H13: 3127 | I13: 0.95802696 | J13: 1 | K13: 4652 | L13: 4467 | M13: 0.96023216 | N13: 0.9 | O13: 2642076.6 | P13: 1868654.9 | Q13: 0.70726751 | R13: 0.7 | S13: 3342 | T13: 1704 | U13: 0.50987433 | V13: 0.69582909 | W13: 2600 | X13: 1896 | Y13: 0.72923077
A14: BURKE | B14: 3702300500 | C14: 2 | D14: 998421.98 | E14: 3862616.8 | F14: 0.25848331 | G14: 1280 | H14: 1244 | I14: 0.971875 | J14: 1 | K14: 2201 | L14: 1848 | M14: 0.83961836 | N14: 0.86090119 | O14: 1151951.1 | P14: 790789.77 | Q14: 0.68647857 | R14: 0.66483412 | S14: 1629 | T14: 750 | U14: 0.46040516 | V14: 0.67009434 | W14: 1046 | X14: 779 | Y14: 0.74474187
... A45: GUIL - HP | B45: 3728100400 | C45: 3 | D45: 2129526.8 | E45: 8367759.6 | F45: 0.25449187 | G45: 3430 | H45: 3154 | I45: 0.91953353 | J45: 0.99080268 | K45: 4135 | L45: 3707 | M45: 0.89649335 | N45: 0.8977894 | O45: 2372870.5 | P45: 1677814.1 | Q45: 0.70708201 | R45: 0.69678731 | S45: 3033 | T45: 1562 | U45: 0.51500165 | V45: 0.7 | W45: 2441 | X45: 2079 | Y45: 0.85170012
K46: =SUM(K44:K45) -> 15421
A47: HALIFAX | B47: 3708300900 | C47: 5 | D47: 1365976.8 | E47: 5507469.2 | F47: 0.2480226 | G47: 2137 | H47: 1973 | I47: 0.9232569 | J47: 0.99550965 | K47: 2710 | L47: 2330 | M47: 0.8597786 | N47: 0.87373004 | O47: 1450420.3 | P47: 1011125.2 | Q47: 0.69712565 | R47: 0.67040093 | S47: 1842 | T47: 968 | U47: 0.52551574 | V47: 0.7 | W47: 1462 | X47: 1206 | Y47: 0.8248974
A48: HARNETT | B48: 3708500300 | C48: 4 | D48: 2497085.8 | E48: 9313095.4 | F48: 0.2681263 | G48: 2838 | H48: 2633 | I48: 0.92776603 | J48: 1 | K48: 3929 | L48: 3494 | M48: 0.88928481 | N48: 0.9 | O48: 2856509.8 | P48: 2016261.8 | Q48: 0.70584805 | R48: 0.69982494 | S48: 2824 | T48: 1347 | U48: 0.476983 | V48: 0.6795035 | W48: 1942 | X48: 1522 | Y48: 0.78372812
A49: HAYWOOD | B49: 3708700500 | C49: 1 | D49: 646402.24 | E49: 2629564.1 | F49: 0.24582106 | G49: 686 | H49: 660 | I49: 0.96209913 | J49: 1 | K49: 1017 | L49: 895 | M49: 0.88003933 | N49: 0.89815713 | O49: 711437.66 | P49: 550908.34 | Q49: 0.77435926 | R49: 0.7 | S49: 658 | T49: 349 | U49: 0.53039514 | V49: 0.7 | W49: 686 | X49: 546 | Y49: 0.79591837
A50: HENDERSON | B50: 3708900500 | C50: 1 | D50: 918035.61 | E50: 3660477.2 | F50: 0.2507967 | G50: 1052 | H50: 985 | I50: 0.93631179 | J50: 1 | K50: 1442 | L50: 1301 | M50: 0.90221914 | N50: 0.9 | O50: 979741.76 | P50: 755634.28 | Q50: 0.77125862 | R50: 0.7 | S50: 924 | T50: 548 | U50: 0.59307359 | V50: 0.7 | W50: 709 | X50: 531 | Y50: 0.74894217
A51: HERTFORD | B51: 3709100100 | C51: 7 | D51: 618309.89 | E51: 2569815.8 | F51: 0.24060475 | G51: 1200 | H51: 1117 | I51: 0.93083333 | J51: 0.95683486 | K51: 1311 | L51: 1243 | M51: 0.9481312 | N51: 0.9 | O51: 716688.2 | P51: 497887.64 | Q51: 0.69470607 | R51: 0.68440232 | S51: 884 | T51: 423 | U51: 0.47850679 | V51: 0.68613861 | W51: 880 | X51: 747 | Y51: 0.84886364
A52: HOKE | B52: 3709300600 | C52: 4 | D52: 998705.19 | E52: 4153957.5 | F52: 0.24042258 | G52: 1446 | H52: 1301 | I52: 0.89972337 | J52: 0.96952477 | K52: 2047 | L52: 1793 | M52: 0.87591597 | N52: 0.87789266 | O52: 1293791.6 | P52: 820811.51 | Q52: 0.63442329 | R52: 0.63843695 | S52: 1540 | T52: 624 | U52: 0.40519481 | V52: 0.63480485 | W52: 1099 | X52: 728 | Y52: 0.66242038
A53: HYDE | B53: 3709500100 | C53: 7 | D53: 57974.56 | E53: 220181.05 | F53: 0.26330404 | G53: 57 | H53: 52 | I53: 0.9122807 | J53: 1 | K53: 95 | L53: 92 | M53: 0.96842105 | N53: 0.9 | O53: 57560.68 | P53: 41854.31 | Q53: 0.7271337 | R53: 0.62153185 | S53: 81 | T53: 40 | U53: 0.49382716 | V53: 0.69791667 | W53: 52 | X53: 43 | Y53: 0.82692308
A54: IREDELL | B54: 3709700800 | C54: 2 | D54: 2345658.1 | E54: 9815480.8 | F54: 0.23897536 | G54: 3192 | H54: 2894 | I54: 0.9066416 | J54: 1 | K54: 4209 | L54: 3570 | M54: 0.84818247 | N54: 0.86164172 | O54: 2556819 | P54: 1772855.4 | Q54: 0.69338323 | R54: 0.69372879 | S54: 2957 | T54: 1417 | U54: 0.47920189 | V54: 0.69927007 | W54: 2409 | X54: 1869 | Y54: 0.7758406
A55: JACKSON | B55: 3709900500 | C55: 1 | D55: 406653.17 | E55: 1689446.3 | F55: 0.24070205 | G55: 425 | H55: 384 | I55: 0.90352941 | J55: 0.9978308 | K55: 710 | L55: 626 | M55: 0.88169014 | N55: 0.89408528 | O55: 490419.57 | P55: 307583.85 | Q55: 0.62718511 | R55: 0.6246863 | S55: 517 | T55: 221 | U55: 0.42746615 | V55: 0.65451768 | W55: 344 | X55: 219 | Y55: 0.63662791
A56: JOHNSTON | B56: 3710100900 | C56: 5 | D56: 3706050.7 | E56: 14721920 | F56: 0.25173692 | G56: 3722 | H56: 3559 | I56: 0.95620634 | J56: 1 | K56: 4618 | L56: 4083 | M56: 0.88414898 | N56: 0.89526238 | O56: 4226365.1 | P56: 3065264.7 | Q56: 0.7252721 | R56: 0.7 | S56: 3300 | T56: 1736 | U56: 0.52606061 | V56: 0.7 | W56: 2862 | X56: 2316 | Y56: 0.80922432
A57: JONES | B57: 3710300700 | C57: 6 | D57: 163763.21 | E57: 708011.04 | F57: 0.23130036 | G57: 182 | H57: 159 | I57: 0.87362637 | J57: 0.93574257 | K57: 325 | L57: 278 | M57: 0.85538462 | N57: 0.87009063 | O57: 178173.73 | P57: 122220.63 | Q57: 0.68596324 | R57: 0.7 | S57: 244 | T57: 111 | U57: 0.45491803 | V57: 0.69708029 | W57: 112 | X57: 89 | Y57: 0.79464286
A58: LEE | B58: 3710500600 | C58: 4 | D58: 954137.88 | E58: 3804465.1 | F58: 0.25079422 | G58: 1429 | H58: 1285 | I58: 0.89923023 | J58: 0.95909182 | K58: 1976 | L58: 1687 | M58: 0.85374494 | N58: 0.86724233 | O58: 1149056.8 | P58: 770866.46 | Q58: 0.67086892 | R58: 0.68025995 | S58: 1336 | T58: 584 | U58: 0.43712575 | V58: 0.67256393 | W58: 1144 | X58: 905 | Y58: 0.79108392
... A71: NORTHAMPTON | B71: 3713100900 | C71: 5 | D71: 462000.99 | E71: 1943700.6 | F71: 0.23769144 | G71: 949 | H71: 823 | I71: 0.86722866 | J71: 0.92641182 | K71: 1339 | L71: 1226 | M71: 0.91560866 | N71: 0.9 | O71: 543325.83 | P71: 330967.08 | Q71: 0.60915028 | R71: 0.60990929 | S71: 1008 | T71: 404 | U71: 0.40079365 | V71: 0.60663866 | W71: 689 | X71: 539 | Y71: 0.78229318
A72: NORTH CAROLINA | B72: 3700000000 | G72: 4 | H72: 5 | I72: 1.25 | J72: 1 | K72: 11 | L72: 4 | M72: 0.36363636 | N72: 0.35333333 | R72: 0.01 | S72: 2 | V72: 0.01
A73: ONSLOW | B73: 3713300700 | C73: 6 | D73: 4419612.7 | E73: 18790943 | F73: 0.23519909 | G73: 3655 | H73: 3338 | I73: 0.91326949 | J73: 0.98458428 | K73: 5924 | L73: 5332 | M73: 0.90006752 | N73: 0.9 | O73: 5061489.8 | P73: 3580657.1 | Q73: 0.70743146 | R73: 0.69830086 | S73: 4191 | T73: 1978 | U73: 0.47196373 | V73: 0.68259804 | W73: 3371 | X73: 2185 | Y73: 0.64817562
A74: ORANGE | B74: 3713500600 | C74: 3 | D74: 1010658.2 | E74: 4080181 | F74: 0.24769937 | G74: 1010 | H74: 924 | I74: 0.91485149 | J74: 1 | K74: 1435 | L74: 1206 | M74: 0.84041812 | N74: 0.86144599 | O74: 1028500.9 | P74: 742025.46 | Q74: 0.72146314 | R74: 0.7 | S74: 1046 | T74: 571 | U74: 0.5458891 | V74: 0.7 | W74: 543 | X74: 437 | Y74: 0.80478821
A75: PAMLICO | B75: 3713700100 | C75: 6 | D75: 165522.3 | E75: 738212.18 | F75: 0.22422049 | G75: 229 | H75: 210 | I75: 0.91703057 | J75: 0.98785425 | K75: 390 | L75: 362 | M75: 0.92820513 | N75: 0.9 | O75: 219578.17 | P75: 129653.39 | Q75: 0.59046576 | R75: 0.61301644 | S75: 324 | T75: 130 | U75: 0.40123457 | V75: 0.64411846 | W75: 201 | X75: 163 | Y75: 0.81094527
A76: PASQUOTANK | B76: 3713900100 | C76: 7 | D76: 937918.75 | E76: 3777474.4 | F76: 0.24829255 | G76: 1225 | H76: 1101 | I76: 0.89877551 | J76: 0.98997687 | K76: 1718 | L76: 1533 | M76: 0.89231665 | N76: 0.89863326 | O76: 940086.68 | P76: 658478.7 | Q76: 0.70044467 | R76: 0.69204817 | S76: 1184 | T76: 593 | U76: 0.50084459 | V76: 0.7 | W76: 917 | X76: 656 | Y76: 0.71537623
A77: PENDER | B77: 3714100300 | C77: 6 | D77: 888579.75 | E77: 3333874 | F77: 0.2665307 | G77: 927 | H77: 876 | I77: 0.94498382 | J77: 0.97928571 | K77: 1280 | L77: 1197 | M77: 0.93515625 | N77: 0.9 | O77: 1061742.8 | P77: 721452.13 | Q77: 0.67949804 | R77: 0.66824454 | S77: 998 | T77: 467 | U77: 0.46793587 | V77: 0.67470199 | W77: 855 | X77: 645 | Y77: 0.75438596
A78: PERQUIMANS | B78: 3714300100 | C78: 7 | D78: 236195.2 | E78: 1000682 | F78: 0.23603422 | G78: 280 | H78: 268 | I78: 0.95714286 | J78: 1 | K78: 420 | L78: 375 | M78: 0.89285714 | N78: 0.87557604 | O78: 239833.19 | P78: 182617.36 | Q78: 0.7614349 | R78: 0.7 | S78: 274 | T78: 155 | U78: 0.56569343 | V78: 0.7 | W78: 232 | X78: 170 | Y78: 0.73275862
A79: PERSON | B79: 3714500400 | C79: 3 | D79: 724224.92 | E79: 3115895.8 | F79: 0.23242912 | G79: 1235 | H79: 1131 | I79: 0.91578947 | J79: 0.97645062 | K79: 1535 | L79: 1406 | M79: 0.91596091 | N79: 0.9 | O79: 863102.57 | P79: 598503.65 | Q79: 0.69343282 | R79: 0.69774604 | S79: 1097 | T79: 520 | U79: 0.47402005 | V79: 0.7 | W79: 943 | X79: 783 | Y79: 0.83032874
A80: PITT | B80: 3714700900 | C80: 5 | D80: 3508987.3 | E80: 14753373 | F80: 0.23784306 | G80: 6212 | H80: 5727 | I80: 0.92192531 | J80: 1 | K80: 8541 | L80: 7826 | M80: 0.91628615 | N80: 0.9 | O80: 4218462.2 | P80: 2733481.5 | Q80: 0.64798055 | R80: 0.64502734 | S80: 6089 | T80: 2709 | U80: 0.44490064 | V80: 0.65687406 | W80: 3400 | X80: 2864 | Y80: 0.84235294
A81: POLK | B81: 3714900800 | C81: 1 | D81: 152032.02 | E81: 694512.73 | F81: 0.21890458 | G81: 157 | H81: 157 | I81: 1 | J81: 1 | K81: 262 | L81: 237 | M81: 0.90458015 | N81: 0.9 | O81: 176656.92 | P81: 135261.08 | Q81: 0.765671 | R81: 0.7 | S81: 194 | T81: 95 | U81: 0.48969072 | V81: 0.7 | W81: 121 | X81: 78 | Y81: 0.6446281
A82: RANDOLPH | B82: 3715100300 | C82: 3 | D82: 1916520.9 | E82: 8071898.6 | F82: 0.23743124 | G82: 2557 | H82: 2426 | I82: 0.94876809 | J82: 1 | K82: 3268 | L82: 3013 | M82: 0.92197062 | N82: 0.9 | O82: 2203001.2 | P82: 1522508.4 | Q82: 0.69110646 | R82: 0.69663796 | S82: 2401 | T82: 1125 | U82: 0.46855477 | V82: 0.6814221 | W82: 2082 | X82: 1681 | Y82: 0.80739673
A83: RICHMOND | B83: 3715300300 | C83: 4 | D83: 1222899.2 | E83: 5459630 | F83: 0.22398939 | G83: 2766 | H83: 2515 | I83: 0.90925524 | J83: 0.95642555 | K83: 3631 | L83: 3311 | M83: 0.91187001 | N83: 0.9 | O83: 1540687.6 | P83: 946546.32 | Q83: 0.61436617 | R83: 0.61310769 | S83: 2229 | T83: 829 | U83: 0.37191566 | V83: 0.59670989 | W83: 2285 | X83: 2088 | Y83: 0.91378556
A84: ROBESON | B84: 3715500700 | C84: 4 | D84: 2897206 | E84: 11857494 | F84: 0.24433545 | G84: 6288 | H84: 5710 | I84: 0.90807888 | J84: 0.99458426 | K84: 7323 | L84: 6347 | M84: 0.86672129 | N84: 0.88983167 | O84: 3383208 | P84: 2266830.4 | Q84: 0.67002396 | R84: 0.66437976 | S84: 4424 | T84: 2173 | U84: 0.49118445 | V84: 0.68666018 | W84: 4731 | X84: 4291 | Y84: 0.90699641
... A106: YANCEY | B106: 3719900500 | C106: 1 | D106: 186552.82 | E106: 663301.03 | F106: 0.2812491 | G106: 168 | H106: 164 | I106: 0.97619048 | J106: 1 | K106: 311 | L106: 243 | M106: 0.78135048 | N106: 0.82758958 | O106: 186910.41 | P106: 135383.36 | Q106: 0.7243222 | R106: 0.7 | S106: 169 | T106: 92 | U106: 0.5443787 | V106: 0.64748705 | W106: 167 | X106: 124 | Y106: 0.74251497
A107: Filtered Total | C107: Region | D107: 1.5279809e+08 | E107: 6.2173627e+08 | F107: 0.2457603 | G107: 220125 | H107: 200941 | I107: 0.91284952 | J107: 0.963 | K107: 289995 | L107: 254852 | M107: 0.87881515 | N107: 0.8999 | O107: 1.753552e+08 | P107: 1.1947154e+08 | Q107: 0.68131167 | R107: 0.6755 | S107: 200599 | T107: 94336 | U107: 0.47027154 | V107: 0.6738 | W107: 158815 | X107: 125530 | Y107: 0.79041652
A109: EDGECOMBE TOT | C109: 5 | D109: 1085503.4 | E109: 4661528.1 | F109: 0.23286428 | G109: 2949 | H109: 2032 | I109: 0.68904713 | J109: 0.83969587 | K109: 3881 | L109: 2523 | M109: 0.65009018 | N109: 0.67490295 | O109: 1204758.5 | P109: 769669.8 | Q109: 0.63885816 | R109: 0.62551362 | S109: 2205 | T109: 911 | U109: 0.41315193 | V109: 0.62010682 | W109: 1302 | X109: 1031 | Y109: 0.79185868
A110: GUILFORD TOT | C110: 3 | D110: 7861815.8 | E110: 32524810 | F110: 0.2417175 | G110: 12872 | H110: 11616 | I110: 0.90242387 | J110: 0.99795222 | K110: 15421 | L110: 13451 | M110: 0.87225212 | N110: 0.87637503 | O110: 8754327 | P110: 6285473.4 | Q110: 0.71798476 | R110: 0.7 | S110: 10710 | T110: 5477 | U110: 0.51139122 | V110: 0.7 | W110: 8816 | X110: 7296 | Y110: 0.82758621
A112: STATEWIDE | D112: 1.5279809e+08 | E112: 6.3426904e+08 | F112: 0.24090422 | G112: 219611 | H112: 200343 | I112: 0.91226305 | J112: 0.992 | K112: 289995 | L112: 254852 | M112: 0.87881515 | N112: 0.8899 | O112: 1.753552e+08 | P112: 1.1947154e+08 | Q112: 0.68131167 | R112: 0.6755 | S112: 200599 | T112: 94336 | U112: 0.47027154 | V112: 0.6738 | W112: 158815 | X112: 125530 | Y112: 0.79041652
A113: Please note: if a child is in more than one order county it may be counted twice, however, the state total eliminates duplicates. | G113: Please note: if a child is in more than one order county it may be counted twice, however, the state total eliminates duplicates.
