Workbook
Name \z: #REF!
Name \z: #REF!
Name _1: #REF!
Name _1: #REF!
Name _10: #REF!
Name _10: #REF!
Name _11: #REF!
Name _11: #REF!
Name _12: #REF!
Name _12: #REF!
Name _2: #REF!
Name _2: #REF!
Name _3: #REF!
Name _3: #REF!
Name _4: #REF!
Name _4: #REF!
Name _5: #REF!
Name _5: #REF!
Name _6: #REF!
Name _6: #REF!
Name _7: #REF!
Name _7: #REF!
Name _8: #REF!
Name _8: #REF!
Name _9: #REF!
Name _9: #REF!
Name Staffing: #REF!
Name Staffing: #REF!
Name SUMMARY: #REF!
Name SUMMARY: #REF!

Sheet 5 Factor Report
A1: 5 Factor Report SFY2027 09/2026 | E1: as of Aug 2026 | F1: Tot Collections Per All Staff | G1: Collection Rate | H1: Cases Under Order | I1: Paternity Establishment | J1: Payment to Arrears | K1: Cost Effectiveness SFY2026 1st Quarter 09.30.2026 | L1: Cost Effectiveness FFY2026 4th Quarter 09.30.2026
A2: County | B2: Region | C2: Caseload | D2: Cases/Agt | E2: Unadj Unempl % | F2: $ | G2: % | H2: % | I2: % | J2: % | K2: Updated Quarterly | L2: Updated Annually
A3: ALAMANCE | B3: 3 | C3: 4954 | D3: 381.07692 | E3: 0.038 | F3: 120815.77 | G3: 0.67174415 | H3: 0.87363746 | I3: 0.86926361 | J3: 0.47992081 | K3: 5.836854 | L3: 4.7889666
A4: ALEXANDER | B4: 2 | C4: 869 | D4: 248.28571 | E4: 0.034 | F4: 80762.971 | G4: 0.67737583 | H4: 0.90218642 | I4: 0.95348837 | J4: 0.46598639 | K4: 2.7412893 | L4: 2.838164
A5: ALLEGHANY | B5: 2 | C5: 296 | D5: 296 | E5: 0.035 | F5: 124603.88 | G5: 0.62175915 | H5: 0.90202703 | I5: 0.95431472 | J5: 0.4375 | K5: 4.7127928 | L5: 3.2940568
A6: ANSON | B6: 4 | C6: 1772 | D6: 472.53333 | E6: 0.045 | F6: 112233.42 | G6: 0.6063846 | H6: 0.94638826 | I6: 0.93853941 | J6: 0.42962357 | K6: 2.6736076 | L6: 2.9736651
A7: ASHE | B7: 2 | C7: 718 | D7: 239.33333 | E7: 0.029 | F7: 79644.224 | G7: 0.74257389 | H7: 0.93036212 | I7: 0.93192488 | J7: 0.52351738 | K7: 1.8576995 | L7: 2.0553933
A8: AVERY | B8: 2 | C8: 251 | D8: 251 | E8: 0.03 | F8: 69722.78 | G8: 0.72200638 | H8: 0.84063745 | I8: 0.95121951 | J8: 0.48387097 | K8: 4.0971634 | L8: 3.4939262
A9: BEAUFORT | B9: 7 | C9: 1715 | D9: 343 | E9: 0.035 | F9: 138951.02 | G9: 0.67822756 | H9: 0.95685131 | I9: 0.91648189 | J9: 0.47984791 | K9: 3.616621 | L9: 3.7484979
A10: BERTIE | B10: 7 | C10: 989 | D10: 329.66667 | E10: 0.046 | F10: 128675.33 | G10: 0.68915809 | H10: 0.96258847 | I10: 0.91964286 | J10: 0.5 | K10: 2.547718 | L10: 2.25637
A11: BLADEN | B11: 6 | C11: 1793 | D11: 358.6 | E11: 0.048 | F11: 122793.21 | G11: 0.63237122 | H11: 0.89682097 | I11: 0.89251297 | J11: 0.40115858 | K11: 2.6686352 | L11: 3.1476828
A12: BRUNSWICK | B12: 6 | C12: 2929 | D12: 300.41026 | E12: 0.039 | F12: 140117.76 | G12: 0.73333578 | H12: 0.90850119 | I12: 0.96116505 | J12: 0.49536501 | K12: 2.4221221 | L12: 2.5383338
A13: BUNCOMBE | B13: 1 | C13: 4652 | D13: 664.57143 | E13: 0.032 | F13: 167203.13 | G13: 0.70726751 | H13: 0.96023216 | I13: 0.95802696 | J13: 0.50987433 | K13: 4.0692482 | L13: 3.507459
A14: BURKE | B14: 2 | C14: 2201 | D14: 440.2 | E14: 0.034 | F14: 124802.75 | G14: 0.68647857 | H14: 0.83961836 | I14: 0.971875 | J14: 0.46040516 | K14: 4.3984153 | L14: 3.5582748
... A102: YANCEY | B102: 1 | C102: 311 | D102: 414.66667 | E102: 0.03 | F102: 186552.82 | G102: 0.7243222 | H102: 0.78135048 | I102: 0.97619048 | J102: 0.5443787 | K102: 6.7658893 | L102: 6.5144507
A103: STATEWIDE | C103: 289995 | D103: 337.93831 | E103: 0.036 | F103: 118690.11 | G103: 0.68131167 | H103: 0.87881515 | I103: 0.91226305 | J103: 0.47027154 | K103: SFY Cost Effectiveness is Calculated using County Expenditures Report and Collections by TANF Ind. This is just an estimate based on the information obtained in those reports. The actual FFY Cost Effectiveness is used in the calculation of Incentive Payments
E104: Not Seasonally Adjusted
A105: =SUBTOTAL(103,A3:A102) -> 100 | C105: =SUBTOTAL(109,C3:C101) -> 289673 | D105: =SUBTOTAL(101,D3:D101) -> 348.63001 | E105: =SUBTOTAL(101,E3:E101) -> 0.037050505
A106: Count | C106: Sum | D106: Avg | E106: Avg
A107: =SUBTOTAL(103,A3:A100) -> 98 | C107: =SUBTOTAL(109,C3:C100) -> 288785 | D107: =SUBTOTAL(101,D3:D100) -> 349.59854 | E107: =SUBTOTAL(101,E3:E100) -> 0.037102041

Sheet Agent Activity Report
A1: Agent Activity Report 09/2026 | C1: Staffing | E1: Open Cases | G1: Paternity Est | I1: Support Est | K1: Total Distributed Collections | N1: System Locates | R1: Manual Locates | V1: Paternity | Z1: Support Orders Established | AD1: Support Order Estab. Othr | AF1: Support Order Mod Comp | AH1: Support Order Mod Othr Comp | AJ1: Review Mods | AL1: Withholding | AN1: Enforcement Other | AR1: Enforcement Hearing
C2: Quarterly Staffing Report | E2: OCSE 157 | LINE 1 | G2: OCSE 157 | LINE 16 | I2: OCSE 157 | LINE 17 | K2: Incentive Goal Report | N2: ASR | R2: ASR | V2: ASR | Z2: ASR | AD2: ASR | AF2: ASR | AH2: ASR | AJ2: ASR | AL2: ASR | AN2: ASR | AR2: ASR
A3: Fips Name | B3: Region | C3: Unfrozen Agents | D3: Tot Unfroz Staff | E3: Open Cases | F3: Cases/Agt | G3: Pat Est | H3: Pat Est/Agt | I3: Orders | J3: Orders/Agt | K3: Tot Coll | L3: TotCollAgt | M3: TotColUnfozlStf | N3: Filed | O3: Filed/Agt | P3: Completed | Q3: Comp/Agt | R3: Filed | S3: Filed/Agt | T3: Completed | U3: Comp/Agt | V3: Filed | W3: Filed/Agt | X3: Completed | Y3: Comp/Agt | Z3: Filed | AA3: Filed/Agt | AB3: Completed | AC3: Comp/Agt | AD3: Completed | AE3: Comp/Agt | AF3: Completed | AG3: Comp/Agt | AH3: Completed | AI3: Comp/Agt | AJ3: Completed | AK3: Comp/Agt | AL3: Completed | AM3: Comp/Agt | AN3: Filed | AO3: Filed/Agt | AP3: Completed | AQ3: Comp/Agt | AR3: Completed | AS3: Comp/Agt
A4: ='Incentive Goal'!A3 -> ALAMANCE | B4: 3 | C4: 13 | D4: 22 | E4: 4954 | F4: 381.07692 | G4: 65 | H4: 0.2 | I4: 65 | J4: 0.2 | K4: 2657946.9 | L4: 204457.45 | M4: 120815.77 | N4: 25407 | O4: 1954.3846 | P4: 141 | Q4: 10.846154 | R4: 692 | S4: 53.230769 | T4: 18 | U4: 1.3846154 | V4: 39 | W4: 3 | X4: 67 | Y4: 5.1538462 | Z4: 126 | AA4: 9.6923077 | AB4: 59 | AC4: 4.5384615 | AD4: 574 | AE4: 44.153846 | AF4: 65 | AG4: 5 | AH4: 146 | AI4: 11.230769 | AJ4: 14 | AK4: 1.0769231 | AL4: 581 | AM4: 44.692308 | AN4: 471 | AO4: 36.230769 | AP4: 1251 | AQ4: 96.230769 | AR4: 189 | AS4: 14.538462
A5: ='Incentive Goal'!A4 -> ALEXANDER | B5: 2 | C5: 3.5 | D5: 4.75 | E5: 869 | F5: 248.28571 | G5: 21 | H5: 0.16666667 | I5: 14 | J5: 0.25 | K5: 383624.11 | L5: 109606.89 | M5: 80762.971 | N5: 6911 | O5: 1974.5714 | P5: 46 | Q5: 13.142857 | R5: 3433 | S5: 980.85714 | T5: 23 | U5: 6.5714286 | V5: 4 | W5: 1.1428571 | X5: 19 | Y5: 5.4285714 | Z5: 11 | AA5: 3.1428571 | AB5: 15 | AC5: 4.2857143 | AD5: 12 | AE5: 3.4285714 | AF5: 6 | AG5: 1.7142857 | AH5: 6 | AI5: 1.7142857 | AJ5: 1 | AK5: 0.28571429 | AL5: 131 | AM5: 37.428571 | AN5: 151 | AO5: 43.142857 | AP5: 955 | AQ5: 272.85714 | AR5: 18 | AS5: 5.1428571
A6: ='Incentive Goal'!A5 -> ALLEGHANY | B6: 2 | C6: 0 | D6: 1 | E6: 296 | F6: 296 | G6: 10 | H6: 0 | I6: 4 | J6: 0 | K6: 124603.88 | L6: #DIV/0! | M6: 124603.88 | N6: 1477 | P6: 4 | R6: 0 | T6: 0 | V6: 0 | X6: 10 | Z6: 1 | AB6: 2 | AD6: 0 | AF6: 0 | AH6: 12 | AJ6: 0 | AL6: 10 | AN6: 33 | AP6: 27 | AR6: 8
A7: ='Incentive Goal'!A6 -> ANSON | B7: 4 | C7: 3.75 | D7: 6 | E7: 1772 | F7: 472.53333 | G7: 27 | H7: 0.13888889 | I7: 18 | J7: 0.20833333 | K7: 673400.5 | L7: 179573.47 | M7: 112233.42 | N7: 12189 | O7: 3250.4 | P7: 71 | Q7: 18.933333 | R7: 128 | S7: 34.133333 | T7: 5 | U7: 1.3333333 | V7: 10 | W7: 2.6666667 | X7: 29 | Y7: 7.7333333 | Z7: 24 | AA7: 6.4 | AB7: 16 | AC7: 4.2666667 | AD7: 4 | AE7: 1.0666667 | AF7: 2 | AG7: 0.53333333 | AH7: 68 | AI7: 18.133333 | AJ7: 10 | AK7: 2.6666667 | AL7: 216 | AM7: 57.6 | AN7: 186 | AO7: 49.6 | AP7: 329 | AQ7: 87.733333 | AR7: 18 | AS7: 4.8
A8: ='Incentive Goal'!A7 -> ASHE | B8: 2 | C8: 3 | D8: 4.25 | E8: 718 | F8: 239.33333 | G8: 10 | H8: 0.3 | I8: 25 | J8: 0.12 | K8: 338487.95 | L8: 112829.32 | M8: 79644.224 | N8: 4016 | O8: 1338.6667 | P8: 44 | Q8: 14.666667 | R8: 24 | S8: 8 | T8: 0 | U8: 0 | V8: 0 | W8: 0 | X8: 10 | Y8: 3.3333333 | Z8: 27 | AA8: 9 | AB8: 26 | AC8: 8.6666667 | AD8: 12 | AE8: 4 | AF8: 7 | AG8: 2.3333333 | AH8: 24 | AI8: 8 | AJ8: 1 | AK8: 0.33333333 | AL8: 71 | AM8: 23.666667 | AN8: 234 | AO8: 78 | AP8: 126 | AQ8: 42 | AR8: 143 | AS8: 47.666667
A9: ='Incentive Goal'!A8 -> AVERY | B9: 2 | C9: 1 | D9: 2 | E9: 251 | F9: 251 | G9: 9 | H9: 0.11111111 | I9: 10 | J9: 0.1 | K9: 139445.56 | L9: 139445.56 | M9: 69722.78 | N9: 1384 | O9: 1384 | P9: 5 | Q9: 5 | R9: 23 | S9: 23 | T9: 1 | U9: 1 | V9: 0 | W9: 0 | X9: 10 | Y9: 10 | Z9: 5 | AA9: 5 | AB9: 10 | AC9: 10 | AD9: 0 | AE9: 0 | AF9: 2 | AG9: 2 | AH9: 6 | AI9: 6 | AJ9: 0 | AK9: 0 | AL9: 16 | AM9: 16 | AN9: 34 | AO9: 34 | AP9: 28 | AQ9: 28 | AR9: 12 | AS9: 12
A10: ='Incentive Goal'!A9 -> BEAUFORT | B10: 7 | C10: 5 | D10: 6 | E10: 1715 | F10: 343 | G10: 26 | H10: 0.19230769 | I10: 17 | J10: 0.29411765 | K10: 833706.15 | L10: 166741.23 | M10: 138951.02 | N10: 12091 | O10: 2418.2 | P10: 48 | Q10: 9.6 | R10: 337 | S10: 67.4 | T10: 5 | U10: 1 | V10: 17 | W10: 3.4 | X10: 37 | Y10: 7.4 | Z10: 28 | AA10: 5.6 | AB10: 23 | AC10: 4.6 | AD10: 0 | AE10: 0 | AF10: 26 | AG10: 5.2 | AH10: 55 | AI10: 11 | AJ10: 5 | AK10: 1 | AL10: 235 | AM10: 47 | AN10: 319 | AO10: 63.8 | AP10: 432 | AQ10: 86.4 | AR10: 275 | AS10: 55
A11: ='Incentive Goal'!A10 -> BERTIE | B11: 7 | C11: 3 | D11: 3.5 | E11: 989 | F11: 329.66667 | G11: 2 | H11: 1.5 | I11: 5 | J11: 0.6 | K11: 450363.67 | L11: 150121.22 | M11: 128675.33 | N11: 11474 | O11: 3824.6667 | P11: 48 | Q11: 16 | R11: 399 | S11: 133 | T11: 4 | U11: 1.3333333 | V11: 7 | W11: 2.3333333 | X11: 21 | Y11: 7 | Z11: 26 | AA11: 8.6666667 | AB11: 12 | AC11: 4 | AD11: 29 | AE11: 9.6666667 | AF11: 8 | AG11: 2.6666667 | AH11: 54 | AI11: 18 | AJ11: 0 | AK11: 0 | AL11: 165 | AM11: 55 | AN11: 126 | AO11: 42 | AP11: 199 | AQ11: 66.333333 | AR11: 6 | AS11: 2
A12: ='Incentive Goal'!A11 -> BLADEN | B12: 6 | C12: 5 | D12: 7 | E12: 1793 | F12: 358.6 | G12: 6 | H12: 0.83333333 | I12: 23 | J12: 0.2173913 | K12: 859552.45 | L12: 171910.49 | M12: 122793.21 | N12: 12139 | O12: 2427.8 | P12: 40 | Q12: 8 | R12: 325 | S12: 65 | T12: 6 | U12: 1.2 | V12: 9 | W12: 1.8 | X12: 6 | Y12: 1.2 | Z12: 29 | AA12: 5.8 | AB12: 22 | AC12: 4.4 | AD12: 1 | AE12: 0.2 | AF12: 15 | AG12: 3 | AH12: 53 | AI12: 10.6 | AJ12: 4 | AK12: 0.8 | AL12: 228 | AM12: 45.6 | AN12: 200 | AO12: 40 | AP12: 640 | AQ12: 128 | AR12: 28 | AS12: 5.6
A13: ='Incentive Goal'!A12 -> BRUNSWICK | B13: 6 | C13: 9.75 | D13: 12 | E13: 2929 | F13: 300.41026 | G13: 75 | H13: 0.13 | I13: 81 | J13: 0.12037037 | K13: 1681413.1 | L13: 172452.63 | M13: 140117.76 | N13: 16520 | O13: 1694.359 | P13: 123 | Q13: 12.615385 | R13: 331 | S13: 33.948718 | T13: 33 | U13: 3.3846154 | V13: 24 | W13: 2.4615385 | X13: 74 | Y13: 7.5897436 | Z13: 91 | AA13: 9.3333333 | AB13: 67 | AC13: 6.8717949 | AD13: 355 | AE13: 36.410256 | AF13: 10 | AG13: 1.025641 | AH13: 94 | AI13: 9.6410256 | AJ13: 10 | AK13: 1.025641 | AL13: 301 | AM13: 30.871795 | AN13: 227 | AO13: 23.282051 | AP13: 953 | AQ13: 97.74359 | AR13: 110 | AS13: 11.282051
A14: ='Incentive Goal'!A13 -> BUNCOMBE | B14: 1 | C14: 7 | D14: 14.5 | E14: 4652 | F14: 664.57143 | G14: 152 | H14: 0.046052632 | I14: 57 | J14: 0.12280702 | K14: 2424445.4 | L14: 346349.35 | M14: 167203.13 | N14: 30982 | O14: 4426 | P14: 262 | Q14: 37.428571 | R14: 347 | S14: 49.571429 | T14: 22 | U14: 3.1428571 | V14: 9 | W14: 1.2857143 | X14: 158 | Y14: 22.571429 | Z14: 73 | AA14: 10.428571 | AB14: 40 | AC14: 5.7142857 | AD14: 3 | AE14: 0.42857143 | AF14: 18 | AG14: 2.5714286 | AH14: 179 | AI14: 25.571429 | AJ14: 2 | AK14: 0.28571429 | AL14: 555 | AM14: 79.285714 | AN14: 1380 | AO14: 197.14286 | AP14: 773 | AQ14: 110.42857 | AR14: 975 | AS14: 139.28571
A15: ='Incentive Goal'!A14 -> BURKE | B15: 2 | C15: 5 | D15: 8 | E15: 2201 | F15: 440.2 | G15: 56 | H15: 0.089285714 | I15: 26 | J15: 0.19230769 | K15: 998421.98 | L15: 199684.4 | M15: 124802.75 | N15: 18474 | O15: 3694.8 | P15: 166 | Q15: 33.2 | R15: 688 | S15: 137.6 | T15: 60 | U15: 12 | V15: 1 | W15: 0.2 | X15: 59 | Y15: 11.8 | Z15: 14 | AA15: 2.8 | AB15: 26 | AC15: 5.2 | AD15: 3 | AE15: 0.6 | AF15: 27 | AG15: 5.4 | AH15: 33 | AI15: 6.6 | AJ15: 3 | AK15: 0.6 | AL15: 347 | AM15: 69.4 | AN15: 590 | AO15: 118 | AP15: 268 | AQ15: 53.6 | AR15: 178 | AS15: 35.6
A16: ='Incentive Goal'!A15 -> CABARRUS | B16: 4 | C16: 16.75 | D16: 24.5 | E16: 4151 | F16: 247.8209 | G16: 147 | H16: 0.11394558 | I16: 79 | J16: 0.21202532 | K16: 3328671 | L16: 198726.63 | M16: 135864.12 | N16: 22213 | O16: 1326.1493 | P16: 238 | Q16: 14.208955 | R16: 1305 | S16: 77.910448 | T16: 33 | U16: 1.9701493 | V16: 26 | W16: 1.5522388 | X16: 143 | Y16: 8.5373134 | Z16: 120 | AA16: 7.1641791 | AB16: 70 | AC16: 4.1791045 | AD16: 1 | AE16: 0.059701493 | AF16: 63 | AG16: 3.761194 | AH16: 85 | AI16: 5.0746269 | AJ16: 40 | AK16: 2.3880597 | AL16: 793 | AM16: 47.343284 | AN16: 2804 | AO16: 167.40299 | AP16: 2938 | AQ16: 175.40299 | AR16: 759 | AS16: 45.313433
A17: ='Incentive Goal'!A16 -> CALDWELL | B17: 2 | C17: 6.75 | D17: 9 | E17: 2265 | F17: 335.55556 | G17: 39 | H17: 0.17307692 | I17: 94 | J17: 0.071808511 | K17: 1336416.6 | L17: 197987.64 | M17: 148490.73 | N17: 15623 | O17: 2314.5185 | P17: 117 | Q17: 17.333333 | R17: 233 | S17: 34.518519 | T17: 22 | U17: 3.2592593 | V17: 8 | W17: 1.1851852 | X17: 35 | Y17: 5.1851852 | Z17: 26 | AA17: 3.8518519 | AB17: 39 | AC17: 5.7777778 | AD17: 4 | AE17: 0.59259259 | AF17: 21 | AG17: 3.1111111 | AH17: 74 | AI17: 10.962963 | AJ17: 7 | AK17: 1.037037 | AL17: 376 | AM17: 55.703704 | AN17: 383 | AO17: 56.740741 | AP17: 152 | AQ17: 22.518519 | AR17: 350 | AS17: 51.851852
A18: ='Incentive Goal'!A17 -> CAMDEN | B18: 7 | C18: 0.5 | D18: 1.25 | E18: 222 | F18: 444 | G18: 5 | H18: 0.1 | I18: 4 | J18: 0.125 | K18: 207815.74 | L18: 415631.48 | M18: 166252.59 | N18: 7 | O18: 14 | P18: 0 | Q18: 0 | R18: 0 | S18: 0 | T18: 0 | U18: 0 | V18: 0 | W18: 0 | X18: 0 | Y18: 0 | Z18: 0 | AA18: 0 | AB18: 0 | AC18: 0 | AD18: 0 | AE18: 0 | AF18: 0 | AG18: 0 | AH18: 0 | AI18: 0 | AJ18: 0 | AK18: 0 | AL18: 10 | AM18: 20 | AN18: 0 | AO18: 0 | AP18: 0 | AQ18: 0 | AR18: 11 | AS18: 22
... A24: ='Incentive Goal'!A23 -> CHOWAN | B24: 7 | C24: 3 | D24: 4 | E24: 683 | F24: 227.66667 | G24: 9 | H24: 0.33333333 | I24: 7 | J24: 0.42857143 | K24: 318044.63 | L24: 106014.88 | M24: 79511.158 | N24: 4361 | O24: 1453.6667 | P24: 7 | Q24: 2.3333333 | R24: 120 | S24: 40 | T24: 0 | U24: 0 | V24: 1 | W24: 0.33333333 | X24: 8 | Y24: 2.6666667 | Z24: 8 | AA24: 2.6666667 | AB24: 7 | AC24: 2.3333333 | AD24: 0 | AE24: 0 | AF24: 5 | AG24: 1.6666667 | AH24: 20 | AI24: 6.6666667 | AJ24: 1 | AK24: 0.33333333 | AL24: 66 | AM24: 22 | AN24: 68 | AO24: 22.666667 | AP24: 135 | AQ24: 45 | AR24: 42 | AS24: 14
A25: ='Incentive Goal'!A24 -> CLAY | B25: 1 | C25: 1 | D25: 1.1 | E25: 175 | F25: 175 | G25: 4 | H25: 0.25 | K25: 100084.65 | L25: 100084.65 | M25: 90986.045 | N25: 843 | O25: 843 | P25: 7 | Q25: 7 | R25: 6 | S25: 6 | T25: 0 | U25: 0 | V25: 0 | W25: 0 | X25: 4 | Y25: 4 | Z25: 0 | AA25: 0 | AB25: 0 | AC25: 0 | AD25: 0 | AE25: 0 | AF25: 2 | AG25: 2 | AH25: 9 | AI25: 9 | AJ25: 1 | AK25: 1 | AL25: 17 | AM25: 17 | AN25: 43 | AO25: 43 | AP25: 114 | AQ25: 114 | AR25: 0 | AS25: 0
A26: ='Incentive Goal'!A25 -> CLEVELAND | B26: 2 | C26: 14 | D26: 19 | E26: 5102 | F26: 364.42857 | G26: 96 | H26: 0.14583333 | I26: 50 | J26: 0.28 | K26: 1881914.7 | L26: 134422.48 | M26: 99048.14 | N26: 38953 | O26: 2782.3571 | P26: 156 | Q26: 11.142857 | R26: 839 | S26: 59.928571 | T26: 71 | U26: 5.0714286 | V26: 34 | W26: 2.4285714 | X26: 98 | Y26: 7 | Z26: 111 | AA26: 7.9285714 | AB26: 38 | AC26: 2.7142857 | AD26: 3 | AE26: 0.21428571 | AF26: 36 | AG26: 2.5714286 | AH26: 111 | AI26: 7.9285714 | AJ26: 5 | AK26: 0.35714286 | AL26: 634 | AM26: 45.285714 | AN26: 415 | AO26: 29.642857 | AP26: 1334 | AQ26: 95.285714 | AR26: 145 | AS26: 10.357143
A27: ='Incentive Goal'!A26 -> COLUMBUS | B27: 6 | C27: 9 | D27: 14 | E27: 2863 | F27: 318.11111 | G27: 35 | H27: 0.25714286 | I27: 55 | J27: 0.16363636 | K27: 1136231.9 | L27: 126247.99 | M27: 81159.424 | N27: 19509 | O27: 2167.6667 | P27: 96 | Q27: 10.666667 | R27: 795 | S27: 88.333333 | T27: 61 | U27: 6.7777778 | V27: 19 | W27: 2.1111111 | X27: 36 | Y27: 4 | Z27: 54 | AA27: 6 | AB27: 46 | AC27: 5.1111111 | AD27: 17 | AE27: 1.8888889 | AF27: 18 | AG27: 2 | AH27: 136 | AI27: 15.111111 | AJ27: 4 | AK27: 0.44444444 | AL27: 361 | AM27: 40.111111 | AN27: 389 | AO27: 43.222222 | AP27: 2065 | AQ27: 229.44444 | AR27: 77 | AS27: 8.5555556
A28: ='Incentive Goal'!A27 -> CRAVEN | B28: 6 | C28: 8 | D28: 9 | E28: 3303 | F28: 412.875 | G28: 71 | H28: 0.11267606 | I28: 35 | J28: 0.22857143 | K28: 1898181.4 | L28: 237272.67 | M28: 210909.04 | N28: 18120 | O28: 2265 | P28: 120 | Q28: 15 | R28: 746 | S28: 93.25 | T28: 7 | U28: 0.875 | V28: 23 | W28: 2.875 | X28: 78 | Y28: 9.75 | Z28: 54 | AA28: 6.75 | AB28: 29 | AC28: 3.625 | AD28: 21 | AE28: 2.625 | AF28: 14 | AG28: 1.75 | AH28: 70 | AI28: 8.75 | AJ28: 12 | AK28: 1.5 | AL28: 378 | AM28: 47.25 | AN28: 351 | AO28: 43.875 | AP28: 406 | AQ28: 50.75 | AR28: 181 | AS28: 22.625
A29: ='Incentive Goal'!A28 -> CUMBERLAND | B29: 6 | C29: 43 | D29: 72.5 | E29: 16124 | F29: 374.97674 | G29: 223 | H29: 0.19282511 | I29: 180 | J29: 0.23888889 | K29: 8589800.1 | L29: 199762.79 | M29: 118480 | N29: 89161 | O29: 2073.5116 | P29: 567 | Q29: 13.186047 | R29: 8789 | S29: 204.39535 | T29: 654 | U29: 15.209302 | V29: 102 | W29: 2.372093 | X29: 238 | Y29: 5.5348837 | Z29: 270 | AA29: 6.2790698 | AB29: 180 | AC29: 4.1860465 | AD29: 121 | AE29: 2.8139535 | AF29: 238 | AG29: 5.5348837 | AH29: 485 | AI29: 11.27907 | AJ29: 70 | AK29: 1.627907 | AL29: 1785 | AM29: 41.511628 | AN29: 2186 | AO29: 50.837209 | AP29: 8906 | AQ29: 207.11628 | AR29: 101 | AS29: 2.3488372
A30: ='Incentive Goal'!A29 -> CURRITUCK | B30: 7 | C30: 2 | D30: 2.5 | E30: 619 | F30: 309.5 | G30: 18 | H30: 0.11111111 | I30: 8 | J30: 0.25 | K30: 471250.44 | L30: 235625.22 | M30: 188500.18 | N30: 2182 | O30: 1091 | P30: 6 | Q30: 3 | R30: 10 | S30: 5 | T30: 0 | U30: 0 | V30: 1 | W30: 0.5 | X30: 2 | Y30: 1 | Z30: 0 | AA30: 0 | AB30: 4 | AC30: 2 | AD30: 0 | AE30: 0 | AF30: 12 | AG30: 6 | AH30: 31 | AI30: 15.5 | AJ30: 3 | AK30: 1.5 | AL30: 45 | AM30: 22.5 | AN30: 110 | AO30: 55 | AP30: 90 | AQ30: 45 | AR30: 45 | AS30: 22.5
A31: ='Incentive Goal'!A30 -> DARE | B31: 7 | C31: 0 | D31: 0.5 | E31: 581 | F31: 581 | G31: 7 | H31: 0 | I31: 7 | J31: 0 | K31: 418601.09 | L31: #DIV/0! | M31: 837202.18 | N31: 3484 | P31: 30 | R31: 34 | T31: 1 | V31: 3 | X31: 27 | Z31: 19 | AB31: 12 | AD31: 0 | AF31: 2 | AH31: 23 | AJ31: 1 | AL31: 53 | AN31: 73 | AP31: 62 | AR31: 29
A32: ='Incentive Goal'!A31 -> DAVIDSON | B32: 3 | C32: 12 | D32: 17 | E32: 4283 | F32: 356.91667 | G32: 67 | H32: 0.17910448 | I32: 53 | J32: 0.22641509 | K32: 3038551.9 | L32: 253212.66 | M32: 178738.35 | N32: 24434 | O32: 2036.1667 | P32: 122 | Q32: 10.166667 | R32: 1649 | S32: 137.41667 | T32: 197 | U32: 16.416667 | V32: 34 | W32: 2.8333333 | X32: 64 | Y32: 5.3333333 | Z32: 118 | AA32: 9.8333333 | AB32: 51 | AC32: 4.25 | AD32: 21 | AE32: 1.75 | AF32: 46 | AG32: 3.8333333 | AH32: 78 | AI32: 6.5 | AJ32: 6 | AK32: 0.5 | AL32: 521 | AM32: 43.416667 | AN32: 372 | AO32: 31 | AP32: 1191 | AQ32: 99.25 | AR32: 178 | AS32: 14.833333
A33: ='Incentive Goal'!A32 -> DAVIE | B33: 3 | C33: 3 | D33: 3 | E33: 884 | F33: 294.66667 | G33: 18 | H33: 0.16666667 | I33: 25 | J33: 0.12 | K33: 618766.77 | L33: 206255.59 | M33: 206255.59 | N33: 4070 | O33: 1356.6667 | P33: 8 | Q33: 2.6666667 | R33: 88 | S33: 29.333333 | T33: 2 | U33: 0.66666667 | V33: 5 | W33: 1.6666667 | X33: 18 | Y33: 6 | Z33: 37 | AA33: 12.333333 | AB33: 23 | AC33: 7.6666667 | AD33: 0 | AE33: 0 | AF33: 0 | AG33: 0 | AH33: 5 | AI33: 1.6666667 | AJ33: 0 | AK33: 0 | AL33: 164 | AM33: 54.666667 | AN33: 135 | AO33: 45 | AP33: 382 | AQ33: 127.33333 | AR33: 23 | AS33: 7.6666667
A34: ='Incentive Goal'!A33 -> DUPLIN | B34: 6 | C34: 5 | D34: 5 | E34: 1987 | F34: 397.4 | G34: 24 | H34: 0.20833333 | I34: 23 | J34: 0.2173913 | K34: 1106026.1 | L34: 221205.23 | M34: 221205.23 | N34: 11805 | O34: 2361 | P34: 60 | Q34: 12 | R34: 398 | S34: 79.6 | T34: 6 | U34: 1.2 | V34: 20 | W34: 4 | X34: 22 | Y34: 4.4 | Z34: 46 | AA34: 9.2 | AB34: 19 | AC34: 3.8 | AD34: 2 | AE34: 0.4 | AF34: 26 | AG34: 5.2 | AH34: 30 | AI34: 6 | AJ34: 8 | AK34: 1.6 | AL34: 278 | AM34: 55.6 | AN34: 299 | AO34: 59.8 | AP34: 172 | AQ34: 34.4 | AR34: 97 | AS34: 19.4
A35: ='Incentive Goal'!A34 -> DURHAM | B35: 3 | C35: 25 | D35: 32 | E35: 6541 | F35: 261.64 | G35: 160 | H35: 0.15625 | I35: 112 | J35: 0.22321429 | K35: 3496922.3 | L35: 139876.89 | M35: 109278.82 | N35: 39353 | O35: 1574.12 | P35: 264 | Q35: 10.56 | R35: 1941 | S35: 77.64 | T35: 56 | U35: 2.24 | V35: 31 | W35: 1.24 | X35: 169 | Y35: 6.76 | Z35: 61 | AA35: 2.44 | AB35: 99 | AC35: 3.96 | AD35: 79 | AE35: 3.16 | AF35: 38 | AG35: 1.52 | AH35: 245 | AI35: 9.8 | AJ35: 5 | AK35: 0.2 | AL35: 1035 | AM35: 41.4 | AN35: 493 | AO35: 19.72 | AP35: 2010 | AQ35: 80.4 | AR35: 251 | AS35: 10.04
A36: ='Incentive Goal'!A35 -> EDGE - Tarboro | B36: 5 | C36: 6.5 | D36: 8.5 | E36: 1857 | F36: 285.69231 | G36: 17 | H36: 0.38235294 | I36: 6 | J36: 1.0833333 | K36: 552735.8 | L36: 85036.277 | M36: 65027.741 | N36: 14798 | O36: 2276.6154 | P36: 65 | Q36: 10 | R36: 858 | S36: 132 | T36: 34 | U36: 5.2307692 | V36: 19 | W36: 2.9230769 | X36: 16 | Y36: 2.4615385 | Z36: 37 | AA36: 5.6923077 | AB36: 4 | AC36: 0.61538462 | AD36: 5 | AE36: 0.76923077 | AF36: 22 | AG36: 3.3846154 | AH36: 34 | AI36: 5.2307692 | AJ36: 0 | AK36: 0 | AL36: 188 | AM36: 28.923077 | AN36: 358 | AO36: 55.076923 | AP36: 213 | AQ36: 32.769231 | AR36: 66 | AS36: 10.153846
A37: ='Incentive Goal'!A36 -> EDGE - Rky Mt | B37: 5 | C37: 3.5 | D37: 6.5 | E37: 2024 | F37: 578.28571 | G37: 28 | H37: 0.125 | I37: 7 | J37: 0.5 | K37: 532767.59 | L37: 152219.31 | M37: 81964.245 | N37: 10049 | O37: 2871.1429 | P37: 64 | Q37: 18.285714 | R37: 434 | S37: 124 | T37: 20 | U37: 5.7142857 | V37: 12 | W37: 3.4285714 | X37: 27 | Y37: 7.7142857 | Z37: 21 | AA37: 6 | AB37: 9 | AC37: 2.5714286 | AD37: 1 | AE37: 0.28571429 | AF37: 13 | AG37: 3.7142857 | AH37: 49 | AI37: 14 | AJ37: 0 | AK37: 0 | AL37: 112 | AM37: 32 | AN37: 286 | AO37: 81.714286 | AP37: 623 | AQ37: 178 | AR37: 106 | AS37: 30.285714
A38: ='Incentive Goal'!A37 -> FORSYTH | B38: 3 | C38: 32 | D38: 46.5 | E38: 10644 | F38: 332.625 | G38: 165 | H38: 0.19393939 | I38: 163 | J38: 0.19631902 | K38: 5520537.4 | L38: 172516.79 | M38: 118721.23 | N38: 55006 | O38: 1718.9375 | P38: 313 | Q38: 9.78125 | R38: 865 | S38: 27.03125 | T38: 144 | U38: 4.5 | V38: 89 | W38: 2.78125 | X38: 180 | Y38: 5.625 | Z38: 224 | AA38: 7 | AB38: 143 | AC38: 4.46875 | AD38: 435 | AE38: 13.59375 | AF38: 76 | AG38: 2.375 | AH38: 161 | AI38: 5.03125 | AJ38: 25 | AK38: 0.78125 | AL38: 1621 | AM38: 50.65625 | AN38: 573 | AO38: 17.90625 | AP38: 7035 | AQ38: 219.84375 | AR38: 98 | AS38: 3.0625
A39: ='Incentive Goal'!A38 -> FRANKLIN | B39: 5 | C39: 9 | D39: 10 | E39: 2226 | F39: 247.33333 | G39: 27 | H39: 0.33333333 | I39: 25 | J39: 0.36 | K39: 1250839.3 | L39: 138982.14 | M39: 125083.93 | N39: 11624 | O39: 1291.5556 | P39: 107 | Q39: 11.888889 | R39: 158 | S39: 17.555556 | T39: 11 | U39: 1.2222222 | V39: 8 | W39: 0.88888889 | X39: 25 | Y39: 2.7777778 | Z39: 38 | AA39: 4.2222222 | AB39: 19 | AC39: 2.1111111 | AD39: 2 | AE39: 0.22222222 | AF39: 19 | AG39: 2.1111111 | AH39: 78 | AI39: 8.6666667 | AJ39: 3 | AK39: 0.33333333 | AL39: 309 | AM39: 34.333333 | AN39: 268 | AO39: 29.777778 | AP39: 690 | AQ39: 76.666667 | AR39: 146 | AS39: 16.222222
A40: ='Incentive Goal'!A39 -> GASTON | B40: 2 | C40: 23 | D40: 32 | E40: 7099 | F40: 308.65217 | G40: 114 | H40: 0.20175439 | I40: 96 | J40: 0.23958333 | K40: 3303701.3 | L40: 143639.19 | M40: 103240.67 | N40: 44745 | O40: 1945.4348 | P40: 240 | Q40: 10.434783 | R40: 1202 | S40: 52.26087 | T40: 117 | U40: 5.0869565 | V40: 83 | W40: 3.6086957 | X40: 122 | Y40: 5.3043478 | Z40: 246 | AA40: 10.695652 | AB40: 87 | AC40: 3.7826087 | AD40: 7 | AE40: 0.30434783 | AF40: 93 | AG40: 4.0434783 | AH40: 77 | AI40: 3.3478261 | AJ40: 19 | AK40: 0.82608696 | AL40: 1085 | AM40: 47.173913 | AN40: 295 | AO40: 12.826087 | AP40: 3109 | AQ40: 135.17391 | AR40: 94 | AS40: 4.0869565
A41: ='Incentive Goal'!A40 -> GATES | B41: 7 | C41: 1 | D41: 1.75 | E41: 337 | F41: 337 | G41: 5 | H41: 0.2 | I41: 1 | J41: 1 | K41: 234666.26 | L41: 234666.26 | M41: 134095.01 | N41: 36 | O41: 36 | P41: 0 | Q41: 0 | R41: 0 | S41: 0 | T41: 0 | U41: 0 | V41: 0 | W41: 0 | X41: 0 | Y41: 0 | Z41: 0 | AA41: 0 | AB41: 0 | AC41: 0 | AD41: 0 | AE41: 0 | AF41: 0 | AG41: 0 | AH41: 0 | AI41: 0 | AJ41: 0 | AK41: 0 | AL41: 24 | AM41: 24 | AN41: 0 | AO41: 0 | AP41: 0 | AQ41: 0 | AR41: 8 | AS41: 8
A42: ='Incentive Goal'!A41 -> GRAHAM | B42: 1 | C42: 0.75 | D42: 1 | E42: 195 | F42: 260 | G42: 5 | H42: 0.15 | I42: 1 | J42: 0.75 | K42: 99786.56 | L42: 133048.75 | M42: 99786.56 | N42: 887 | O42: 1182.6667 | P42: 11 | Q42: 14.666667 | R42: 10 | S42: 13.333333 | T42: 1 | U42: 1.3333333 | V42: 0 | W42: 0 | X42: 5 | Y42: 6.6666667 | Z42: 4 | AA42: 5.3333333 | AB42: 1 | AC42: 1.3333333 | AD42: 0 | AE42: 0 | AF42: 0 | AG42: 0 | AH42: 2 | AI42: 2.6666667 | AJ42: 0 | AK42: 0 | AL42: 20 | AM42: 26.666667 | AN42: 29 | AO42: 38.666667 | AP42: 23 | AQ42: 30.666667 | AR42: 0 | AS42: 0
A43: ='Incentive Goal'!A42 -> GRANVILLE | B43: 5 | C43: 8.5 | D43: 10 | E43: 1691 | F43: 198.94118 | G43: 37 | H43: 0.22972973 | I43: 38 | J43: 0.22368421 | K43: 919970.51 | L43: 108231.82 | M43: 91997.051 | N43: 10408 | O43: 1224.4706 | P43: 48 | Q43: 5.6470588 | R43: 258 | S43: 30.352941 | T43: 5 | U43: 0.58823529 | V43: 2 | W43: 0.23529412 | X43: 38 | Y43: 4.4705882 | Z43: 20 | AA43: 2.3529412 | AB43: 37 | AC43: 4.3529412 | AD43: 6 | AE43: 0.70588235 | AF43: 14 | AG43: 1.6470588 | AH43: 33 | AI43: 3.8823529 | AJ43: 8 | AK43: 0.94117647 | AL43: 328 | AM43: 38.588235 | AN43: 404 | AO43: 47.529412 | AP43: 479 | AQ43: 56.352941 | AR43: 74 | AS43: 8.7058824
... A46: ='Incentive Goal'!A45 -> GUIL - HP | B46: 3 | C46: 10 | D46: 23 | E46: 4135 | F46: 413.5 | G46: 77 | H46: 0.12987013 | I46: 71 | J46: 0.14084507 | K46: 2129526.8 | L46: 212952.67 | M46: 92588.12 | N46: 26790 | O46: 2679 | P46: 111 | Q46: 11.1 | R46: 570 | S46: 57 | T46: 24 | U46: 2.4 | V46: 22 | W46: 2.2 | X46: 81 | Y46: 8.1 | Z46: 85 | AA46: 8.5 | AB46: 55 | AC46: 5.5 | AD46: 302 | AE46: 30.2 | AF46: 33 | AG46: 3.3 | AH46: 121 | AI46: 12.1 | AJ46: 10 | AK46: 1 | AL46: 540 | AM46: 54 | AN46: 584 | AO46: 58.4 | AP46: 6234 | AQ46: 623.4 | AR46: 128 | AS46: 12.8
A47: ='Incentive Goal'!A47 -> HALIFAX | B47: 5 | C47: 13 | D47: 17 | E47: 2710 | F47: 208.46154 | G47: 70 | H47: 0.18571429 | I47: 45 | J47: 0.28888889 | K47: 1365976.8 | L47: 105075.14 | M47: 80351.577 | N47: 20272 | O47: 1559.3846 | P47: 79 | Q47: 6.0769231 | R47: 10272 | S47: 790.15385 | T47: 209 | U47: 16.076923 | V47: 22 | W47: 1.6923077 | X47: 69 | Y47: 5.3076923 | Z47: 71 | AA47: 5.4615385 | AB47: 39 | AC47: 3 | AD47: 64 | AE47: 4.9230769 | AF47: 84 | AG47: 6.4615385 | AH47: 92 | AI47: 7.0769231 | AJ47: 4 | AK47: 0.30769231 | AL47: 448 | AM47: 34.461538 | AN47: 932 | AO47: 71.692308 | AP47: 1674 | AQ47: 128.76923 | AR47: 461 | AS47: 35.461538
...

Sheet Staffing Report
A1: QUARTERLY TOTAL STAFFING | C1: 4th Qtr 09/30/2026 | E1: IV-D SUPERVISORS | I1: IV-D AGENTS | M1: IV-D CLERICAL/ADMIN | Q1: IV-D ATTY / PARALEGAL / OTHER | U1: TOTAL ALL COUNTY POSITIONS | Y1: TOTAL FILLED STAFF IV-D SERVICES FTE | Z1: CONTRACT FTE's | AA1: Description for Contract FTEs
A2: DSS PRIVATE COUNTY MANAGER | B2: CQI Specialist | C2: County | D2: Region | E2: Total Authorized Supervisor Positions | F2: Total Positions Currently Frozen (Not Available for Hiring) | G2: Total Vacant Positions on Last Day of the Quarter | H2: Total Supervisors Active on Last Day of Quarter | I2: Total Authorized IV-D Agent Positions | J2: Total Positions Currently Frozen (Not Available for Hiring) | K2: Total Vacant Positions on Last Day of the Quarter | L2: Total IV-D Agents Active on Last Day of Quarter | M2: Total Authorized IV-D Clerical / Admin Positions | N2: Total Positions Currently Frozen (Not Available for Hiring) | O2: Total Vacant Positions on Last Day of the Quarter | P2: Total IV-D Clerical / Admin Staff Active on Last Day of Quarter | Q2: Total Authorized IV-D Atty / Paralegal / Other Positions | R2: Total Positions Currently Frozen (Not Available for Hiring) | S2: Total Vacant Positions on Last Day of the Quarter | T2: Total IV-D Atty / Paralegal / Other Staff Active on Last Day of Quarter | U2: Total Authorized All IV-D Positions | V2: Total Positions Currently Frozen (Not Available for Hiring) | W2: Total Vacant Positions on Last Day of the Quarter | X2: Total Staff Active on Last Day of Quarter
A3: DSS/OTHER | B3: Newsome, Kenya | C3: ALAMANCE | D3: 3 | E3: 3 | F3: 0 | G3: 0 | H3: =E3-F3-G3 -> 3 | I3: 13 | J3: 0 | K3: 0 | L3: =I3-J3-K3 -> 13 | M3: 3 | N3: 0 | O3: 0 | P3: =M3-N3-O3 -> 3 | Q3: 3 | R3: 0 | S3: 0 | T3: =Q3-R3-S3 -> 3 | U3: =SUM(E3,I3,M3,Q3) -> 22 | V3: =SUM(F3,J3,N3,R3,) -> 0 | W3: =SUM(G3,K3,O3,S3,) -> 0 | X3: =U3-V3-W3 -> 22 | Y3: =X3 -> 22 | Z3: 1 | AA3: DeputY
A4: DSS/OTHER | B4: Loftin, Angela | C4: ALEXANDER | D4: 2 | E4: 1 | F4: 0 | G4: 0 | H4: =E4-F4-G4 -> 1 | I4: 4.5 | J4: 0 | K4: 1 | L4: =I4-J4-K4 -> 3.5 | M4: 0 | N4: 0 | O4: 0 | P4: =M4-N4-O4 -> 0 | Q4: 0.25 | R4: 0 | S4: 0 | T4: =Q4-R4-S4 -> 0.25 | U4: =SUM(E4,I4,M4,Q4) -> 5.75 | V4: =SUM(F4,J4,N4,R4,) -> 0 | W4: =SUM(G4,K4,O4,S4,) -> 1 | X4: =U4-V4-W4 -> 4.75 | Y4: =X4 -> 4.75 | Z4: 0
A5: DSS/OTHER | B5: Loftin, Angela | C5: ALLEGHANY | D5: 2 | E5: 1 | F5: 0 | G5: 0 | H5: =E5-F5-G5 -> 1 | I5: 1 | J5: 0 | K5: 1 | L5: =I5-J5-K5 -> 0 | M5: 0 | N5: 0 | O5: 0 | P5: =M5-N5-O5 -> 0 | Q5: 0 | R5: 0 | S5: 0 | T5: =Q5-R5-S5 -> 0 | U5: =SUM(E5,I5,M5,Q5) -> 2 | V5: =SUM(F5,J5,N5,R5,) -> 0 | W5: =SUM(G5,K5,O5,S5,) -> 1 | X5: =U5-V5-W5 -> 1 | Y5: =X5 -> 1 | Z5: 0
A6: DSS/OTHER | B6: Hasty, Laurie | C6: ANSON | D6: 4 | E6: 1.25 | F6: 0 | G6: 0 | H6: =E6-F6-G6 -> 1.25 | I6: 4.75 | J6: 0 | K6: 1 | L6: =I6-J6-K6 -> 3.75 | M6: 1 | N6: 0 | O6: 0 | P6: =M6-N6-O6 -> 1 | Q6: 0 | R6: 0 | S6: 0 | T6: =Q6-R6-S6 -> 0 | U6: =SUM(E6,I6,M6,Q6) -> 7 | V6: =SUM(F6,J6,N6,R6,) -> 0 | W6: =SUM(G6,K6,O6,S6,) -> 1 | X6: =U6-V6-W6 -> 6 | Y6: =X6 -> 6 | Z6: 1.5 | AA6: 1 Attorney, .5 Deputy
A7: DSS/OTHER | B7: Loftin, Angela | C7: ASHE | D7: 2 | E7: 1 | F7: 0 | G7: 0 | H7: =E7-F7-G7 -> 1 | I7: 4 | J7: 0 | K7: 1 | L7: =I7-J7-K7 -> 3 | M7: 0 | N7: 0 | O7: 0 | P7: =M7-N7-O7 -> 0 | Q7: 0.25 | R7: 0 | S7: 0 | T7: =Q7-R7-S7 -> 0.25 | U7: =SUM(E7,I7,M7,Q7) -> 5.25 | V7: =SUM(F7,J7,N7,R7,) -> 0 | W7: =SUM(G7,K7,O7,S7,) -> 1 | X7: =U7-V7-W7 -> 4.25 | Y7: =X7 -> 4.25 | Z7: 0
A8: DSS/OTHER | B8: Loftin, Angela | C8: AVERY | D8: 2 | E8: 1 | F8: 0 | G8: 0 | H8: =E8-F8-G8 -> 1 | I8: 1 | J8: 0 | K8: 0 | L8: =I8-J8-K8 -> 1 | M8: 0 | N8: 0 | O8: 0 | P8: =M8-N8-O8 -> 0 | Q8: 0 | R8: 0 | S8: 0 | T8: =Q8-R8-S8 -> 0 | U8: =SUM(E8,I8,M8,Q8) -> 2 | V8: =SUM(F8,J8,N8,R8,) -> 0 | W8: =SUM(G8,K8,O8,S8,) -> 0 | X8: =U8-V8-W8 -> 2 | Y8: =X8 -> 2 | Z8: 0
A9: Private | B9: Smith, Omia | C9: BEAUFORT | D9: 7 | E9: 1 | F9: 0 | G9: 0 | H9: =E9-F9-G9 -> 1 | I9: 5 | J9: 0 | K9: 0 | L9: =I9-J9-K9 -> 5 | M9: 1 | N9: 0 | O9: 1 | P9: =M9-N9-O9 -> 0 | Q9: 0 | R9: 0 | S9: 0 | T9: =Q9-R9-S9 -> 0 | U9: =SUM(E9,I9,M9,Q9) -> 7 | V9: =SUM(F9,J9,N9,R9,) -> 0 | W9: =SUM(G9,K9,O9,S9,) -> 1 | X9: =U9-V9-W9 -> 6 | Y9: =X9 -> 6 | Z9: 0.1 | AA9: Attorney
A10: Private | B10: Smith, Omia | C10: BERTIE | D10: 7 | E10: 0.5 | F10: 0 | G10: 0 | H10: =E10-F10-G10 -> 0.5 | I10: 3 | J10: 0 | K10: 0 | L10: =I10-J10-K10 -> 3 | M10: 0 | N10: 0 | O10: 0 | P10: =M10-N10-O10 -> 0 | Q10: 0 | R10: 0 | S10: 0 | T10: =Q10-R10-S10 -> 0 | U10: =SUM(E10,I10,M10,Q10) -> 3.5 | V10: =SUM(F10,J10,N10,R10,) -> 0 | W10: =SUM(G10,K10,O10,S10,) -> 0 | X10: =U10-V10-W10 -> 3.5 | Y10: =X10 -> 3.5 | Z10: 0.1 | AA10: Attorney
A11: DSS/OTHER | B11: Foreman, Cora | C11: BLADEN | D11: 6 | E11: 1 | F11: 0 | G11: 0 | H11: =E11-F11-G11 -> 1 | I11: 6 | J11: 0 | K11: 1 | L11: =I11-J11-K11 -> 5 | M11: 1 | N11: 0 | O11: 0 | P11: =M11-N11-O11 -> 1 | Q11: 0 | R11: 0 | S11: 0 | T11: =Q11-R11-S11 -> 0 | U11: =SUM(E11,I11,M11,Q11) -> 8 | V11: =SUM(F11,J11,N11,R11,) -> 0 | W11: =SUM(G11,K11,O11,S11,) -> 1 | X11: =U11-V11-W11 -> 7 | Y11: =X11 -> 7 | Z11: 2.6 | AA11: .10 attorney + 2.5 Deputies
A12: DSS/OTHER | B12: Foreman, Cora | C12: BRUNSWICK | D12: 6 | E12: 1.25 | F12: 0 | G12: 0 | H12: =E12-F12-G12 -> 1.25 | I12: 10.75 | J12: 0 | K12: 1 | L12: =I12-J12-K12 -> 9.75 | M12: 2 | N12: 0 | O12: 1 | P12: =M12-N12-O12 -> 1 | Q12: 0 | R12: 0 | S12: 0 | T12: =Q12-R12-S12 -> 0 | U12: =SUM(E12,I12,M12,Q12) -> 14 | V12: =SUM(F12,J12,N12,R12,) -> 0 | W12: =SUM(G12,K12,O12,S12,) -> 2 | X12: =U12-V12-W12 -> 12 | Y12: =X12 -> 12 | Z12: 0.25 | AA12: contract attorney
A13: Private | B13: Jenkins, Pamela | C13: BUNCOMBE | D13: 1 | E13: 3 | F13: 0 | G13: 0 | H13: =E13-F13-G13 -> 3 | I13: 10 | J13: 2 | K13: 1 | L13: =I13-J13-K13 -> 7 | M13: 4 | N13: 0 | O13: 0 | P13: =M13-N13-O13 -> 4 | Q13: 1.5 | R13: 0 | S13: 1 | T13: =Q13-R13-S13 -> 0.5 | U13: =SUM(E13,I13,M13,Q13) -> 18.5 | V13: =SUM(F13,J13,N13,R13,) -> 2 | W13: =SUM(G13,K13,O13,S13,) -> 2 | X13: =U13-V13-W13 -> 14.5 | Y13: =X13 -> 14.5 | Z13: 0 | AA13: 3 Supervisors, 10 unfrozen staff, two vacancies, 4 Clerical, 1.5 attorneys
A14: Private | B14: Loftin, Angela | C14: BURKE | D14: 2 | E14: 2 | F14: 0 | G14: 0 | H14: =E14-F14-G14 -> 2 | I14: 5 | J14: 0 | K14: 0 | L14: =I14-J14-K14 -> 5 | M14: 1 | N14: 0 | O14: 0 | P14: =M14-N14-O14 -> 1 | Q14: 0 | R14: 0 | S14: 0 | T14: =Q14-R14-S14 -> 0 | U14: =SUM(E14,I14,M14,Q14) -> 8 | V14: =SUM(F14,J14,N14,R14,) -> 0 | W14: =SUM(G14,K14,O14,S14,) -> 0 | X14: =U14-V14-W14 -> 8 | Y14: =X14 -> 8 | Z14: 0
A15: County Manager | B15: Hasty, Laurie | C15: CABARRUS | D15: 4 | E15: 4.25 | F15: 0 | G15: 0 | H15: =E15-F15-G15 -> 4.25 | I15: 16.75 | J15: 0 | K15: 0 | L15: =I15-J15-K15 -> 16.75 | M15: 3 | N15: 0 | O15: 0 | P15: =M15-N15-O15 -> 3 | Q15: 0.5 | R15: 0 | S15: 0 | T15: =Q15-R15-S15 -> 0.5 | U15: =SUM(E15,I15,M15,Q15) -> 24.5 | V15: =SUM(F15,J15,N15,R15,) -> 0 | W15: =SUM(G15,K15,O15,S15,) -> 0 | X15: =U15-V15-W15 -> 24.5 | Y15: =X15 -> 24.5 | Z15: 2.05 | AA15: Attorney (.25), Depities (1.6) P.I. (.20)
A16: DSS/OTHER | B16: Loftin, Angela | C16: CALDWELL | D16: 2 | E16: 1.25 | F16: 0 | G16: 0 | H16: =E16-F16-G16 -> 1.25 | I16: 6.75 | J16: 0 | K16: 0 | L16: =I16-J16-K16 -> 6.75 | M16: 1 | N16: 0 | O16: 0 | P16: =M16-N16-O16 -> 1 | Q16: 0 | R16: 0 | S16: 0 | T16: =Q16-R16-S16 -> 0 | U16: =SUM(E16,I16,M16,Q16) -> 9 | V16: =SUM(F16,J16,N16,R16,) -> 0 | W16: =SUM(G16,K16,O16,S16,) -> 0 | X16: =U16-V16-W16 -> 9 | Y16: =X16 -> 9 | Z16: 1 | AA16: Attorney
A17: Private | B17: Smith, Omia | C17: CAMDEN | D17: 7 | E17: 0.5 | F17: 0 | G17: 0 | H17: =E17-F17-G17 -> 0.5 | I17: 0.5 | J17: 0 | K17: 0 | L17: =I17-J17-K17 -> 0.5 | M17: 0.5 | N17: 0.25 | O17: 0 | P17: =M17-N17-O17 -> 0.25 | Q17: 0 | R17: 0 | S17: 0 | T17: =Q17-R17-S17 -> 0 | U17: =SUM(E17,I17,M17,Q17) -> 1.5 | V17: =SUM(F17,J17,N17,R17,) -> 0.25 | W17: =SUM(G17,K17,O17,S17,) -> 0 | X17: =U17-V17-W17 -> 1.25 | Y17: =X17 -> 1.25 | Z17: 0.1 | AA17: Attorney
A18: DSS/OTHER | B18: Foreman, Cora | C18: CARTERET | D18: 6 | E18: 1 | F18: 0 | G18: 0 | H18: =E18-F18-G18 -> 1 | I18: 4 | J18: 0 | K18: 0 | L18: =I18-J18-K18 -> 4 | M18: 1 | N18: 0 | O18: 0 | P18: =M18-N18-O18 -> 1 | Q18: 1 | R18: 0 | S18: 0 | T18: =Q18-R18-S18 -> 1 | U18: =SUM(E18,I18,M18,Q18) -> 7 | V18: =SUM(F18,J18,N18,R18,) -> 0 | W18: =SUM(G18,K18,O18,S18,) -> 0 | X18: =U18-V18-W18 -> 7 | Y18: =X18 -> 7 | Z18: 0
A19: DSS/OTHER | B19: Newsome, Kenya | C19: CASWELL | D19: 3 | E19: 0.33 | F19: 0 | G19: 0 | H19: =E19-F19-G19 -> 0.33 | I19: 3 | J19: 0 | K19: 1 | L19: =I19-J19-K19 -> 2 | M19: 1 | N19: 0 | O19: 0 | P19: =M19-N19-O19 -> 1 | Q19: 0 | R19: 0 | S19: 0 | T19: =Q19-R19-S19 -> 0 | U19: =SUM(E19,I19,M19,Q19) -> 4.33 | V19: =SUM(F19,J19,N19,R19,) -> 0 | W19: =SUM(G19,K19,O19,S19,) -> 1 | X19: =U19-V19-W19 -> 3.33 | Y19: =X19 -> 3.33 | Z19: 1 | AA19: Attorney
A20: DSS/OTHER | B20: Loftin, Angela | C20: CATAWBA | D20: 2 | E20: 3 | F20: 0 | G20: 0 | H20: =E20-F20-G20 -> 3 | I20: 18 | J20: 0 | K20: 0 | L20: =I20-J20-K20 -> 18 | M20: 3 | N20: 0 | O20: 0 | P20: =M20-N20-O20 -> 3 | Q20: 0 | R20: 0 | S20: 0 | T20: =Q20-R20-S20 -> 0 | U20: =SUM(E20,I20,M20,Q20) -> 24 | V20: =SUM(F20,J20,N20,R20,) -> 0 | W20: =SUM(G20,K20,O20,S20,) -> 0 | X20: =U20-V20-W20 -> 24 | Y20: =X20 -> 24 | Z20: 1 | AA20: Attorney (DSS Shared)
A21: DSS/OTHER | B21: Newsome, Kenya | C21: CHATHAM | D21: 3 | E21: 1 | F21: 0 | G21: 0 | H21: =E21-F21-G21 -> 1 | I21: 4 | J21: 0 | K21: 0 | L21: =I21-J21-K21 -> 4 | M21: 0 | N21: 0 | O21: 0 | P21: =M21-N21-O21 -> 0 | Q21: 0 | R21: 0 | S21: 0 | T21: =Q21-R21-S21 -> 0 | U21: =SUM(E21,I21,M21,Q21) -> 5 | V21: =SUM(F21,J21,N21,R21,) -> 0 | W21: =SUM(G21,K21,O21,S21,) -> 0 | X21: =U21-V21-W21 -> 5 | Y21: =X21 -> 5 | Z21: 0
A22: DSS/OTHER | B22: Jenkins, Pamela | C22: CHEROKEE | D22: 1 | E22: 1 | F22: 0 | G22: 0 | H22: =E22-F22-G22 -> 1 | I22: 1 | J22: 0 | K22: 0 | L22: =I22-J22-K22 -> 1 | M22: 0 | N22: 0 | O22: 0 | P22: =M22-N22-O22 -> 0 | Q22: 0.1 | R22: 0 | S22: 0 | T22: =Q22-R22-S22 -> 0.1 | U22: =SUM(E22,I22,M22,Q22) -> 2.1 | V22: =SUM(F22,J22,N22,R22,) -> 0 | W22: =SUM(G22,K22,O22,S22,) -> 0 | X22: =U22-V22-W22 -> 2.1 | Y22: =X22 -> 2.1 | Z22: 0.1 | AA22: 1 Supervisor, 1 Agent, part-time contract attorney 0.10 currently being used.
A23: Private | B23: Smith, Omia | C23: CHOWAN | D23: 7 | E23: 1 | F23: 0 | G23: 0 | H23: =E23-F23-G23 -> 1 | I23: 3 | J23: 0 | K23: 0 | L23: =I23-J23-K23 -> 3 | M23: 0 | N23: 0 | O23: 0 | P23: =M23-N23-O23 -> 0 | Q23: 0 | R23: 0 | S23: 0 | T23: =Q23-R23-S23 -> 0 | U23: =SUM(E23,I23,M23,Q23) -> 4 | V23: =SUM(F23,J23,N23,R23,) -> 0 | W23: =SUM(G23,K23,O23,S23,) -> 0 | X23: =U23-V23-W23 -> 4 | Y23: =X23 -> 4 | Z23: 0.5 | AA23: Attorney
A24: DSS/OTHER | B24: Jenkins, Pamela | C24: CLAY | D24: 1 | E24: 0.1 | F24: 0 | G24: 0 | H24: =E24-F24-G24 -> 0.1 | I24: 1 | J24: 0 | K24: 0 | L24: =I24-J24-K24 -> 1 | M24: 0 | N24: 0 | O24: 0 | P24: =M24-N24-O24 -> 0 | Q24: 0 | R24: 0 | S24: 0 | T24: =Q24-R24-S24 -> 0 | U24: =SUM(E24,I24,M24,Q24) -> 1.1 | V24: =SUM(F24,J24,N24,R24,) -> 0 | W24: =SUM(G24,K24,O24,S24,) -> 0 | X24: =U24-V24-W24 -> 1.1 | Y24: =X24 -> 1.1 | Z24: 0.1 | AA24: Attorney is contract and not included.
A25: DSS/OTHER | B25: Loftin, Angela | C25: CLEVELAND | D25: 2 | E25: 3 | F25: 0 | G25: 0 | H25: =E25-F25-G25 -> 3 | I25: 14 | J25: 0 | K25: 0 | L25: =I25-J25-K25 -> 14 | M25: 1 | N25: 0 | O25: 0 | P25: =M25-N25-O25 -> 1 | Q25: 1 | R25: 0 | S25: 0 | T25: =Q25-R25-S25 -> 1 | U25: =SUM(E25,I25,M25,Q25) -> 19 | V25: =SUM(F25,J25,N25,R25,) -> 0 | W25: =SUM(G25,K25,O25,S25,) -> 0 | X25: =U25-V25-W25 -> 19 | Y25: =X25 -> 19 | Z25: 0
A26: DSS/OTHER | B26: Foreman, Cora | C26: COLUMBUS | D26: 6 | E26: 3 | F26: 0 | G26: 0 | H26: =E26-F26-G26 -> 3 | I26: 12 | J26: 3 | K26: 0 | L26: =I26-J26-K26 -> 9 | M26: 1 | N26: 0 | O26: 0 | P26: =M26-N26-O26 -> 1 | Q26: 1 | R26: 0 | S26: 0 | T26: =Q26-R26-S26 -> 1 | U26: =SUM(E26,I26,M26,Q26) -> 17 | V26: =SUM(F26,J26,N26,R26,) -> 3 | W26: =SUM(G26,K26,O26,S26,) -> 0 | X26: =U26-V26-W26 -> 14 | Y26: =X26 -> 14 | Z26: 0.5 | AA26: Attorney
A27: Private | B27: Foreman, Cora | C27: CRAVEN | D27: 6 | E27: 1 | F27: 0 | G27: 0 | H27: =E27-F27-G27 -> 1 | I27: 9 | J27: 0 | K27: 1 | L27: =I27-J27-K27 -> 8 | M27: 0 | N27: 0 | O27: 0 | P27: =M27-N27-O27 -> 0 | Q27: 0 | R27: 0 | S27: 0 | T27: =Q27-R27-S27 -> 0 | U27: =SUM(E27,I27,M27,Q27) -> 10 | V27: =SUM(F27,J27,N27,R27,) -> 0 | W27: =SUM(G27,K27,O27,S27,) -> 1 | X27: =U27-V27-W27 -> 9 | Y27: =X27 -> 9 | Z27: 1 | AA27: Attorney
A28: County Manager | B28: Foreman, Cora | C28: CUMBERLAND | D28: 6 | E28: 9 | F28: 0 | G28: 0 | H28: =E28-F28-G28 -> 9 | I28: 44 | J28: 0 | K28: 1 | L28: =I28-J28-K28 -> 43 | M28: 17.5 | N28: 0 | O28: 2 | P28: =M28-N28-O28 -> 15.5 | Q28: 5 | R28: 0 | S28: 0 | T28: =Q28-R28-S28 -> 5 | U28: =SUM(E28,I28,M28,Q28) -> 75.5 | V28: =SUM(F28,J28,N28,R28,) -> 0 | W28: =SUM(G28,K28,O28,S28,) -> 3 | X28: =U28-V28-W28 -> 72.5 | Y28: =X28 -> 72.5 | Z28: 5.5 | AA28: contract deputies
A29: Private | B29: Smith, Omia | C29: CURRITUCK | D29: 7 | E29: 0.5 | F29: 0 | G29: 0 | H29: =E29-F29-G29 -> 0.5 | I29: 2 | J29: 0 | K29: 0 | L29: =I29-J29-K29 -> 2 | M29: 0 | N29: 0 | O29: 0 | P29: =M29-N29-O29 -> 0 | Q29: 0 | R29: 0 | S29: 0 | T29: =Q29-R29-S29 -> 0 | U29: =SUM(E29,I29,M29,Q29) -> 2.5 | V29: =SUM(F29,J29,N29,R29,) -> 0 | W29: =SUM(G29,K29,O29,S29,) -> 0 | X29: =U29-V29-W29 -> 2.5 | Y29: =X29 -> 2.5 | Z29: 0.5 | AA29: Attorney
A30: Private | B30: Smith, Omia | C30: DARE | D30: 7 | E30: 0.5 | F30: 0 | G30: 0 | H30: =E30-F30-G30 -> 0.5 | I30: 1 | J30: 0 | K30: 1 | L30: =I30-J30-K30 -> 0 | M30: 0 | N30: 0 | O30: 0 | P30: =M30-N30-O30 -> 0 | Q30: 0 | R30: 0 | S30: 0 | T30: =Q30-R30-S30 -> 0 | U30: =SUM(E30,I30,M30,Q30) -> 1.5 | V30: =SUM(F30,J30,N30,R30,) -> 0 | W30: =SUM(G30,K30,O30,S30,) -> 1 | X30: =U30-V30-W30 -> 0.5 | Y30: =X30 -> 0.5 | Z30: 0.5 | AA30: Attorney
A31: DSS/OTHER | B31: Newsome, Kenya | C31: DAVIDSON | D31: 3 | E31: 2 | F31: 0 | G31: 0 | H31: =E31-F31-G31 -> 2 | I31: 14 | J31: 0 | K31: 2 | L31: =I31-J31-K31 -> 12 | M31: 2 | N31: 0 | O31: 0 | P31: =M31-N31-O31 -> 2 | Q31: 1 | R31: 0 | S31: 0 | T31: =Q31-R31-S31 -> 1 | U31: =SUM(E31,I31,M31,Q31) -> 19 | V31: =SUM(F31,J31,N31,R31,) -> 0 | W31: =SUM(G31,K31,O31,S31,) -> 2 | X31: =U31-V31-W31 -> 17 | Y31: =X31 -> 17 | Z31: 0
A32: DSS/OTHER | B32: Newsome, Kenya | C32: DAVIE | D32: 3 | E32: 1 | F32: 0 | G32: 0 | H32: =E32-F32-G32 -> 1 | I32: 3 | J32: 0 | K32: 0 | L32: =I32-J32-K32 -> 3 | M32: 0 | N32: 0 | O32: 0 | P32: =M32-N32-O32 -> 0 | Q32: 0 | R32: 0 | S32: 0 | T32: =Q32-R32-S32 -> 0 | U32: =SUM(E32,I32,M32,Q32) -> 4 | V32: =SUM(F32,J32,N32,R32,) -> 0 | W32: 1 | X32: =U32-V32-W32 -> 3 | Y32: =X32 -> 3 | Z32: 0
A33: DSS/OTHER | B33: Foreman, Cora | C33: DUPLIN | D33: 6 | E33: 1 | F33: 0 | G33: 1 | H33: =E33-F33-G33 -> 0 | I33: 5 | J33: 0 | K33: 0 | L33: =I33-J33-K33 -> 5 | M33: 0 | N33: 0 | O33: 0 | P33: =M33-N33-O33 -> 0 | Q33: 0 | R33: 0 | S33: 0 | T33: =Q33-R33-S33 -> 0 | U33: =SUM(E33,I33,M33,Q33) -> 6 | V33: =SUM(F33,J33,N33,R33,) -> 0 | W33: =SUM(G33,K33,O33,S33,) -> 1 | X33: =U33-V33-W33 -> 5 | Y33: =X33 -> 5 | Z33: 1.1 | AA33: .10 attorney + 1 Deputy
A34: DSS/OTHER | B34: Newsome, Kenya | C34: DURHAM | D34: 3 | E34: 6 | F34: 0 | G34: 0 | H34: =E34-F34-G34 -> 6 | I34: 27 | J34: 0 | K34: 2 | L34: =I34-J34-K34 -> 25 | M34: 3 | N34: 0 | O34: 2 | P34: =M34-N34-O34 -> 1 | Q34: 0 | R34: 0 | S34: 0 | T34: =Q34-R34-S34 -> 0 | U34: =SUM(E34,I34,M34,Q34) -> 36 | V34: =SUM(F34,J34,N34,R34,) -> 0 | W34: =SUM(G34,K34,O34,S34,) -> 4 | X34: =U34-V34-W34 -> 32 | Y34: =X34 -> 32 | Z34: 0
A35: DSS/OTHER | B35: Mayfield, Kristi | C35: EDGECOMBE - TB | D35: 5 | E35: 1.5 | F35: 0 | G35: 0 | H35: =E35-F35-G35 -> 1.5 | I35: 7.5 | J35: 0 | K35: 1 | L35: =I35-J35-K35 -> 6.5 | M35: 1 | N35: 0 | O35: 1 | P35: =M35-N35-O35 -> 0 | Q35: 0.5 | R35: 0 | S35: 0 | T35: =Q35-R35-S35 -> 0.5 | U35: =SUM(E35,I35,M35,Q35) -> 10.5 | V35: =SUM(F35,J35,N35,R35,) -> 0 | W35: =SUM(G35,K35,O35,S35,) -> 2 | X35: =U35-V35-W35 -> 8.5 | Y35: =X35 -> 8.5 | Z35: 1.5 | AA35: 1 (part-time) Lieutenant and 2 (part-time) Deupties
A36: DSS/OTHER | B36: Mayfield, Kristi | C36: EDGECOMBE - RM | D36: 5 | E36: 1.5 | F36: 0 | G36: 0 | H36: =E36-F36-G36 -> 1.5 | I36: 7.5 | J36: 0 | K36: 4 | L36: =I36-J36-K36 -> 3.5 | M36: 1 | N36: 0 | O36: 0 | P36: =M36-N36-O36 -> 1 | Q36: 0.5 | R36: 0 | S36: 0 | T36: =Q36-R36-S36 -> 0.5 | U36: =SUM(E36,I36,M36,Q36) -> 10.5 | V36: =SUM(F36,J36,N36,R36,) -> 0 | W36: =SUM(G36,K36,O36,S36,) -> 4 | X36: =U36-V36-W36 -> 6.5 | Y36: =X36 -> 6.5 | Z36: 1.5 | AA36: 1 (part-time) Lieutenant and 2 (part-time) Deupties
A37: DSS/OTHER | B37: Newsome, Kenya | C37: FORSYTH | D37: 3 | E37: 5 | F37: 0 | G37: 0 | H37: =E37-F37-G37 -> 5 | I37: 34 | J37: 0 | K37: 2 | L37: =I37-J37-K37 -> 32 | M37: 9 | N37: 0 | O37: 3 | P37: =M37-N37-O37 -> 6 | Q37: 3.5 | R37: 0 | S37: 0 | T37: =Q37-R37-S37 -> 3.5 | U37: =SUM(E37,I37,M37,Q37) -> 51.5 | V37: =SUM(F37,J37,N37,R37,) -> 0 | W37: =SUM(G37,K37,O37,S37,) -> 5 | X37: =U37-V37-W37 -> 46.5 | Y37: =X37 -> 46.5 | Z37: 0
A38: DSS/OTHER | B38: Mayfield, Kristi | C38: FRANKLIN | D38: 5 | E38: 1 | F38: 0 | G38: 0 | H38: =E38-F38-G38 -> 1 | I38: 9 | J38: 0 | K38: 0 | L38: =I38-J38-K38 -> 9 | M38: 0 | N38: 0 | O38: 0 | P38: =M38-N38-O38 -> 0 | Q38: 0 | R38: 0 | S38: 0 | T38: =Q38-R38-S38 -> 0 | U38: =SUM(E38,I38,M38,Q38) -> 10 | V38: =SUM(F38,J38,N38,R38,) -> 0 | W38: =SUM(G38,K38,O38,S38,) -> 0 | X38: =U38-V38-W38 -> 10 | Y38: =X38 -> 10 | Z38: 2.5 | AA38: 1 Deputy and 1.5 IV-D Atty.
A39: DSS/OTHER | B39: Loftin, Angela | C39: GASTON | D39: 2 | E39: 5 | F39: 0 | G39: 0 | H39: =E39-F39-G39 -> 5 | I39: 25 | J39: 0 | K39: 2 | L39: =I39-J39-K39 -> 23 | M39: 4 | N39: 0 | O39: 0 | P39: =M39-N39-O39 -> 4 | Q39: 1 | R39: 0 | S39: 1 | T39: =Q39-R39-S39 -> 0 | U39: =SUM(E39,I39,M39,Q39) -> 35 | V39: =SUM(F39,J39,N39,R39,) -> 0 | W39: =SUM(G39,K39,O39,S39,) -> 3 | X39: =U39-V39-W39 -> 32 | Y39: =X39 -> 32 | Z39: 0
A40: Private | B40: Smith, Omia | C40: GATES | D40: 7 | E40: 0.5 | F40: 0 | G40: 0 | H40: =E40-F40-G40 -> 0.5 | I40: 1 | J40: 0 | K40: 0 | L40: =I40-J40-K40 -> 1 | M40: 0.5 | N40: 0.25 | O40: 0 | P40: =M40-N40-O40 -> 0.25 | Q40: 0 | R40: 0 | S40: 0 | T40: =Q40-R40-S40 -> 0 | U40: =SUM(E40,I40,M40,Q40) -> 2 | V40: =SUM(F40,J40,N40,R40,) -> 0.25 | W40: =SUM(G40,K40,O40,S40,) -> 0 | X40: =U40-V40-W40 -> 1.75 | Y40: =X40 -> 1.75 | Z40: 0.5 | AA40: Attorney
...

Sheet Self-Assessment Scores for All 
A1: SELF-ASSESSMENT 09/2026 | D1: CASE CLOSURE | E1: ENFORCEMENT | F1: ESTABLISHMENT | G1: EXPEDITED PROCESS 12 MONTH | H1: EXPEDITED PROCESS 6 MONTH | I1: INTERSTATE | J1: MEDICAL | K1: REVIEW AND ADJUSTMENT INCLUSIVE | L1: REVIEW AND ADJUSTMENT REVIEW NEEDED
A2: COUNTY | B2: CONSULTANT | C2: STANDARD | D2: 90 | E2: 75 | F2: 75 | G2: 90 | H2: 75 | I2: 75 | J2: 75 | K2: 75 | L2: 75
C3: STATEWIDE SCORE REGION | D3: 99.068258 | E3: 89.27789 | F3: 73.515474 | G3: 93.645014 | H3: 83.127525 | I3: 82.987672 | J3: 88.053521 | K3: 98.824319 | L3: 89.5962
A4: ALAMANCE | B4: Newsome, Kenya | C4: 3 | D4: 99.396135 | E4: 89.217836 | F4: 69.020867 | G4: 91.005291 | H4: 89.0625 | I4: 68.292683 | J4: 87.33945 | K4: 98.601399 | L4: 83.606557
A5: ALEXANDER | B5: Loftin, Angela | C5: 2 | D5: 99.713467 | E5: 92.964824 | F5: 84.415584 | G5: 90.47619 | H5: 80.952381 | I5: 72.413793 | J5: 90.650407 | K5: 97.391304 | L5: 88.461538
A6: ALLEGHANY | B6: Loftin, Angela | C6: 2 | D6: 100 | E6: 66.666667 | F6: 65 | I6: 83.333333 | J6: 91.37931 | K6: 100 | L6: 100
A7: ANSON | B7: Hasty, Laurie | C7: 4 | D7: 98.689956 | E7: 89.880305 | F7: 64.925373 | G7: 100 | H7: 85.294118 | I7: 80 | J7: 87.977369 | K7: 93.469388 | L7: 52.941176
A8: ASHE | B8: Loftin, Angela | C8: 2 | D8: 98.857143 | E8: 91.015625 | F8: 94.117647 | G8: 97.142857 | H8: 97.058824 | I8: 96.774194 | J8: 94.475138 | K8: 100 | L8: 100
A9: AVERY | B9: Loftin, Angela | C9: 2 | D9: 98.823529 | E9: 83.333333 | F9: 63.265306 | G9: 100 | H9: 87.5 | I9: 73.333333 | J9: 79.816514 | K9: 92 | L9: 33.333333
A10: BEAUFORT | B10: Smith, Omia | C10: 7 | D10: 99.797571 | E10: 86.030151 | F10: 87.195122 | G10: 98.214286 | H10: 96.428571 | I10: 82.051282 | J10: 81.914894 | K10: 98.601399 | L10: 86.666667
A11: BERTIE | B11: Smith, Omia | C11: 7 | D11: 99.24812 | E11: 92.393321 | F11: 53.846154 | G11: 100 | H11: 90 | I11: 90 | J11: 88.036117 | K11: 99.2 | L11: 80
A12: BLADEN | B12: Foreman, Cora | C12: 6 | D12: 99.616858 | E12: 89.366273 | F12: 65.730337 | G12: 94.285714 | H12: 75.675676 | I12: 80.769231 | J12: 84.90099 | K12: 94.055944 | L12: 54.054054
A13: BRUNSWICK | B13: Foreman, Cora | C13: 6 | D13: 98.895028 | E13: 89.734816 | F13: 94.247788 | G13: 99.047619 | H13: 96.078431 | I13: 80.681818 | J13: 94.736842 | K13: 98.172324 | L13: 85.416667
A14: BUNCOMBE | B14: Jenkins, Pamela | C14: 1 | D14: 99.489051 | E14: 89.567669 | F14: 97.490347 | G14: 98.4 | H14: 94.53125 | I14: 85.443038 | J14: 97.052402 | K14: 99.381762 | L14: 94.594595
A15: BURKE | B15: Loftin, Angela | C15: 2 | D15: 98.77551 | E15: 90.631164 | F15: 95.643564 | G15: 95.081967 | H15: 94.827586 | I15: 67.857143 | J15: 96.385542 | K15: 99.115044 | L15: 95.348837
A16: CABARRUS | B16: Hasty, Laurie | C16: 4 | D16: 99.776786 | E16: 94.399502 | F16: 95.314788 | G16: 98.425197 | H16: 96.862745 | I16: 88.586957 | J16: 99.684543 | K16: 99.695122 | L16: 98.734177
A17: CALDWELL | B17: Loftin, Angela | C17: 2 | D17: 99.148211 | E17: 94.731296 | F17: 96.441281 | G17: 97.333333 | H17: 94.444444 | I17: 94.871795 | J17: 95.166858 | K17: 99.082569 | L17: 92.682927
A18: CAMDEN | B18: Smith, Omia | C18: 7 | D18: 100 | E18: 88.372093 | F18: 91.304348 | G18: 77.777778 | H18: 77.777778 | I18: 100 | J18: 83.333333 | K18: 100 | L18: 100
... A41: GATES | B41: Smith, Omia | C41: 7 | D41: 98.412698 | E41: 91.452991 | F41: 58.333333 | G41: 100 | H41: 100 | I41: 83.333333 | J41: 73.404255 | K41: 97.560976 | L41: 80
A42: GRAHAM | B42: Jenkins, Pamela | C42: 1 | D42: 97.368421 | E42: 89.156627 | F42: 66.666667 | G42: #DIV/0 | H42: #DIV/0 | I42: 60 | J42: 81.481481 | K42: 96.875 | L42: 66.666667
A43: GRANVILLE | B43: Mayfield, Kristi | C43: 5 | D43: 99.357602 | E43: 89.978903 | F43: 96.527778 | G43: 100 | H43: 100 | I43: 97.297297 | J43: 90.812721 | K43: 98.421053 | L43: 90
A44: GREENE | B44: Mayfield, Kristi | C44: 5 | D44: 99.537037 | E44: 89.005236 | F44: 93.548387 | G44: 100 | H44: 96.078431 | I44: 90.909091 | J44: 91.333333 | K44: 98.601399 | L44: 91.666667
A45: GUIL - Gboro | B45: Newsome, Kenya | C45: 3 | D45: 98.814532 | E45: 88.651437 | F45: 86.061381 | G45: 97.191011 | H45: 81.440443 | I45: 91.186441 | J45: 92.904427 | K45: 99.519231 | L45: 95.205479
A46: GUIL - HP | B46: Newsome, Kenya | C46: 3 | D46: 98.696682 | E46: 89.012004 | F46: 82.618026 | G46: 98 | H46: 91.608392 | I46: 80.851064 | J46: 94.092827 | K46: 98.296422 | L46: 80.392157
A47: HALIFAX | B47: Mayfield, Kristi | C47: 5 | D47: 98.666667 | E47: 92.812777 | F47: 81.13879 | G47: 96.491228 | H47: 93.859649 | I47: 97.826087 | J47: 94.847021 | K47: 100 | L47: 100
A48: HARNETT | B48: Hasty, Laurie | C48: 4 | D48: 99.84 | E48: 90.620272 | F48: 75.257732 | G48: 91.666667 | H48: 79.591837 | I48: 92.391304 | J48: 79.699248 | K48: 97.814208 | L48: 64.705882
A49: HAYWOOD | B49: Jenkins, Pamela | C49: 1 | D49: 98.963731 | E49: 89.61039 | F49: 95.56962 | G49: 100 | H49: 100 | I49: 76.470588 | J49: 95.635674 | K49: 97.515528 | L49: 73.333333
A50: HENDERSON | B50: Jenkins, Pamela | C50: 1 | D50: 99.804305 | E50: 92.239186 | F50: 99.576271 | G50: 100 | H50: 94.117647 | I50: 97.058824 | J50: 98.591549 | K50: 100 | L50: 100
A51: HERTFORD | B51: Smith, Omia | C51: 7 | D51: 97.790055 | E51: 89.946381 | F51: 65.625 | G51: 100 | H51: 100 | I51: 76 | J51: 84.355828 | K51: 93.121693 | L51: 53.571429
A52: HOKE | B52: Hasty, Laurie | C52: 4 | D52: 98.550725 | E52: 88.092933 | F52: 53.308824 | G52: 93.181818 | H52: 80 | I52: 77.777778 | J52: 88.4 | K52: 98.728814 | L52: 88.461538
A53: HYDE | B53: Smith, Omia | C53: 7 | D53: 92 | E53: 83.333333 | F53: 100 | G53: 100 | H53: 100 | I53: 100 | J53: 77.083333 | K53: 100 | L53: 100
A54: IREDELL | B54: Loftin, Angela | C54: 2 | D54: 99.565689 | E54: 89.21613 | F54: 80.769231 | G54: 92.982456 | H54: 79.83871 | I54: 88.181818 | J54: 91.765579 | K54: 99.335548 | L54: 78.947368
... A71: NORTHAMPTON | B71: Mayfield, Kristi | C71: 5 | D71: 97.959184 | E71: 82.379518 | F71: 89.473684 | G71: 100 | H71: 100 | I71: 78.571429 | J71: 86.956522 | K71: 99.152542 | L71: 90
A72: NORTH CAROLINA | D72: 99.983918 | E72: 100 | F72: 0 | I72: 0
A73: ONSLOW | B73: Foreman, Cora | C73: 6 | D73: 99.119295 | E73: 89.360902 | F73: 63.823934 | G73: 81.896552 | H73: 61.832061 | I73: 90.58296 | J73: 78.685481 | K73: 99.5086 | L73: 93.333333
A74: ORANGE | B74: Newsome, Kenya | C74: 3 | D74: 99.112426 | E74: 91.153846 | F74: 89 | G74: 88.709677 | H74: 78.125 | I74: 92.5 | J74: 89.336493 | K74: 98.453608 | L74: 90.322581
A75: PAMLICO | B75: Foreman, Cora | C75: 6 | D75: 98.461538 | E75: 91.219512 | F75: 60.606061 | G75: 100 | H75: 83.333333 | I75: 53.846154 | J75: 93.902439 | K75: 98.076923 | L75: 93.333333
A76: PASQUOTANK | B76: Smith, Omia | C76: 7 | D76: 99.104478 | E76: 90.01387 | F76: 58.139535 | G76: 100 | H76: 100 | I76: 83.333333 | J76: 82.608696 | K76: 100 | L76: 100
A77: PENDER | B77: Foreman, Cora | C77: 6 | D77: 99.685535 | E77: 88.466948 | F77: 98.850575 | G77: 90.740741 | H77: 82.692308 | I77: 93.181818 | J77: 96.68325 | K77: 98.93617 | L77: 90.47619
A78: PERQUIMANS | B78: Smith, Omia | C78: 7 | D78: 96.703297 | E78: 88.823529 | F78: 76.056338 | G78: 100 | H78: 84.615385 | I78: 77.777778 | J78: 84.962406 | K78: 98.181818 | L78: 83.333333
...

Sheet Incentive Goal
A1: Incentive Goal SFY2027 09/2026 | D1: TOTAL DISBURSED COLLECTIONS | G1: PATERNITY ESTABLISHMENT | K1: CASES UNDER ORDER | O1: CURRENT SUPPORT | S1: ARREARS | W1: MEDICAL
A2: County | B2: County Fips | C2: Region | D2: SFY Actual | E2: Goal | F2: % of Goal | G2: Prev BOW | H2: Pat Est | I2: %PatEst | J2: Goal | K2: Open Cases | L2: CUO | M2: %CUO | N2: Goal | O2: CSup due | P2: CSup Coll | Q2: %CurCol | R2: Goal | S2: Cases Arr due | T2: Cases Arr Col | U2: %Arr | V2: Goal | W2: MedCase | X2: MedSup | Y2: %Med
A3: ALAMANCE | B3: 3700100400 | C3: 3 | D3: 2657946.9 | E3: 10507571 | F3: 0.2529554 | G3: 3748 | H3: 3258 | I3: 0.86926361 | J3: 0.94672801 | K3: 4954 | L3: 4328 | M3: 0.87363746 | N3: 0.87333466 | O3: 3069967.1 | P3: 2062232.4 | Q3: 0.67174415 | R3: 0.65601555 | S3: 3536 | T3: 1697 | U3: 0.47992081 | V3: 0.66755246 | W3: 2863 | X3: 2213 | Y3: 0.77296542
A4: ALEXANDER | B4: 3700300800 | C4: 2 | D4: 383624.11 | E4: 1551276.9 | F4: 0.24729571 | G4: 645 | H4: 615 | I4: 0.95348837 | J4: 1 | K4: 869 | L4: 784 | M4: 0.90218642 | N4: 0.9 | O4: 446776.38 | P4: 302635.52 | Q4: 0.67737583 | R4: 0.67340626 | S4: 588 | T4: 274 | U4: 0.46598639 | V4: 0.64997878 | W4: 459 | X4: 380 | Y4: 0.82788671
A5: ALLEGHANY | B5: 3700500800 | C5: 2 | D5: 124603.88 | E5: 481497.15 | F5: 0.25878425 | G5: 197 | H5: 188 | I5: 0.95431472 | J5: 1 | K5: 296 | L5: 267 | M5: 0.90202703 | N5: 0.9 | O5: 147701.02 | P5: 91834.46 | Q5: 0.62175915 | R5: 0.6093009 | S5: 224 | T5: 98 | U5: 0.4375 | V5: 0.63953815 | W5: 132 | X5: 108 | Y5: 0.81818182
A6: ANSON | B6: 3700700400 | C6: 4 | D6: 673400.5 | E6: 2794575.4 | F6: 0.24096702 | G6: 1383 | H6: 1298 | I6: 0.93853941 | J6: 0.92530945 | K6: 1772 | L6: 1677 | M6: 0.94638826 | N6: 0.9 | O6: 853822.57 | P6: 517744.86 | Q6: 0.6063846 | R6: 0.60847558 | S6: 1222 | T6: 525 | U6: 0.42962357 | V6: 0.62671687 | W6: 1103 | X6: 944 | Y6: 0.85584769
A7: ASHE | B7: 3700900800 | C7: 2 | D7: 338487.95 | E7: 1287145.1 | F7: 0.26297575 | G7: 426 | H7: 397 | I7: 0.93192488 | J7: 1 | K7: 718 | L7: 668 | M7: 0.93036212 | N7: 0.9 | O7: 369696.88 | P7: 274527.25 | Q7: 0.74257389 | R7: 0.7 | S7: 489 | T7: 256 | U7: 0.52351738 | V7: 0.7 | W7: 460 | X7: 382 | Y7: 0.83043478
A8: AVERY | B8: 3701100200 | C8: 2 | D8: 139445.56 | E8: 526735.5 | F8: 0.26473545 | G8: 164 | H8: 156 | I8: 0.95121951 | J8: 1 | K8: 251 | L8: 211 | M8: 0.84063745 | N8: 0.84484375 | O8: 163345.73 | P8: 117936.66 | Q8: 0.72200638 | R8: 0.7 | S8: 155 | T8: 75 | U8: 0.48387097 | V8: 0.61215054 | W8: 156 | X8: 68 | Y8: 0.43589744
A9: BEAUFORT | B9: 3701300700 | C9: 7 | D9: 833706.15 | E9: 3713593.9 | F9: 0.22450116 | G9: 1353 | H9: 1240 | I9: 0.91648189 | J9: 0.98737542 | K9: 1715 | L9: 1641 | M9: 0.95685131 | N9: 0.9 | O9: 914096.4 | P9: 619965.37 | Q9: 0.67822756 | R9: 0.685527 | S9: 1315 | T9: 631 | U9: 0.47984791 | V9: 0.69175196 | W9: 993 | X9: 839 | Y9: 0.8449144
A10: BERTIE | B10: 3701500100 | C10: 7 | D10: 450363.67 | E10: 1865172.6 | F10: 0.24145951 | G10: 784 | H10: 721 | I10: 0.91964286 | J10: 0.95976636 | K10: 989 | L10: 952 | M10: 0.96258847 | N10: 0.9 | O10: 497903.13 | P10: 343133.97 | Q10: 0.68915809 | R10: 0.66980207 | S10: 706 | T10: 353 | U10: 0.5 | V10: 0.6882793 | W10: 599 | X10: 506 | Y10: 0.84474124
A11: BLADEN | B11: 3701700700 | C11: 6 | D11: 859552.45 | E11: 3799649.5 | F11: 0.22621888 | G11: 1349 | H11: 1204 | I11: 0.89251297 | J11: 0.95506259 | K11: 1793 | L11: 1608 | M11: 0.89682097 | N11: 0.9 | O11: 1142725.7 | P11: 722626.87 | Q11: 0.63237122 | R11: 0.65703343 | S11: 1381 | T11: 554 | U11: 0.40115858 | V11: 0.62538462 | W11: 1092 | X11: 952 | Y11: 0.87179487
A12: BRUNSWICK | B12: 3701900700 | C12: 6 | D12: 1681413.1 | E12: 6316195.8 | F12: 0.26620662 | G12: 2369 | H12: 2277 | I12: 0.96116505 | J12: 1 | K12: 2929 | L12: 2661 | M12: 0.90850119 | N12: 0.9 | O12: 1878805.7 | P12: 1377795.5 | Q12: 0.73333578 | R12: 0.7 | S12: 1726 | T12: 855 | U12: 0.49536501 | V12: 0.7 | W12: 2161 | X12: 1799 | Y12: 0.83248496
A13: BUNCOMBE | B13: 3702100500 | C13: 1 | D13: 2424445.4 | E13: 10357493 | F13: 0.23407647 | G13: 3264 | H13: 3127 | I13: 0.95802696 | J13: 1 | K13: 4652 | L13: 4467 | M13: 0.96023216 | N13: 0.9 | O13: 2642076.6 | P13: 1868654.9 | Q13: 0.70726751 | R13: 0.7 | S13: 3342 | T13: 1704 | U13: 0.50987433 | V13: 0.69582909 | W13: 2600 | X13: 1896 | Y13: 0.72923077
A14: BURKE | B14: 3702300500 | C14: 2 | D14: 998421.98 | E14: 3862616.8 | F14: 0.25848331 | G14: 1280 | H14: 1244 | I14: 0.971875 | J14: 1 | K14: 2201 | L14: 1848 | M14: 0.83961836 | N14: 0.86090119 | O14: 1151951.1 | P14: 790789.77 | Q14: 0.68647857 | R14: 0.66483412 | S14: 1629 | T14: 750 | U14: 0.46040516 | V14: 0.67009434 | W14: 1046 | X14: 779 | Y14: 0.74474187
... A45: GUIL - HP | B45: 3728100400 | C45: 3 | D45: 2129526.8 | E45: 8367759.6 | F45: 0.25449187 | G45: 3430 | H45: 3154 | I45: 0.91953353 | J45: 0.99080268 | K45: 4135 | L45: 3707 | M45: 0.89649335 | N45: 0.8977894 | O45: 2372870.5 | P45: 1677814.1 | Q45: 0.70708201 | R45: 0.69678731 | S45: 3033 | T45: 1562 | U45: 0.51500165 | V45: 0.7 | W45: 2441 | X45: 2079 | Y45: 0.85170012
K46: =SUM(K44:K45) -> 15421
A47: HALIFAX | B47: 3708300900 | C47: 5 | D47: 1365976.8 | E47: 5507469.2 | F47: 0.2480226 | G47: 2137 | H47: 1973 | I47: 0.9232569 | J47: 0.99550965 | K47: 2710 | L47: 2330 | M47: 0.8597786 | N47: 0.87373004 | O47: 1450420.3 | P47: 1011125.2 | Q47: 0.69712565 | R47: 0.67040093 | S47: 1842 | T47: 968 | U47: 0.52551574 | V47: 0.7 | W47: 1462 | X47: 1206 | Y47: 0.8248974
A48: HARNETT | B48: 3708500300 | C48: 4 | D48: 2497085.8 | E48: 9313095.4 | F48: 0.2681263 | G48: 2838 | H48: 2633 | I48: 0.92776603 | J48: 1 | K48: 3929 | L48: 3494 | M48: 0.88928481 | N48: 0.9 | O48: 2856509.8 | P48: 2016261.8 | Q48: 0.70584805 | R48: 0.69982494 | S48: 2824 | T48: 1347 | U48: 0.476983 | V48: 0.6795035 | W48: 1942 | X48: 1522 | Y48: 0.78372812
A49: HAYWOOD | B49: 3708700500 | C49: 1 | D49: 646402.24 | E49: 2629564.1 | F49: 0.24582106 | G49: 686 | H49: 660 | I49: 0.96209913 | J49: 1 | K49: 1017 | L49: 895 | M49: 0.88003933 | N49: 0.89815713 | O49: 711437.66 | P49: 550908.34 | Q49: 0.77435926 | R49: 0.7 | S49: 658 | T49: 349 | U49: 0.53039514 | V49: 0.7 | W49: 686 | X49: 546 | Y49: 0.79591837
A50: HENDERSON | B50: 3708900500 | C50: 1 | D50: 918035.61 | E50: 3660477.2 | F50: 0.2507967 | G50: 1052 | H50: 985 | I50: 0.93631179 | J50: 1 | K50: 1442 | L50: 1301 | M50: 0.90221914 | N50: 0.9 | O50: 979741.76 | P50: 755634.28 | Q50: 0.77125862 | R50: 0.7 | S50: 924 | T50: 548 | U50: 0.59307359 | V50: 0.7 | W50: 709 | X50: 531 | Y50: 0.74894217
A51: HERTFORD | B51: 3709100100 | C51: 7 | D51: 618309.89 | E51: 2569815.8 | F51: 0.24060475 | G51: 1200 | H51: 1117 | I51: 0.93083333 | J51: 0.95683486 | K51: 1311 | L51: 1243 | M51: 0.9481312 | N51: 0.9 | O51: 716688.2 | P51: 497887.64 | Q51: 0.69470607 | R51: 0.68440232 | S51: 884 | T51: 423 | U51: 0.47850679 | V51: 0.68613861 | W51: 880 | X51: 747 | Y51: 0.84886364
