Workbook

Sheet FA1
A2: FUNDING AUTHORIZATION | H2: ALLOCATION PERIOD
B3: FUNDING SOURCE: | C3: LINKS | I3: Service Period: | J3: 6/1/2026 to 5/31/2027
B4: EFFECTIVE DATE: | C4: 46204 | I4: Payment Period: | J4: 7/1/2026 to 6/30/2027
B5: AUTHORIZATION NUMBER: | C5: 1
D7: Initial Allocation | G7: Additional Allocation | J7: Grand Total Allocation
A8: Co. No. | B8: COUNTY | C8: UEI | D8: Federal | E8: State | F8: Total | G8: Federal | H8: State | I8: Total | J8: Federal | K8: State | L8: Total
A9: 01 | B9: ALAMANCE | C9: F5VHYUU13NC5 | D9: 17590 | E9: 4398 | F9: =SUM(D9:E9) -> 21988 | G9: 0 | H9: 0 | I9: =SUM(G9:H9) -> 0 | J9: =D9+G9 -> 17590 | K9: =E9+H9 -> 4398 | L9: =SUM(J9:K9) -> 21988
A10: 02 | B10: ALEXANDER | C10: XVEEJSNY7UX9 | D10: 6480 | E10: 1620 | F10: =SUM(D10:E10) -> 8100 | G10: 0 | H10: 0 | I10: =SUM(G10:H10) -> 0 | J10: =D10+G10 -> 6480 | K10: =E10+H10 -> 1620 | L10: =SUM(J10:K10) -> 8100
A11: 03 | B11: ALLEGHANY | C11: GTC2BCN7SKK3 | D11: 6827 | E11: 1707 | F11: =SUM(D11:E11) -> 8534 | G11: 0 | H11: 0 | I11: =SUM(G11:H11) -> 0 | J11: =D11+G11 -> 6827 | K11: =E11+H11 -> 1707 | L11: =SUM(J11:K11) -> 8534
A12: 04 | B12: ANSON | C12: PK8UYTSNJCC3 | D12: 1958 | E12: 490 | F12: =SUM(D12:E12) -> 2448 | G12: 0 | H12: 0 | I12: =SUM(G12:H12) -> 0 | J12: =D12+G12 -> 1958 | K12: =E12+H12 -> 490 | L12: =SUM(J12:K12) -> 2448
A13: 05 | B13: ASHE | C13: PBZ9TLZMHUS9 | D13: 8270 | E13: 2067 | F13: =SUM(D13:E13) -> 10337 | G13: 0 | H13: 0 | I13: =SUM(G13:H13) -> 0 | J13: =D13+G13 -> 8270 | K13: =E13+H13 -> 2067 | L13: =SUM(J13:K13) -> 10337
A14: 06 | B14: AVERY | C14: UZ19JT8JXLF3 | D14: 5015 | E14: 1254 | F14: =SUM(D14:E14) -> 6269 | G14: 0 | H14: 0 | I14: =SUM(G14:H14) -> 0 | J14: =D14+G14 -> 5015 | K14: =E14+H14 -> 1254 | L14: =SUM(J14:K14) -> 6269
A15: 07 | B15: BEAUFORT | C15: Q14JUM5NZQ43 | D15: 14583 | E15: 3646 | F15: =SUM(D15:E15) -> 18229 | G15: 0 | H15: 0 | I15: =SUM(G15:H15) -> 0 | J15: =D15+G15 -> 14583 | K15: =E15+H15 -> 3646 | L15: =SUM(J15:K15) -> 18229
A16: 08 | B16: BERTIE | C16: FSW9MGNZAK39 | D16: 2214 | E16: 554 | F16: =SUM(D16:E16) -> 2768 | G16: 0 | H16: 0 | I16: =SUM(G16:H16) -> 0 | J16: =D16+G16 -> 2214 | K16: =E16+H16 -> 554 | L16: =SUM(J16:K16) -> 2768
A17: 09 | B17: BLADEN | C17: TLCTJWDJH1H9 | D17: 7402 | E17: 1850 | F17: =SUM(D17:E17) -> 9252 | G17: 0 | H17: 0 | I17: =SUM(G17:H17) -> 0 | J17: =D17+G17 -> 7402 | K17: =E17+H17 -> 1850 | L17: =SUM(J17:K17) -> 9252
A18: 10 | B18: BRUNSWICK | C18: MJBMXLN9NJT5 | D18: 18667 | E18: 4667 | F18: =SUM(D18:E18) -> 23334 | G18: 0 | H18: 0 | I18: =SUM(G18:H18) -> 0 | J18: =D18+G18 -> 18667 | K18: =E18+H18 -> 4667 | L18: =SUM(J18:K18) -> 23334
A19: 11 | B19: BUNCOMBE | C19: W5TCDKMLHE69 | D19: 56608 | E19: 14152 | F19: =SUM(D19:E19) -> 70760 | G19: 0 | H19: 0 | I19: =SUM(G19:H19) -> 0 | J19: =D19+G19 -> 56608 | K19: =E19+H19 -> 14152 | L19: =SUM(J19:K19) -> 70760
A20: 12 | B20: BURKE | C20: KVJHUFURQDM5 | D20: 30962 | E20: 7741 | F20: =SUM(D20:E20) -> 38703 | G20: 0 | H20: 0 | I20: =SUM(G20:H20) -> 0 | J20: =D20+G20 -> 30962 | K20: =E20+H20 -> 7741 | L20: =SUM(J20:K20) -> 38703
A21: 13 | B21: CABARRUS | C21: PF3KTEELMHV6 | D21: 19560 | E21: 4890 | F21: =SUM(D21:E21) -> 24450 | G21: 0 | H21: 0 | I21: =SUM(G21:H21) -> 0 | J21: =D21+G21 -> 19560 | K21: =E21+H21 -> 4890 | L21: =SUM(J21:K21) -> 24450
A22: 14 | B22: CALDWELL | C22: HL4FGNJNGE97 | D22: 19581 | E22: 4895 | F22: =SUM(D22:E22) -> 24476 | G22: 0 | H22: 0 | I22: =SUM(G22:H22) -> 0 | J22: =D22+G22 -> 19581 | K22: =E22+H22 -> 4895 | L22: =SUM(J22:K22) -> 24476
A23: 15 | B23: CAMDEN | C23: FVT7YDQ5CAA5 | D23: 2164 | E23: 541 | F23: =SUM(D23:E23) -> 2705 | G23: 0 | H23: 0 | I23: =SUM(G23:H23) -> 0 | J23: =D23+G23 -> 2164 | K23: =E23+H23 -> 541 | L23: =SUM(J23:K23) -> 2705
A24: 16 | B24: CARTERET | C24: UC6WJ2MQMJS8 | D24: 9937 | E24: 2484 | F24: =SUM(D24:E24) -> 12421 | G24: 0 | H24: 0 | I24: =SUM(G24:H24) -> 0 | J24: =D24+G24 -> 9937 | K24: =E24+H24 -> 2484 | L24: =SUM(J24:K24) -> 12421
A25: 17 | B25: CASWELL | C25: CL7NKCTNQG75 | D25: 3080 | E25: 770 | F25: =SUM(D25:E25) -> 3850 | G25: 0 | H25: 0 | I25: =SUM(G25:H25) -> 0 | J25: =D25+G25 -> 3080 | K25: =E25+H25 -> 770 | L25: =SUM(J25:K25) -> 3850
A26: 18 | B26: CATAWBA | C26: GYUNA9W1NFM1 | D26: 34153 | E26: 8538 | F26: =SUM(D26:E26) -> 42691 | G26: 0 | H26: 0 | I26: =SUM(G26:H26) -> 0 | J26: =D26+G26 -> 34153 | K26: =E26+H26 -> 8538 | L26: =SUM(J26:K26) -> 42691
A27: 19 | B27: CHATHAM | C27: KE57QE2GV5F1 | D27: 12618 | E27: 3155 | F27: =SUM(D27:E27) -> 15773 | G27: 0 | H27: 0 | I27: =SUM(G27:H27) -> 0 | J27: =D27+G27 -> 12618 | K27: =E27+H27 -> 3155 | L27: =SUM(J27:K27) -> 15773
A28: 20 | B28: CHEROKEE | C28: DCEGK6HA11M5 | D28: 7822 | E28: 1956 | F28: =SUM(D28:E28) -> 9778 | G28: 0 | H28: 0 | I28: =SUM(G28:H28) -> 0 | J28: =D28+G28 -> 7822 | K28: =E28+H28 -> 1956 | L28: =SUM(J28:K28) -> 9778
A29: 21 | B29: CHOWAN | C29: YJJ7KT3E58F5 | D29: 1994 | E29: 499 | F29: =SUM(D29:E29) -> 2493 | G29: 0 | H29: 0 | I29: =SUM(G29:H29) -> 0 | J29: =D29+G29 -> 1994 | K29: =E29+H29 -> 499 | L29: =SUM(J29:K29) -> 2493
... A67: 59 | B67: MCDOWELL | C67: TT3NTH2NDJ73 | D67: 16330 | E67: 4083 | F67: =SUM(D67:E67) -> 20413 | G67: 0 | H67: 0 | I67: =SUM(G67:H67) -> 0 | J67: =D67+G67 -> 16330 | K67: =E67+H67 -> 4083 | L67: =SUM(J67:K67) -> 20413
E68: Initial Allocation | H68: Additional Allocation | K68: Grand Total Allocation
A69: Co. No. | B69: COUNTY | C69: UEI | D69: Federal | E69: State | F69: Total | G69: Federal | H69: State | I69: Total | J69: Federal | K69: State | L69: Total
A70: 60 | B70: MECKLENBURG | C70: EZ15XL6BMM68 | D70: 94044 | E70: 23511 | F70: =SUM(D70:E70) -> 117555 | G70: 0 | H70: 0 | I70: =SUM(G70:H70) -> 0 | J70: =D70+G70 -> 94044 | K70: =E70+H70 -> 23511 | L70: =SUM(J70:K70) -> 117555
A71: 61 | B71: MITCHELL | C71: YL69DGLK4CH3 | D71: 7671 | E71: 1918 | F71: =SUM(D71:E71) -> 9589 | G71: 0 | H71: 0 | I71: =SUM(G71:H71) -> 0 | J71: =D71+G71 -> 7671 | K71: =E71+H71 -> 1918 | L71: =SUM(J71:K71) -> 9589
A72: 62 | B72: MONTGOMERY | C72: E78ZAJM3BFL3 | D72: 3477 | E72: 869 | F72: =SUM(D72:E72) -> 4346 | G72: 0 | H72: 0 | I72: =SUM(G72:H72) -> 0 | J72: =D72+G72 -> 3477 | K72: =E72+H72 -> 869 | L72: =SUM(J72:K72) -> 4346
A73: 63 | B73: MOORE | C73: HFNSK95FS7Z8 | D73: 6129 | E73: 1532 | F73: =SUM(D73:E73) -> 7661 | G73: 0 | H73: 0 | I73: =SUM(G73:H73) -> 0 | J73: =D73+G73 -> 6129 | K73: =E73+H73 -> 1532 | L73: =SUM(J73:K73) -> 7661
A74: 64 | B74: NASH | C74: NF58K566HQM7 | D74: 10891 | E74: 2723 | F74: =SUM(D74:E74) -> 13614 | G74: 0 | H74: 0 | I74: =SUM(G74:H74) -> 0 | J74: =D74+G74 -> 10891 | K74: =E74+H74 -> 2723 | L74: =SUM(J74:K74) -> 13614
A75: 65 | B75: NEW HANOVER | C75: F7TLT2GMEJE1 | D75: 46765 | E75: 11691 | F75: =SUM(D75:E75) -> 58456 | G75: 0 | H75: 0 | I75: =SUM(G75:H75) -> 0 | J75: =D75+G75 -> 46765 | K75: =E75+H75 -> 11691 | L75: =SUM(J75:K75) -> 58456
A76: 66 | B76: NORTHAMPTON | C76: CRA2KCAL8BA4 | D76: 1162 | E76: 290 | F76: =SUM(D76:E76) -> 1452 | G76: 0 | H76: 0 | I76: =SUM(G76:H76) -> 0 | J76: =D76+G76 -> 1162 | K76: =E76+H76 -> 290 | L76: =SUM(J76:K76) -> 1452
A77: 67 | B77: ONSLOW | C77: LTXVW6QF6297 | D77: 29964 | E77: 7491 | F77: =SUM(D77:E77) -> 37455 | G77: 0 | H77: 0 | I77: =SUM(G77:H77) -> 0 | J77: =D77+G77 -> 29964 | K77: =E77+H77 -> 7491 | L77: =SUM(J77:K77) -> 37455
A78: 68 | B78: ORANGE | C78: GFFMCW9XDA53 | D78: 12381 | E78: 3095 | F78: =SUM(D78:E78) -> 15476 | G78: 0 | H78: 0 | I78: =SUM(G78:H78) -> 0 | J78: =D78+G78 -> 12381 | K78: =E78+H78 -> 3095 | L78: =SUM(J78:K78) -> 15476
A79: 69 | B79: PAMLICO | C79: FT59QFEAU344 | D79: 1838 | E79: 460 | F79: =SUM(D79:E79) -> 2298 | G79: 0 | H79: 0 | I79: =SUM(G79:H79) -> 0 | J79: =D79+G79 -> 1838 | K79: =E79+H79 -> 460 | L79: =SUM(J79:K79) -> 2298
...

Sheet FFATA Reporting
C1: 0.25 | D1: 0.75
A2: COUNTY | B2: Total Allocation | C2: GrantAlloc1 | D2: GrantAlloc2 | E2: Total | F2: Variance
A3: ALAMANCE | B3: ='FA1'!J9 -> 17590 | C3: =B3*$C$1 -> 4397.5 | D3: =B3*$D$1 -> 13192.5 | E3: =SUM(C3:D3) -> 17590 | F3: =B3-E3 -> 0
A4: ALEXANDER | B4: ='FA1'!J10 -> 6480 | C4: =B4*$C$1 -> 1620 | D4: =B4*$D$1 -> 4860 | E4: =SUM(C4:D4) -> 6480 | F4: =B4-E4 -> 0
A5: ALLEGHANY | B5: ='FA1'!J11 -> 6827 | C5: =B5*$C$1 -> 1706.75 | D5: =B5*$D$1 -> 5120.25 | E5: =SUM(C5:D5) -> 6827 | F5: =B5-E5 -> 0
A6: ANSON | B6: ='FA1'!J12 -> 1958 | C6: =B6*$C$1 -> 489.5 | D6: =B6*$D$1 -> 1468.5 | E6: =SUM(C6:D6) -> 1958 | F6: =B6-E6 -> 0
A7: ASHE | B7: ='FA1'!J13 -> 8270 | C7: =B7*$C$1 -> 2067.5 | D7: =B7*$D$1 -> 6202.5 | E7: =SUM(C7:D7) -> 8270 | F7: =B7-E7 -> 0
A8: AVERY | B8: ='FA1'!J14 -> 5015 | C8: =B8*$C$1 -> 1253.75 | D8: =B8*$D$1 -> 3761.25 | E8: =SUM(C8:D8) -> 5015 | F8: =B8-E8 -> 0
A9: BEAUFORT | B9: ='FA1'!J15 -> 14583 | C9: =B9*$C$1 -> 3645.75 | D9: =B9*$D$1 -> 10937.25 | E9: =SUM(C9:D9) -> 14583 | F9: =B9-E9 -> 0
A10: BERTIE | B10: ='FA1'!J16 -> 2214 | C10: =B10*$C$1 -> 553.5 | D10: =B10*$D$1 -> 1660.5 | E10: =SUM(C10:D10) -> 2214 | F10: =B10-E10 -> 0
A11: BLADEN | B11: ='FA1'!J17 -> 7402 | C11: =B11*$C$1 -> 1850.5 | D11: =B11*$D$1 -> 5551.5 | E11: =SUM(C11:D11) -> 7402 | F11: =B11-E11 -> 0
A12: BRUNSWICK | B12: ='FA1'!J18 -> 18667 | C12: =B12*$C$1 -> 4666.75 | D12: =B12*$D$1 -> 14000.25 | E12: =SUM(C12:D12) -> 18667 | F12: =B12-E12 -> 0
A13: BUNCOMBE | B13: ='FA1'!J19 -> 56608 | C13: =B13*$C$1 -> 14152 | D13: =B13*$D$1 -> 42456 | E13: =SUM(C13:D13) -> 56608 | F13: =B13-E13 -> 0
A14: BURKE | B14: ='FA1'!J20 -> 30962 | C14: =B14*$C$1 -> 7740.5 | D14: =B14*$D$1 -> 23221.5 | E14: =SUM(C14:D14) -> 30962 | F14: =B14-E14 -> 0
... A61: MCDOWELL | B61: ='FA1'!J67 -> 16330 | C61: =B61*$C$1 -> 4082.5 | D61: =B61*$D$1 -> 12247.5 | E61: =SUM(C61:D61) -> 16330 | F61: =B61-E61 -> 0
A62: MECKLENBURG | B62: ='FA1'!J70 -> 94044 | C62: =B62*$C$1 -> 23511 | D62: =B62*$D$1 -> 70533 | E62: =SUM(C62:D62) -> 94044 | F62: =B62-E62 -> 0
A63: MITCHELL | B63: ='FA1'!J71 -> 7671 | C63: =B63*$C$1 -> 1917.75 | D63: =B63*$D$1 -> 5753.25 | E63: =SUM(C63:D63) -> 7671 | F63: =B63-E63 -> 0
A64: MONTGOMERY | B64: ='FA1'!J72 -> 3477 | C64: =B64*$C$1 -> 869.25 | D64: =B64*$D$1 -> 2607.75 | E64: =SUM(C64:D64) -> 3477 | F64: =B64-E64 -> 0
A65: MOORE | B65: ='FA1'!J73 -> 6129 | C65: =B65*$C$1 -> 1532.25 | D65: =B65*$D$1 -> 4596.75 | E65: =SUM(C65:D65) -> 6129 | F65: =B65-E65 -> 0
A66: NASH | B66: ='FA1'!J74 -> 10891 | C66: =B66*$C$1 -> 2722.75 | D66: =B66*$D$1 -> 8168.25 | E66: =SUM(C66:D66) -> 10891 | F66: =B66-E66 -> 0
A67: NEW HANOVER | B67: ='FA1'!J75 -> 46765 | C67: =B67*$C$1 -> 11691.25 | D67: =B67*$D$1 -> 35073.75 | E67: =SUM(C67:D67) -> 46765 | F67: =B67-E67 -> 0
A68: NORTHAMPTON | B68: ='FA1'!J76 -> 1162 | C68: =B68*$C$1 -> 290.5 | D68: =B68*$D$1 -> 871.5 | E68: =SUM(C68:D68) -> 1162 | F68: =B68-E68 -> 0
A69: ONSLOW | B69: ='FA1'!J77 -> 29964 | C69: =B69*$C$1 -> 7491 | D69: =B69*$D$1 -> 22473 | E69: =SUM(C69:D69) -> 29964 | F69: =B69-E69 -> 0
A70: ORANGE | B70: ='FA1'!J78 -> 12381 | C70: =B70*$C$1 -> 3095.25 | D70: =B70*$D$1 -> 9285.75 | E70: =SUM(C70:D70) -> 12381 | F70: =B70-E70 -> 0
A71: PAMLICO | B71: ='FA1'!J79 -> 1838 | C71: =B71*$C$1 -> 459.5 | D71: =B71*$D$1 -> 1378.5 | E71: =SUM(C71:D71) -> 1838 | F71: =B71-E71 -> 0
A72: PASQUOTANK | B72: ='FA1'!J80 -> 3086 | C72: =B72*$C$1 -> 771.5 | D72: =B72*$D$1 -> 2314.5 | E72: =SUM(C72:D72) -> 3086 | F72: =B72-E72 -> 0
A73: PENDER | B73: ='FA1'!J81 -> 13163 | C73: =B73*$C$1 -> 3290.75 | D73: =B73*$D$1 -> 9872.25 | E73: =SUM(C73:D73) -> 13163 | F73: =B73-E73 -> 0
... A102: YANCEY | B102: ='FA1'!J110 -> 6171 | C102: =B102*$C$1 -> 1542.75 | D102: =B102*$D$1 -> 4628.25 | E102: =SUM(C102:D102) -> 6171 | F102: =B102-E102 -> 0
A103: Total | B103: =SUM(B3:B102) -> 1682083 | C103: =SUM(C3:C102) -> 420520.75 | D103: =SUM(D3:D102) -> 1261562.2 | E103: =SUM(E3:E102) -> 1682083 | F103: =SUM(F3:F102) -> 0
